BEGIN:VCALENDAR
VERSION:2.0
PRODID:-//First Congregational Church of Camden, Maine - ECPv6.15.20//NONSGML v1.0//EN
CALSCALE:GREGORIAN
METHOD:PUBLISH
X-WR-CALNAME:First Congregational Church of Camden, Maine
X-ORIGINAL-URL:https://camdenucc.org
X-WR-CALDESC:Events for First Congregational Church of Camden, Maine
REFRESH-INTERVAL;VALUE=DURATION:PT1H
X-Robots-Tag:noindex
X-PUBLISHED-TTL:PT1H
BEGIN:VTIMEZONE
TZID:America/New_York
BEGIN:DAYLIGHT
TZOFFSETFROM:-0500
TZOFFSETTO:-0400
TZNAME:EDT
DTSTART:20240310T070000
END:DAYLIGHT
BEGIN:STANDARD
TZOFFSETFROM:-0400
TZOFFSETTO:-0500
TZNAME:EST
DTSTART:20241103T060000
END:STANDARD
BEGIN:DAYLIGHT
TZOFFSETFROM:-0500
TZOFFSETTO:-0400
TZNAME:EDT
DTSTART:20250309T070000
END:DAYLIGHT
BEGIN:STANDARD
TZOFFSETFROM:-0400
TZOFFSETTO:-0500
TZNAME:EST
DTSTART:20251102T060000
END:STANDARD
BEGIN:DAYLIGHT
TZOFFSETFROM:-0500
TZOFFSETTO:-0400
TZNAME:EDT
DTSTART:20260308T070000
END:DAYLIGHT
BEGIN:STANDARD
TZOFFSETFROM:-0400
TZOFFSETTO:-0500
TZNAME:EST
DTSTART:20261101T060000
END:STANDARD
END:VTIMEZONE
BEGIN:VEVENT
DTSTART;TZID=America/New_York:20250819T100000
DTEND;TZID=America/New_York:20250819T110000
DTSTAMP:20260424T161304
CREATED:20250716T142522Z
LAST-MODIFIED:20250716T142522Z
UID:10003655-1755597600-1755601200@camdenucc.org
SUMMARY:Justice & Witness Planning
DESCRIPTION:
URL:https://camdenucc.org/event/justice-witness-planning/
LOCATION:Online by Zoom invitation
CATEGORIES:Church Meetings
END:VEVENT
BEGIN:VEVENT
DTSTART;TZID=America/New_York:20250807T083000
DTEND;TZID=America/New_York:20250807T100000
DTSTAMP:20260424T161304
CREATED:20250716T142345Z
LAST-MODIFIED:20250716T142345Z
UID:10003653-1754555400-1754560800@camdenucc.org
SUMMARY:Stewardship
DESCRIPTION:
URL:https://camdenucc.org/event/stewardship-5/
LOCATION:Online by Zoom invitation
CATEGORIES:Church Meetings
END:VEVENT
BEGIN:VEVENT
DTSTART;TZID=America/New_York:20250618T170000
DTEND;TZID=America/New_York:20250618T183000
DTSTAMP:20260424T161304
CREATED:20250423T190606Z
LAST-MODIFIED:20250423T190606Z
UID:10003539-1750266000-1750271400@camdenucc.org
SUMMARY:Trustees
DESCRIPTION:
URL:https://camdenucc.org/event/trustees-5/
LOCATION:Online by Zoom invitation
CATEGORIES:Church Meetings
END:VEVENT
BEGIN:VEVENT
DTSTART;TZID=America/New_York:20250617T120000
DTEND;TZID=America/New_York:20250617T130000
DTSTAMP:20260424T161304
CREATED:20250423T190526Z
LAST-MODIFIED:20250423T190526Z
UID:10003538-1750161600-1750165200@camdenucc.org
SUMMARY:Membership
DESCRIPTION:
URL:https://camdenucc.org/event/membership-3/
LOCATION:Online by Zoom invitation
CATEGORIES:Church Meetings
END:VEVENT
BEGIN:VEVENT
DTSTART;TZID=America/New_York:20250605T083000
DTEND;TZID=America/New_York:20250605T100000
DTSTAMP:20260424T161304
CREATED:20250423T190315Z
LAST-MODIFIED:20250423T190315Z
UID:10003535-1749112200-1749117600@camdenucc.org
SUMMARY:Stewardship
DESCRIPTION:
URL:https://camdenucc.org/event/stewardship-4/
LOCATION:Online by Zoom invitation
CATEGORIES:Church Meetings
END:VEVENT
BEGIN:VEVENT
DTSTART;TZID=America/New_York:20250521T170000
DTEND;TZID=America/New_York:20250521T190000
DTSTAMP:20260424T161304
CREATED:20250408T140752Z
LAST-MODIFIED:20250408T140752Z
UID:10003517-1747846800-1747854000@camdenucc.org
SUMMARY:Trustees
DESCRIPTION:
URL:https://camdenucc.org/event/trustees-3/
LOCATION:Online by Zoom invitation
CATEGORIES:Church Meetings
END:VEVENT
BEGIN:VEVENT
DTSTART;TZID=America/New_York:20250514T173000
DTEND;TZID=America/New_York:20250514T183000
DTSTAMP:20260424T161304
CREATED:20250508T180429Z
LAST-MODIFIED:20250508T180429Z
UID:10003556-1747243800-1747247400@camdenucc.org
SUMMARY:Children's Christian Education
DESCRIPTION:
URL:https://camdenucc.org/event/childrens-christian-education/
LOCATION:Online by Zoom invitation
CATEGORIES:Church Meetings
END:VEVENT
BEGIN:VEVENT
DTSTART;TZID=America/New_York:20250507T160000
DTEND;TZID=America/New_York:20250507T170000
DTSTAMP:20260424T161304
CREATED:20250430T175050Z
LAST-MODIFIED:20250430T175356Z
UID:10003541-1746633600-1746637200@camdenucc.org
SUMMARY:Care Team
DESCRIPTION:
URL:https://camdenucc.org/event/care-team/
LOCATION:Online by Zoom invitation
CATEGORIES:Church Meetings
END:VEVENT
BEGIN:VEVENT
DTSTART;TZID=America/New_York:20250416T170000
DTEND;TZID=America/New_York:20250416T183000
DTSTAMP:20260424T161304
CREATED:20250408T172119Z
LAST-MODIFIED:20250408T172119Z
UID:10003528-1744822800-1744828200@camdenucc.org
SUMMARY:Trustees
DESCRIPTION:
URL:https://camdenucc.org/event/trustees-4/
LOCATION:Online by Zoom invitation
CATEGORIES:Church Meetings
END:VEVENT
BEGIN:VEVENT
DTSTART;TZID=America/New_York:20250410T133000
DTEND;TZID=America/New_York:20250410T153000
DTSTAMP:20260424T161304
CREATED:20250324T182922Z
LAST-MODIFIED:20250324T182922Z
UID:10003498-1744291800-1744299000@camdenucc.org
SUMMARY:Shields
DESCRIPTION:
URL:https://camdenucc.org/event/shields-3/
LOCATION:Online by Zoom invitation
CATEGORIES:Church Meetings
END:VEVENT
BEGIN:VEVENT
DTSTART;TZID=America/New_York:20250409T173000
DTEND;TZID=America/New_York:20250409T183000
DTSTAMP:20260424T161304
CREATED:20250225T162153Z
LAST-MODIFIED:20250225T162153Z
UID:10003422-1744219800-1744223400@camdenucc.org
SUMMARY:Lenten Study with Patty "Everything[In]Between"
DESCRIPTION:
URL:https://camdenucc.org/event/lenten-study-with-patty-everythinginbetween/2025-04-09/
LOCATION:Online by Zoom invitation
CATEGORIES:Adult Education
END:VEVENT
BEGIN:VEVENT
DTSTART;TZID=America/New_York:20250409T080000
DTEND;TZID=America/New_York:20250409T090000
DTSTAMP:20260424T161304
CREATED:20250320T181404Z
LAST-MODIFIED:20250320T181404Z
UID:10003494-1744185600-1744189200@camdenucc.org
SUMMARY:Personnel
DESCRIPTION:
URL:https://camdenucc.org/event/personnel/
LOCATION:Online by Zoom invitation
CATEGORIES:Church Meetings
END:VEVENT
BEGIN:VEVENT
DTSTART;TZID=America/New_York:20250403T150000
DTEND;TZID=America/New_York:20250403T163000
DTSTAMP:20260424T161304
CREATED:20250320T181305Z
LAST-MODIFIED:20250320T181305Z
UID:10003493-1743692400-1743697800@camdenucc.org
SUMMARY:Deacons
DESCRIPTION:
URL:https://camdenucc.org/event/deacons-3/
LOCATION:Online by Zoom invitation
CATEGORIES:Church Meetings
END:VEVENT
BEGIN:VEVENT
DTSTART;TZID=America/New_York:20250402T183000
DTEND;TZID=America/New_York:20250402T193000
DTSTAMP:20260424T161304
CREATED:20250320T181217Z
LAST-MODIFIED:20250320T181217Z
UID:10003492-1743618600-1743622200@camdenucc.org
SUMMARY:CCE
DESCRIPTION:
URL:https://camdenucc.org/event/cce-3/
LOCATION:Online by Zoom invitation
CATEGORIES:Church Meetings
END:VEVENT
BEGIN:VEVENT
DTSTART;TZID=America/New_York:20250402T173000
DTEND;TZID=America/New_York:20250402T183000
DTSTAMP:20260424T161304
CREATED:20250225T162153Z
LAST-MODIFIED:20250225T162153Z
UID:10003421-1743615000-1743618600@camdenucc.org
SUMMARY:Lenten Study with Patty "Everything[In]Between"
DESCRIPTION:
URL:https://camdenucc.org/event/lenten-study-with-patty-everythinginbetween/2025-04-02/
LOCATION:Online by Zoom invitation
CATEGORIES:Adult Education
END:VEVENT
BEGIN:VEVENT
DTSTART;TZID=America/New_York:20250326T173000
DTEND;TZID=America/New_York:20250326T183000
DTSTAMP:20260424T161304
CREATED:20250225T162153Z
LAST-MODIFIED:20250225T162153Z
UID:10003420-1743010200-1743013800@camdenucc.org
SUMMARY:Lenten Study with Patty "Everything[In]Between"
DESCRIPTION:
URL:https://camdenucc.org/event/lenten-study-with-patty-everythinginbetween/2025-03-26/
LOCATION:Online by Zoom invitation
CATEGORIES:Adult Education
END:VEVENT
BEGIN:VEVENT
DTSTART;TZID=America/New_York:20250319T173000
DTEND;TZID=America/New_York:20250319T183000
DTSTAMP:20260424T161304
CREATED:20250225T162153Z
LAST-MODIFIED:20250225T162153Z
UID:10003419-1742405400-1742409000@camdenucc.org
SUMMARY:Lenten Study with Patty "Everything[In]Between"
DESCRIPTION:
URL:https://camdenucc.org/event/lenten-study-with-patty-everythinginbetween/2025-03-19/
LOCATION:Online by Zoom invitation
CATEGORIES:Adult Education
END:VEVENT
BEGIN:VEVENT
DTSTART;TZID=America/New_York:20250313T123000
DTEND;TZID=America/New_York:20250313T150000
DTSTAMP:20260424T161304
CREATED:20250310T201116Z
LAST-MODIFIED:20250310T201116Z
UID:10003490-1741869000-1741878000@camdenucc.org
SUMMARY:Shields
DESCRIPTION:
URL:https://camdenucc.org/event/shields-2/
LOCATION:Online by Zoom invitation
CATEGORIES:Church Meetings
END:VEVENT
BEGIN:VEVENT
DTSTART;TZID=America/New_York:20250312T173000
DTEND;TZID=America/New_York:20250312T183000
DTSTAMP:20260424T161304
CREATED:20250225T162153Z
LAST-MODIFIED:20250225T162153Z
UID:10003418-1741800600-1741804200@camdenucc.org
SUMMARY:Lenten Study with Patty "Everything[In]Between"
DESCRIPTION:
URL:https://camdenucc.org/event/lenten-study-with-patty-everythinginbetween/2025-03-12/
LOCATION:Online by Zoom invitation
CATEGORIES:Adult Education
END:VEVENT
BEGIN:VEVENT
DTSTART;TZID=America/New_York:20250306T160000
DTEND;TZID=America/New_York:20250306T173000
DTSTAMP:20260424T161304
CREATED:20250225T161523Z
LAST-MODIFIED:20250225T161523Z
UID:10003415-1741276800-1741282200@camdenucc.org
SUMMARY:Deacons
DESCRIPTION:
URL:https://camdenucc.org/event/deacons-2/
LOCATION:Online by Zoom invitation
CATEGORIES:Church Meetings
END:VEVENT
BEGIN:VEVENT
DTSTART;TZID=America/New_York:20250305T183000
DTEND;TZID=America/New_York:20250305T193000
DTSTAMP:20260424T161304
CREATED:20250225T161620Z
LAST-MODIFIED:20250225T161620Z
UID:10003416-1741199400-1741203000@camdenucc.org
SUMMARY:CCE
DESCRIPTION:
URL:https://camdenucc.org/event/cce-2/
LOCATION:Online by Zoom invitation
CATEGORIES:Church Meetings
END:VEVENT
BEGIN:VEVENT
DTSTART;TZID=America/New_York:20250219T170000
DTEND;TZID=America/New_York:20250219T190000
DTSTAMP:20260424T161304
CREATED:20250204T161016Z
LAST-MODIFIED:20250204T161016Z
UID:10003142-1739984400-1739991600@camdenucc.org
SUMMARY:Trustees
DESCRIPTION:
URL:https://camdenucc.org/event/trustees/
LOCATION:Online by Zoom invitation
CATEGORIES:Church Meetings
END:VEVENT
BEGIN:VEVENT
DTSTART;TZID=America/New_York:20250213T130000
DTEND;TZID=America/New_York:20250213T150000
DTSTAMP:20260424T161304
CREATED:20250204T155801Z
LAST-MODIFIED:20250204T155801Z
UID:10003139-1739451600-1739458800@camdenucc.org
SUMMARY:Shields
DESCRIPTION:
URL:https://camdenucc.org/event/shields/
LOCATION:Online by Zoom invitation
CATEGORIES:Church Meetings
END:VEVENT
BEGIN:VEVENT
DTSTART;TZID=America/New_York:20250211T163000
DTEND;TZID=America/New_York:20250211T180000
DTSTAMP:20260424T161304
CREATED:20250204T161454Z
LAST-MODIFIED:20250204T161454Z
UID:10003146-1739291400-1739296800@camdenucc.org
SUMMARY:Communications
DESCRIPTION:
URL:https://camdenucc.org/event/communications/
LOCATION:Online by Zoom invitation
CATEGORIES:Church Meetings
END:VEVENT
BEGIN:VEVENT
DTSTART;TZID=America/New_York:20250206T160000
DTEND;TZID=America/New_York:20250206T170000
DTSTAMP:20260424T161304
CREATED:20250204T154932Z
LAST-MODIFIED:20250225T161313Z
UID:10003137-1738857600-1738861200@camdenucc.org
SUMMARY:Deacons
DESCRIPTION:
URL:https://camdenucc.org/event/deacons/
LOCATION:Online by Zoom invitation
CATEGORIES:Church Meetings
END:VEVENT
BEGIN:VEVENT
DTSTART;TZID=America/New_York:20250206T083000
DTEND;TZID=America/New_York:20250206T100000
DTSTAMP:20260424T161304
CREATED:20250204T154859Z
LAST-MODIFIED:20250204T154859Z
UID:10003136-1738830600-1738836000@camdenucc.org
SUMMARY:Stewardship
DESCRIPTION:
URL:https://camdenucc.org/event/stewardship/
LOCATION:Online by Zoom invitation
CATEGORIES:Church Meetings
END:VEVENT
BEGIN:VEVENT
DTSTART;TZID=America/New_York:20250205T183000
DTEND;TZID=America/New_York:20250205T200000
DTSTAMP:20260424T161304
CREATED:20250204T161208Z
LAST-MODIFIED:20250204T161208Z
UID:10003143-1738780200-1738785600@camdenucc.org
SUMMARY:CCE
DESCRIPTION:
URL:https://camdenucc.org/event/cce/
LOCATION:Online by Zoom invitation
CATEGORIES:Church Meetings
END:VEVENT
END:VCALENDAR