BEGIN:VCALENDAR
VERSION:2.0
PRODID:-//First Congregational Church of Camden, Maine - ECPv6.15.20//NONSGML v1.0//EN
CALSCALE:GREGORIAN
METHOD:PUBLISH
X-ORIGINAL-URL:https://camdenucc.org
X-WR-CALDESC:Events for First Congregational Church of Camden, Maine
REFRESH-INTERVAL;VALUE=DURATION:PT1H
X-Robots-Tag:noindex
X-PUBLISHED-TTL:PT1H
BEGIN:VTIMEZONE
TZID:America/New_York
BEGIN:DAYLIGHT
TZOFFSETFROM:-0500
TZOFFSETTO:-0400
TZNAME:EDT
DTSTART:20240310T070000
END:DAYLIGHT
BEGIN:STANDARD
TZOFFSETFROM:-0400
TZOFFSETTO:-0500
TZNAME:EST
DTSTART:20241103T060000
END:STANDARD
BEGIN:DAYLIGHT
TZOFFSETFROM:-0500
TZOFFSETTO:-0400
TZNAME:EDT
DTSTART:20250309T070000
END:DAYLIGHT
BEGIN:STANDARD
TZOFFSETFROM:-0400
TZOFFSETTO:-0500
TZNAME:EST
DTSTART:20251102T060000
END:STANDARD
BEGIN:DAYLIGHT
TZOFFSETFROM:-0500
TZOFFSETTO:-0400
TZNAME:EDT
DTSTART:20260308T070000
END:DAYLIGHT
BEGIN:STANDARD
TZOFFSETFROM:-0400
TZOFFSETTO:-0500
TZNAME:EST
DTSTART:20261101T060000
END:STANDARD
END:VTIMEZONE
BEGIN:VEVENT
DTSTART;TZID=America/New_York:20250820T093000
DTEND;TZID=America/New_York:20250820T100000
DTSTAMP:20260424T223413
CREATED:20250716T143056Z
LAST-MODIFIED:20250716T143056Z
UID:10003666-1755682200-1755684000@camdenucc.org
SUMMARY:Staff Meeting
DESCRIPTION:
URL:https://camdenucc.org/event/staff-meeting/2025-08-20/
LOCATION:Hybrid: Zoom and in person\, Conference Room\, 55 Elm Street\, Camden\, 04843\, United States
CATEGORIES:Church Meetings
END:VEVENT
BEGIN:VEVENT
DTSTART;TZID=America/New_York:20250813T093000
DTEND;TZID=America/New_York:20250813T100000
DTSTAMP:20260424T223413
CREATED:20250716T143056Z
LAST-MODIFIED:20250716T143056Z
UID:10003665-1755077400-1755079200@camdenucc.org
SUMMARY:Staff Meeting
DESCRIPTION:
URL:https://camdenucc.org/event/staff-meeting/2025-08-13/
LOCATION:Hybrid: Zoom and in person\, Conference Room\, 55 Elm Street\, Camden\, 04843\, United States
CATEGORIES:Church Meetings
END:VEVENT
BEGIN:VEVENT
DTSTART;TZID=America/New_York:20250806T093000
DTEND;TZID=America/New_York:20250806T100000
DTSTAMP:20260424T223413
CREATED:20250716T143056Z
LAST-MODIFIED:20250716T143056Z
UID:10003664-1754472600-1754474400@camdenucc.org
SUMMARY:Staff Meeting
DESCRIPTION:
URL:https://camdenucc.org/event/staff-meeting/2025-08-06/
LOCATION:Hybrid: Zoom and in person\, Conference Room\, 55 Elm Street\, Camden\, 04843\, United States
CATEGORIES:Church Meetings
END:VEVENT
BEGIN:VEVENT
DTSTART;TZID=America/New_York:20250730T093000
DTEND;TZID=America/New_York:20250730T100000
DTSTAMP:20260424T223413
CREATED:20250716T143056Z
LAST-MODIFIED:20250716T143056Z
UID:10003663-1753867800-1753869600@camdenucc.org
SUMMARY:Staff Meeting
DESCRIPTION:
URL:https://camdenucc.org/event/staff-meeting/2025-07-30/
LOCATION:Hybrid: Zoom and in person\, Conference Room\, 55 Elm Street\, Camden\, 04843\, United States
CATEGORIES:Church Meetings
END:VEVENT
BEGIN:VEVENT
DTSTART;TZID=America/New_York:20250723T093000
DTEND;TZID=America/New_York:20250723T100000
DTSTAMP:20260424T223413
CREATED:20250716T143056Z
LAST-MODIFIED:20250716T143056Z
UID:10003662-1753263000-1753264800@camdenucc.org
SUMMARY:Staff Meeting
DESCRIPTION:
URL:https://camdenucc.org/event/staff-meeting/2025-07-23/
LOCATION:Hybrid: Zoom and in person\, Conference Room\, 55 Elm Street\, Camden\, 04843\, United States
CATEGORIES:Church Meetings
END:VEVENT
BEGIN:VEVENT
DTSTART;TZID=America/New_York:20250722T160000
DTEND;TZID=America/New_York:20250722T183000
DTSTAMP:20260424T223413
CREATED:20250702T162728Z
LAST-MODIFIED:20250702T162728Z
UID:10003640-1753200000-1753209000@camdenucc.org
SUMMARY:Cabinet
DESCRIPTION:
URL:https://camdenucc.org/event/cabinet-4/
LOCATION:Hybrid: Zoom and in person\, Conference Room\, 55 Elm Street\, Camden\, 04843\, United States
CATEGORIES:Church Meetings
END:VEVENT
BEGIN:VEVENT
DTSTART;TZID=America/New_York:20250716T093000
DTEND;TZID=America/New_York:20250716T100000
DTSTAMP:20260424T223413
CREATED:20250716T143056Z
LAST-MODIFIED:20250716T143056Z
UID:10003661-1752658200-1752660000@camdenucc.org
SUMMARY:Staff Meeting
DESCRIPTION:
URL:https://camdenucc.org/event/staff-meeting/2025-07-16/
LOCATION:Hybrid: Zoom and in person\, Conference Room\, 55 Elm Street\, Camden\, 04843\, United States
CATEGORIES:Church Meetings
END:VEVENT
BEGIN:VEVENT
DTSTART;TZID=America/New_York:20250709T093000
DTEND;TZID=America/New_York:20250709T100000
DTSTAMP:20260424T223413
CREATED:20250716T143056Z
LAST-MODIFIED:20250716T143056Z
UID:10003660-1752053400-1752055200@camdenucc.org
SUMMARY:Staff Meeting
DESCRIPTION:
URL:https://camdenucc.org/event/staff-meeting/2025-07-09/
LOCATION:Hybrid: Zoom and in person\, Conference Room\, 55 Elm Street\, Camden\, 04843\, United States
CATEGORIES:Church Meetings
END:VEVENT
BEGIN:VEVENT
DTSTART;TZID=America/New_York:20250708T163000
DTEND;TZID=America/New_York:20250708T180000
DTSTAMP:20260424T223413
CREATED:20250716T142910Z
LAST-MODIFIED:20250716T142910Z
UID:10003658-1751992200-1751997600@camdenucc.org
SUMMARY:Communications
DESCRIPTION:
URL:https://camdenucc.org/event/communications-6/
LOCATION:Hybrid: Zoom and in person\, Conference Room\, 55 Elm Street\, Camden\, 04843\, United States
CATEGORIES:Church Meetings
END:VEVENT
BEGIN:VEVENT
DTSTART;TZID=America/New_York:20250702T093000
DTEND;TZID=America/New_York:20250702T100000
DTSTAMP:20260424T223413
CREATED:20250716T143056Z
LAST-MODIFIED:20250716T143056Z
UID:10003659-1751448600-1751450400@camdenucc.org
SUMMARY:Staff Meeting
DESCRIPTION:
URL:https://camdenucc.org/event/staff-meeting/2025-07-02/
LOCATION:Hybrid: Zoom and in person\, Conference Room\, 55 Elm Street\, Camden\, 04843\, United States
CATEGORIES:Church Meetings
END:VEVENT
BEGIN:VEVENT
DTSTART;TZID=America/New_York:20250610T163000
DTEND;TZID=America/New_York:20250610T180000
DTSTAMP:20260424T223413
CREATED:20250423T190438Z
LAST-MODIFIED:20250423T190438Z
UID:10003537-1749573000-1749578400@camdenucc.org
SUMMARY:Communications
DESCRIPTION:
URL:https://camdenucc.org/event/communications-5/
LOCATION:Hybrid: Zoom and in person\, Conference Room\, 55 Elm Street\, Camden\, 04843\, United States
CATEGORIES:Church Meetings
END:VEVENT
BEGIN:VEVENT
DTSTART;TZID=America/New_York:20250610T120000
DTEND;TZID=America/New_York:20250610T130000
DTSTAMP:20260424T223413
CREATED:20250530T183721Z
LAST-MODIFIED:20250530T183721Z
UID:10003561-1749556800-1749560400@camdenucc.org
SUMMARY:Membership
DESCRIPTION:
URL:https://camdenucc.org/event/membership-5/
LOCATION:Hybrid: Zoom and in person\, Conference Room\, 55 Elm Street\, Camden\, 04843\, United States
CATEGORIES:Church Meetings
END:VEVENT
BEGIN:VEVENT
DTSTART;TZID=America/New_York:20250605T150000
DTEND;TZID=America/New_York:20250605T163000
DTSTAMP:20260424T223413
CREATED:20250423T190354Z
LAST-MODIFIED:20250423T190354Z
UID:10003536-1749135600-1749141000@camdenucc.org
SUMMARY:Deacons
DESCRIPTION:
URL:https://camdenucc.org/event/deacons-5/
LOCATION:Hybrid: Zoom and in person\, Conference Room\, 55 Elm Street\, Camden\, 04843\, United States
CATEGORIES:Church Meetings
END:VEVENT
BEGIN:VEVENT
DTSTART;TZID=America/New_York:20250527T160000
DTEND;TZID=America/New_York:20250527T183000
DTSTAMP:20260424T223413
CREATED:20250423T184853Z
LAST-MODIFIED:20250423T184853Z
UID:10003533-1748361600-1748370600@camdenucc.org
SUMMARY:Cabinet
DESCRIPTION:
URL:https://camdenucc.org/event/cabinet-3/
LOCATION:Hybrid: Zoom and in person\, Conference Room\, 55 Elm Street\, Camden\, 04843\, United States
CATEGORIES:Church Meetings
END:VEVENT
BEGIN:VEVENT
DTSTART;TZID=America/New_York:20250513T163000
DTEND;TZID=America/New_York:20250513T180000
DTSTAMP:20260424T223413
CREATED:20250408T141224Z
LAST-MODIFIED:20250408T141224Z
UID:10003520-1747153800-1747159200@camdenucc.org
SUMMARY:Communications
DESCRIPTION:
URL:https://camdenucc.org/event/communications-4/
LOCATION:Hybrid: Zoom and in person\, Conference Room\, 55 Elm Street\, Camden\, 04843\, United States
CATEGORIES:Church Meetings
END:VEVENT
BEGIN:VEVENT
DTSTART;TZID=America/New_York:20250422T120000
DTEND;TZID=America/New_York:20250422T133000
DTSTAMP:20260424T223413
CREATED:20250324T183005Z
LAST-MODIFIED:20250324T183005Z
UID:10003499-1745323200-1745328600@camdenucc.org
SUMMARY:Membership
DESCRIPTION:
URL:https://camdenucc.org/event/membership-2/
LOCATION:Hybrid: Zoom and in person\, Conference Room\, 55 Elm Street\, Camden\, 04843\, United States
CATEGORIES:Church Meetings
END:VEVENT
BEGIN:VEVENT
DTSTART;TZID=America/New_York:20250408T163000
DTEND;TZID=America/New_York:20250408T180000
DTSTAMP:20260424T223413
CREATED:20250320T181443Z
LAST-MODIFIED:20250320T181443Z
UID:10003495-1744129800-1744135200@camdenucc.org
SUMMARY:Communications
DESCRIPTION:
URL:https://camdenucc.org/event/communications-3/
LOCATION:Hybrid: Zoom and in person\, Conference Room\, 55 Elm Street\, Camden\, 04843\, United States
CATEGORIES:Church Meetings
END:VEVENT
BEGIN:VEVENT
DTSTART;TZID=America/New_York:20250319T170000
DTEND;TZID=America/New_York:20250319T183000
DTSTAMP:20260424T223413
CREATED:20250225T162503Z
LAST-MODIFIED:20250225T162503Z
UID:10003483-1742403600-1742409000@camdenucc.org
SUMMARY:Trustees
DESCRIPTION:
URL:https://camdenucc.org/event/trustees-2/
LOCATION:Hybrid: Zoom and in person\, Conference Room\, 55 Elm Street\, Camden\, 04843\, United States
CATEGORIES:Church Meetings
END:VEVENT
BEGIN:VEVENT
DTSTART;TZID=America/New_York:20250311T163000
DTEND;TZID=America/New_York:20250311T180000
DTSTAMP:20260424T223413
CREATED:20250225T161702Z
LAST-MODIFIED:20250225T161702Z
UID:10003417-1741710600-1741716000@camdenucc.org
SUMMARY:Communications
DESCRIPTION:
URL:https://camdenucc.org/event/communications-2/
LOCATION:Hybrid: Zoom and in person\, Conference Room\, 55 Elm Street\, Camden\, 04843\, United States
CATEGORIES:Church Meetings
END:VEVENT
END:VCALENDAR