BEGIN:VCALENDAR
VERSION:2.0
PRODID:-//First Congregational Church of Camden, Maine - ECPv6.15.20//NONSGML v1.0//EN
CALSCALE:GREGORIAN
METHOD:PUBLISH
X-WR-CALNAME:First Congregational Church of Camden, Maine
X-ORIGINAL-URL:https://camdenucc.org
X-WR-CALDESC:Events for First Congregational Church of Camden, Maine
REFRESH-INTERVAL;VALUE=DURATION:PT1H
X-Robots-Tag:noindex
X-PUBLISHED-TTL:PT1H
BEGIN:VTIMEZONE
TZID:America/New_York
BEGIN:DAYLIGHT
TZOFFSETFROM:-0500
TZOFFSETTO:-0400
TZNAME:EDT
DTSTART:20250309T070000
END:DAYLIGHT
BEGIN:STANDARD
TZOFFSETFROM:-0400
TZOFFSETTO:-0500
TZNAME:EST
DTSTART:20251102T060000
END:STANDARD
BEGIN:DAYLIGHT
TZOFFSETFROM:-0500
TZOFFSETTO:-0400
TZNAME:EDT
DTSTART:20260308T070000
END:DAYLIGHT
BEGIN:STANDARD
TZOFFSETFROM:-0400
TZOFFSETTO:-0500
TZNAME:EST
DTSTART:20261101T060000
END:STANDARD
BEGIN:DAYLIGHT
TZOFFSETFROM:-0500
TZOFFSETTO:-0400
TZNAME:EDT
DTSTART:20270314T070000
END:DAYLIGHT
BEGIN:STANDARD
TZOFFSETFROM:-0400
TZOFFSETTO:-0500
TZNAME:EST
DTSTART:20271107T060000
END:STANDARD
END:VTIMEZONE
BEGIN:VEVENT
DTSTART;TZID=America/New_York:20260422T093000
DTEND;TZID=America/New_York:20260422T100000
DTSTAMP:20260424T133627
CREATED:20250716T143056Z
LAST-MODIFIED:20250716T143056Z
UID:10003701-1776850200-1776852000@camdenucc.org
SUMMARY:Staff Meeting
DESCRIPTION:
URL:https://camdenucc.org/event/staff-meeting/2026-04-22/
LOCATION:Hybrid: Zoom and in person\, Conference Room\, 55 Elm Street\, Camden\, 04843\, United States
CATEGORIES:Church Meetings
END:VEVENT
BEGIN:VEVENT
DTSTART;TZID=America/New_York:20260421T120000
DTEND;TZID=America/New_York:20260421T130000
DTSTAMP:20260424T133627
CREATED:20260324T143826Z
LAST-MODIFIED:20260324T143826Z
UID:10004143-1776772800-1776776400@camdenucc.org
SUMMARY:Membership
DESCRIPTION:
URL:https://camdenucc.org/event/membership-12/
LOCATION:Hybrid: Zoom and in person\, Conference Room\, 55 Elm Street\, Camden\, 04843\, United States
CATEGORIES:Church Meetings
END:VEVENT
BEGIN:VEVENT
DTSTART;TZID=America/New_York:20260415T170000
DTEND;TZID=America/New_York:20260415T190000
DTSTAMP:20260424T133627
CREATED:20260312T173148Z
LAST-MODIFIED:20260312T173148Z
UID:10004119-1776272400-1776279600@camdenucc.org
SUMMARY:Trustees
DESCRIPTION:
URL:https://camdenucc.org/event/trustees-10/
LOCATION:Hybrid: Zoom and in person\, Conference Room\, 55 Elm Street\, Camden\, 04843\, United States
CATEGORIES:Church Meetings
END:VEVENT
BEGIN:VEVENT
DTSTART;TZID=America/New_York:20260415T093000
DTEND;TZID=America/New_York:20260415T100000
DTSTAMP:20260424T133627
CREATED:20250716T143056Z
LAST-MODIFIED:20250716T143056Z
UID:10003700-1776245400-1776247200@camdenucc.org
SUMMARY:Staff Meeting
DESCRIPTION:
URL:https://camdenucc.org/event/staff-meeting/2026-04-15/
LOCATION:Hybrid: Zoom and in person\, Conference Room\, 55 Elm Street\, Camden\, 04843\, United States
CATEGORIES:Church Meetings
END:VEVENT
BEGIN:VEVENT
DTSTART;TZID=America/New_York:20260414T163000
DTEND;TZID=America/New_York:20260414T180000
DTSTAMP:20260424T133627
CREATED:20260312T173059Z
LAST-MODIFIED:20260312T173059Z
UID:10004118-1776184200-1776189600@camdenucc.org
SUMMARY:Communications
DESCRIPTION:
URL:https://camdenucc.org/event/communications-10/
LOCATION:Hybrid: Zoom and in person\, Conference Room\, 55 Elm Street\, Camden\, 04843\, United States
CATEGORIES:Church Meetings
END:VEVENT
BEGIN:VEVENT
DTSTART;TZID=America/New_York:20260409T130000
DTEND;TZID=America/New_York:20260409T153000
DTSTAMP:20260424T133627
CREATED:20260408T183915Z
LAST-MODIFIED:20260408T183915Z
UID:10004165-1775739600-1775748600@camdenucc.org
SUMMARY:Shields Fund
DESCRIPTION:
URL:https://camdenucc.org/event/shields-fund/
LOCATION:Hybrid: Zoom and in person\, Conference Room\, 55 Elm Street\, Camden\, 04843\, United States
CATEGORIES:Church Meetings
END:VEVENT
BEGIN:VEVENT
DTSTART;TZID=America/New_York:20260408T093000
DTEND;TZID=America/New_York:20260408T100000
DTSTAMP:20260424T133627
CREATED:20250716T143056Z
LAST-MODIFIED:20250716T143056Z
UID:10003699-1775640600-1775642400@camdenucc.org
SUMMARY:Staff Meeting
DESCRIPTION:
URL:https://camdenucc.org/event/staff-meeting/2026-04-08/
LOCATION:Hybrid: Zoom and in person\, Conference Room\, 55 Elm Street\, Camden\, 04843\, United States
CATEGORIES:Church Meetings
END:VEVENT
BEGIN:VEVENT
DTSTART;TZID=America/New_York:20260401T093000
DTEND;TZID=America/New_York:20260401T100000
DTSTAMP:20260424T133627
CREATED:20250716T143056Z
LAST-MODIFIED:20250716T143056Z
UID:10003698-1775035800-1775037600@camdenucc.org
SUMMARY:Staff Meeting
DESCRIPTION:
URL:https://camdenucc.org/event/staff-meeting/2026-04-01/
LOCATION:Hybrid: Zoom and in person\, Conference Room\, 55 Elm Street\, Camden\, 04843\, United States
CATEGORIES:Church Meetings
END:VEVENT
BEGIN:VEVENT
DTSTART;TZID=America/New_York:20260325T093000
DTEND;TZID=America/New_York:20260325T100000
DTSTAMP:20260424T133627
CREATED:20250716T143056Z
LAST-MODIFIED:20250716T143056Z
UID:10003697-1774431000-1774432800@camdenucc.org
SUMMARY:Staff Meeting
DESCRIPTION:
URL:https://camdenucc.org/event/staff-meeting/2026-03-25/
LOCATION:Hybrid: Zoom and in person\, Conference Room\, 55 Elm Street\, Camden\, 04843\, United States
CATEGORIES:Church Meetings
END:VEVENT
BEGIN:VEVENT
DTSTART;TZID=America/New_York:20260324T170000
DTEND;TZID=America/New_York:20260324T183000
DTSTAMP:20260424T133627
CREATED:20260209T154627Z
LAST-MODIFIED:20260209T154627Z
UID:10004102-1774371600-1774377000@camdenucc.org
SUMMARY:Cabinet
DESCRIPTION:
URL:https://camdenucc.org/event/cabinet-11/
LOCATION:Hybrid: Zoom and in person\, Conference Room\, 55 Elm Street\, Camden\, 04843\, United States
CATEGORIES:Church Meetings
END:VEVENT
BEGIN:VEVENT
DTSTART;TZID=America/New_York:20260318T093000
DTEND;TZID=America/New_York:20260318T100000
DTSTAMP:20260424T133627
CREATED:20250716T143056Z
LAST-MODIFIED:20250716T143056Z
UID:10003696-1773826200-1773828000@camdenucc.org
SUMMARY:Staff Meeting
DESCRIPTION:
URL:https://camdenucc.org/event/staff-meeting/2026-03-18/
LOCATION:Hybrid: Zoom and in person\, Conference Room\, 55 Elm Street\, Camden\, 04843\, United States
CATEGORIES:Church Meetings
END:VEVENT
BEGIN:VEVENT
DTSTART;TZID=America/New_York:20260317T173000
DTEND;TZID=America/New_York:20260317T190000
DTSTAMP:20260424T133627
CREATED:20260302T200735Z
LAST-MODIFIED:20260302T200735Z
UID:10004115-1773768600-1773774000@camdenucc.org
SUMMARY:Trustees  (note day/time)
DESCRIPTION:
URL:https://camdenucc.org/event/trustees-note-day-time/
LOCATION:Hybrid: Zoom and in person\, Conference Room\, 55 Elm Street\, Camden\, 04843\, United States
CATEGORIES:Church Meetings
END:VEVENT
BEGIN:VEVENT
DTSTART;TZID=America/New_York:20260317T120000
DTEND;TZID=America/New_York:20260317T130000
DTSTAMP:20260424T133627
CREATED:20260218T193635Z
LAST-MODIFIED:20260218T193635Z
UID:10004112-1773748800-1773752400@camdenucc.org
SUMMARY:Membership
DESCRIPTION:
URL:https://camdenucc.org/event/membership-11/
LOCATION:Hybrid: Zoom and in person\, Conference Room\, 55 Elm Street\, Camden\, 04843\, United States
CATEGORIES:Church Meetings
END:VEVENT
BEGIN:VEVENT
DTSTART;TZID=America/New_York:20260311T093000
DTEND;TZID=America/New_York:20260311T100000
DTSTAMP:20260424T133627
CREATED:20250716T143056Z
LAST-MODIFIED:20250716T143056Z
UID:10003695-1773221400-1773223200@camdenucc.org
SUMMARY:Staff Meeting
DESCRIPTION:
URL:https://camdenucc.org/event/staff-meeting/2026-03-11/
LOCATION:Hybrid: Zoom and in person\, Conference Room\, 55 Elm Street\, Camden\, 04843\, United States
CATEGORIES:Church Meetings
END:VEVENT
BEGIN:VEVENT
DTSTART;TZID=America/New_York:20260304T093000
DTEND;TZID=America/New_York:20260304T100000
DTSTAMP:20260424T133627
CREATED:20250716T143056Z
LAST-MODIFIED:20250716T143056Z
UID:10003694-1772616600-1772618400@camdenucc.org
SUMMARY:Staff Meeting
DESCRIPTION:
URL:https://camdenucc.org/event/staff-meeting/2026-03-04/
LOCATION:Hybrid: Zoom and in person\, Conference Room\, 55 Elm Street\, Camden\, 04843\, United States
CATEGORIES:Church Meetings
END:VEVENT
BEGIN:VEVENT
DTSTART;TZID=America/New_York:20260225T093000
DTEND;TZID=America/New_York:20260225T100000
DTSTAMP:20260424T133627
CREATED:20250716T143056Z
LAST-MODIFIED:20250716T143056Z
UID:10003693-1772011800-1772013600@camdenucc.org
SUMMARY:Staff Meeting
DESCRIPTION:
URL:https://camdenucc.org/event/staff-meeting/2026-02-25/
LOCATION:Hybrid: Zoom and in person\, Conference Room\, 55 Elm Street\, Camden\, 04843\, United States
CATEGORIES:Church Meetings
END:VEVENT
BEGIN:VEVENT
DTSTART;TZID=America/New_York:20260224T160000
DTEND;TZID=America/New_York:20260224T180000
DTSTAMP:20260424T133627
CREATED:20260205T143138Z
LAST-MODIFIED:20260209T154501Z
UID:10003915-1771948800-1771956000@camdenucc.org
SUMMARY:Cabinet-No Feb. Mtg.
DESCRIPTION:
URL:https://camdenucc.org/event/cabinet-10/
LOCATION:Hybrid: Zoom and in person\, Conference Room\, 55 Elm Street\, Camden\, 04843\, United States
CATEGORIES:Church Meetings
END:VEVENT
BEGIN:VEVENT
DTSTART;TZID=America/New_York:20260218T093000
DTEND;TZID=America/New_York:20260218T100000
DTSTAMP:20260424T133627
CREATED:20250716T143056Z
LAST-MODIFIED:20250716T143056Z
UID:10003692-1771407000-1771408800@camdenucc.org
SUMMARY:Staff Meeting
DESCRIPTION:
URL:https://camdenucc.org/event/staff-meeting/2026-02-18/
LOCATION:Hybrid: Zoom and in person\, Conference Room\, 55 Elm Street\, Camden\, 04843\, United States
CATEGORIES:Church Meetings
END:VEVENT
BEGIN:VEVENT
DTSTART;TZID=America/New_York:20260217T120000
DTEND;TZID=America/New_York:20260217T130000
DTSTAMP:20260424T133627
CREATED:20260205T142909Z
LAST-MODIFIED:20260205T142919Z
UID:10003912-1771329600-1771333200@camdenucc.org
SUMMARY:Membership
DESCRIPTION:
URL:https://camdenucc.org/event/membership-10/
LOCATION:Hybrid: Zoom and in person\, Conference Room\, 55 Elm Street\, Camden\, 04843\, United States
CATEGORIES:Church Meetings
END:VEVENT
BEGIN:VEVENT
DTSTART;TZID=America/New_York:20260212T160000
DTEND;TZID=America/New_York:20260212T170000
DTSTAMP:20260424T133627
CREATED:20260205T142818Z
LAST-MODIFIED:20260205T142818Z
UID:10003911-1770912000-1770915600@camdenucc.org
SUMMARY:IT Planning Committee
DESCRIPTION:
URL:https://camdenucc.org/event/it-planning-committee/
LOCATION:Hybrid: Zoom and in person\, Conference Room\, 55 Elm Street\, Camden\, 04843\, United States
CATEGORIES:Church Meetings
END:VEVENT
BEGIN:VEVENT
DTSTART;TZID=America/New_York:20260211T093000
DTEND;TZID=America/New_York:20260211T100000
DTSTAMP:20260424T133627
CREATED:20250716T143056Z
LAST-MODIFIED:20250716T143056Z
UID:10003691-1770802200-1770804000@camdenucc.org
SUMMARY:Staff Meeting
DESCRIPTION:
URL:https://camdenucc.org/event/staff-meeting/2026-02-11/
LOCATION:Hybrid: Zoom and in person\, Conference Room\, 55 Elm Street\, Camden\, 04843\, United States
CATEGORIES:Church Meetings
END:VEVENT
BEGIN:VEVENT
DTSTART;TZID=America/New_York:20260205T160000
DTEND;TZID=America/New_York:20260205T170000
DTSTAMP:20260424T133627
CREATED:20260113T161219Z
LAST-MODIFIED:20260113T161219Z
UID:10003907-1770307200-1770310800@camdenucc.org
SUMMARY:Deacons
DESCRIPTION:
URL:https://camdenucc.org/event/deacons-11/
LOCATION:Hybrid: Zoom and in person\, Conference Room\, 55 Elm Street\, Camden\, 04843\, United States
CATEGORIES:Church Meetings
END:VEVENT
BEGIN:VEVENT
DTSTART;TZID=America/New_York:20260204T093000
DTEND;TZID=America/New_York:20260204T100000
DTSTAMP:20260424T133627
CREATED:20250716T143056Z
LAST-MODIFIED:20250716T143056Z
UID:10003690-1770197400-1770199200@camdenucc.org
SUMMARY:Staff Meeting
DESCRIPTION:
URL:https://camdenucc.org/event/staff-meeting/2026-02-04/
LOCATION:Hybrid: Zoom and in person\, Conference Room\, 55 Elm Street\, Camden\, 04843\, United States
CATEGORIES:Church Meetings
END:VEVENT
BEGIN:VEVENT
DTSTART;TZID=America/New_York:20260128T093000
DTEND;TZID=America/New_York:20260128T100000
DTSTAMP:20260424T133627
CREATED:20250716T143056Z
LAST-MODIFIED:20250716T143056Z
UID:10003689-1769592600-1769594400@camdenucc.org
SUMMARY:Staff Meeting
DESCRIPTION:
URL:https://camdenucc.org/event/staff-meeting/2026-01-28/
LOCATION:Hybrid: Zoom and in person\, Conference Room\, 55 Elm Street\, Camden\, 04843\, United States
CATEGORIES:Church Meetings
END:VEVENT
BEGIN:VEVENT
DTSTART;TZID=America/New_York:20260127T160000
DTEND;TZID=America/New_York:20260127T180000
DTSTAMP:20260424T133627
CREATED:20260113T145026Z
LAST-MODIFIED:20260113T145026Z
UID:10003890-1769529600-1769536800@camdenucc.org
SUMMARY:Cabinet
DESCRIPTION:
URL:https://camdenucc.org/event/cabinet-9/
LOCATION:Hybrid: Zoom and in person\, Conference Room\, 55 Elm Street\, Camden\, 04843\, United States
CATEGORIES:Church Meetings
END:VEVENT
BEGIN:VEVENT
DTSTART;TZID=America/New_York:20260121T173000
DTEND;TZID=America/New_York:20260121T190000
DTSTAMP:20260424T133627
CREATED:20260113T144841Z
LAST-MODIFIED:20260113T144841Z
UID:10003888-1769016600-1769022000@camdenucc.org
SUMMARY:Trustees
DESCRIPTION:
URL:https://camdenucc.org/event/trustees-8/
LOCATION:Hybrid: Zoom and in person\, Conference Room\, 55 Elm Street\, Camden\, 04843\, United States
CATEGORIES:Church Meetings
END:VEVENT
BEGIN:VEVENT
DTSTART;TZID=America/New_York:20260121T093000
DTEND;TZID=America/New_York:20260121T100000
DTSTAMP:20260424T133627
CREATED:20250716T143056Z
LAST-MODIFIED:20250716T143056Z
UID:10003688-1768987800-1768989600@camdenucc.org
SUMMARY:Staff Meeting
DESCRIPTION:
URL:https://camdenucc.org/event/staff-meeting/2026-01-21/
LOCATION:Hybrid: Zoom and in person\, Conference Room\, 55 Elm Street\, Camden\, 04843\, United States
CATEGORIES:Church Meetings
END:VEVENT
BEGIN:VEVENT
DTSTART;TZID=America/New_York:20260120T163000
DTEND;TZID=America/New_York:20260120T180000
DTSTAMP:20260424T133627
CREATED:20251210T151712Z
LAST-MODIFIED:20260113T144536Z
UID:10003882-1768926600-1768932000@camdenucc.org
SUMMARY:Communications
DESCRIPTION:
URL:https://camdenucc.org/event/communications-9/
LOCATION:Hybrid: Zoom and in person\, Conference Room\, 55 Elm Street\, Camden\, 04843\, United States
CATEGORIES:Church Meetings
END:VEVENT
BEGIN:VEVENT
DTSTART;TZID=America/New_York:20260114T093000
DTEND;TZID=America/New_York:20260114T100000
DTSTAMP:20260424T133627
CREATED:20250716T143056Z
LAST-MODIFIED:20250716T143056Z
UID:10003687-1768383000-1768384800@camdenucc.org
SUMMARY:Staff Meeting
DESCRIPTION:
URL:https://camdenucc.org/event/staff-meeting/2026-01-14/
LOCATION:Hybrid: Zoom and in person\, Conference Room\, 55 Elm Street\, Camden\, 04843\, United States
CATEGORIES:Church Meetings
END:VEVENT
BEGIN:VEVENT
DTSTART;TZID=America/New_York:20260108T160000
DTEND;TZID=America/New_York:20260108T170000
DTSTAMP:20260424T133627
CREATED:20251210T151944Z
LAST-MODIFIED:20251210T151944Z
UID:10003884-1767888000-1767891600@camdenucc.org
SUMMARY:Deacons
DESCRIPTION:
URL:https://camdenucc.org/event/deacons-10/
LOCATION:Hybrid: Zoom and in person\, Conference Room\, 55 Elm Street\, Camden\, 04843\, United States
CATEGORIES:Church Meetings
END:VEVENT
END:VCALENDAR