BEGIN:VCALENDAR
VERSION:2.0
PRODID:-//First Congregational Church of Camden, Maine - ECPv6.15.20//NONSGML v1.0//EN
CALSCALE:GREGORIAN
METHOD:PUBLISH
X-WR-CALNAME:First Congregational Church of Camden, Maine
X-ORIGINAL-URL:https://camdenucc.org
X-WR-CALDESC:Events for First Congregational Church of Camden, Maine
REFRESH-INTERVAL;VALUE=DURATION:PT1H
X-Robots-Tag:noindex
X-PUBLISHED-TTL:PT1H
BEGIN:VTIMEZONE
TZID:America/New_York
BEGIN:DAYLIGHT
TZOFFSETFROM:-0500
TZOFFSETTO:-0400
TZNAME:EDT
DTSTART:20240310T070000
END:DAYLIGHT
BEGIN:STANDARD
TZOFFSETFROM:-0400
TZOFFSETTO:-0500
TZNAME:EST
DTSTART:20241103T060000
END:STANDARD
BEGIN:DAYLIGHT
TZOFFSETFROM:-0500
TZOFFSETTO:-0400
TZNAME:EDT
DTSTART:20250309T070000
END:DAYLIGHT
BEGIN:STANDARD
TZOFFSETFROM:-0400
TZOFFSETTO:-0500
TZNAME:EST
DTSTART:20251102T060000
END:STANDARD
BEGIN:DAYLIGHT
TZOFFSETFROM:-0500
TZOFFSETTO:-0400
TZNAME:EDT
DTSTART:20260308T070000
END:DAYLIGHT
BEGIN:STANDARD
TZOFFSETFROM:-0400
TZOFFSETTO:-0500
TZNAME:EST
DTSTART:20261101T060000
END:STANDARD
END:VTIMEZONE
BEGIN:VEVENT
DTSTART;TZID=America/New_York:20250701T180000
DTEND;TZID=America/New_York:20250701T200000
DTSTAMP:20260424T145002
CREATED:20250530T183949Z
LAST-MODIFIED:20250530T183949Z
UID:10003564-1751392800-1751400000@camdenucc.org
SUMMARY:Men's Group Bible Study
DESCRIPTION:
URL:https://camdenucc.org/event/mens-group-bible-study-2/2025-07-01/
LOCATION:In person\, Pilgrim Room\, 55 Elm Street\, Camden\, 04843\, United States
CATEGORIES:Adult Education
END:VEVENT
BEGIN:VEVENT
DTSTART;TZID=America/New_York:20250617T180000
DTEND;TZID=America/New_York:20250617T200000
DTSTAMP:20260424T145002
CREATED:20250530T183949Z
LAST-MODIFIED:20250530T183949Z
UID:10003563-1750183200-1750190400@camdenucc.org
SUMMARY:Men's Group Bible Study
DESCRIPTION:
URL:https://camdenucc.org/event/mens-group-bible-study-2/2025-06-17/
LOCATION:In person\, Pilgrim Room\, 55 Elm Street\, Camden\, 04843\, United States
CATEGORIES:Adult Education
END:VEVENT
BEGIN:VEVENT
DTSTART;TZID=America/New_York:20250611T170000
DTEND;TZID=America/New_York:20250611T190000
DTSTAMP:20260424T145002
CREATED:20250530T184227Z
LAST-MODIFIED:20250530T184227Z
UID:10003569-1749661200-1749668400@camdenucc.org
SUMMARY:Anti-Poverty Workshop
DESCRIPTION:
URL:https://camdenucc.org/event/anti-poverty-workshop/
LOCATION:In person\, Pilgrim Room\, 55 Elm Street\, Camden\, 04843\, United States
CATEGORIES:Adult Education
END:VEVENT
BEGIN:VEVENT
DTSTART;TZID=America/New_York:20250611T160000
DTEND;TZID=America/New_York:20250611T170000
DTSTAMP:20260424T145002
CREATED:20250530T184141Z
LAST-MODIFIED:20250530T184141Z
UID:10003568-1749657600-1749661200@camdenucc.org
SUMMARY:Care Team
DESCRIPTION:
URL:https://camdenucc.org/event/care-team-2/
LOCATION:In person\, Pilgrim Room\, 55 Elm Street\, Camden\, 04843\, United States
CATEGORIES:Church Meetings
END:VEVENT
BEGIN:VEVENT
DTSTART;TZID=America/New_York:20250608T120000
DTEND;TZID=America/New_York:20250608T173000
DTSTAMP:20260424T145002
CREATED:20250423T190708Z
LAST-MODIFIED:20250423T190708Z
UID:10003540-1749384000-1749403800@camdenucc.org
SUMMARY:PRIDE Event
DESCRIPTION:
URL:https://camdenucc.org/event/pride-event/
LOCATION:In person\, Pilgrim Room\, 55 Elm Street\, Camden\, 04843\, United States
CATEGORIES:Special Events/Services
END:VEVENT
BEGIN:VEVENT
DTSTART;TZID=America/New_York:20250603T180000
DTEND;TZID=America/New_York:20250603T200000
DTSTAMP:20260424T145002
CREATED:20250530T183949Z
LAST-MODIFIED:20250530T183949Z
UID:10003562-1748973600-1748980800@camdenucc.org
SUMMARY:Men's Group Bible Study
DESCRIPTION:
URL:https://camdenucc.org/event/mens-group-bible-study-2/2025-06-03/
LOCATION:In person\, Pilgrim Room\, 55 Elm Street\, Camden\, 04843\, United States
CATEGORIES:Adult Education
END:VEVENT
BEGIN:VEVENT
DTSTART;TZID=America/New_York:20250531T090000
DTEND;TZID=America/New_York:20250531T110000
DTSTAMP:20260424T145002
CREATED:20250508T180616Z
LAST-MODIFIED:20250508T180616Z
UID:10003557-1748682000-1748689200@camdenucc.org
SUMMARY:Men's Breakfast
DESCRIPTION:
URL:https://camdenucc.org/event/mens-breakfast-3/
LOCATION:In person\, Pilgrim Room\, 55 Elm Street\, Camden\, 04843\, United States
CATEGORIES:Meals
END:VEVENT
BEGIN:VEVENT
DTSTART;TZID=America/New_York:20250529T170000
DTEND;TZID=America/New_York:20250529T183000
DTSTAMP:20260424T145002
CREATED:20250508T180828Z
LAST-MODIFIED:20250508T180828Z
UID:10003558-1748538000-1748543400@camdenucc.org
SUMMARY:Anti-Poverty Work Group
DESCRIPTION:
URL:https://camdenucc.org/event/anti-poverty-work-group/
LOCATION:In person\, Pilgrim Room\, 55 Elm Street\, Camden\, 04843\, United States
CATEGORIES:Adult Education
END:VEVENT
BEGIN:VEVENT
DTSTART;TZID=America/New_York:20250520T180000
DTEND;TZID=America/New_York:20250520T200000
DTSTAMP:20260424T145002
CREATED:20250508T181024Z
LAST-MODIFIED:20250508T181024Z
UID:10003559-1747764000-1747771200@camdenucc.org
SUMMARY:Men's Group Bible Study
DESCRIPTION:
URL:https://camdenucc.org/event/mens-group-bible-study/
LOCATION:In person\, Pilgrim Room\, 55 Elm Street\, Camden\, 04843\, United States
CATEGORIES:Adult Education
END:VEVENT
BEGIN:VEVENT
DTSTART;TZID=America/New_York:20250519T180000
DTEND;TZID=America/New_York:20250519T193000
DTSTAMP:20260424T145002
CREATED:20250430T180624Z
LAST-MODIFIED:20250430T180624Z
UID:10003555-1747677600-1747683000@camdenucc.org
SUMMARY:Advocacy Training-Jodi Hayashida
DESCRIPTION:
URL:https://camdenucc.org/event/advocacy-training-jodi-hayashida/
LOCATION:In person\, Pilgrim Room\, 55 Elm Street\, Camden\, 04843\, United States
CATEGORIES:Adult Education
END:VEVENT
BEGIN:VEVENT
DTSTART;TZID=America/New_York:20250512T080000
DTEND;TZID=America/New_York:20250512T170000
DTSTAMP:20260424T145002
CREATED:20250324T183244Z
LAST-MODIFIED:20250324T183244Z
UID:10003500-1747036800-1747069200@camdenucc.org
SUMMARY:Red Cross Blood Drive - all day
DESCRIPTION:
URL:https://camdenucc.org/event/red-cross-blood-drive-all-day/
LOCATION:In person\, Pilgrim Room\, 55 Elm Street\, Camden\, 04843\, United States
CATEGORIES:Special Events/Services
END:VEVENT
BEGIN:VEVENT
DTSTART;TZID=America/New_York:20250508T173000
DTEND;TZID=America/New_York:20250508T200000
DTSTAMP:20260424T145002
CREATED:20250408T140203Z
LAST-MODIFIED:20250408T140203Z
UID:10003512-1746725400-1746734400@camdenucc.org
SUMMARY:Beacon Society Potluck Supper
DESCRIPTION:
URL:https://camdenucc.org/event/beacon-society-potluck-supper/
LOCATION:In person\, Pilgrim Room\, 55 Elm Street\, Camden\, 04843\, United States
CATEGORIES:Meals
END:VEVENT
BEGIN:VEVENT
DTSTART;TZID=America/New_York:20250501T173000
DTEND;TZID=America/New_York:20250501T200000
DTSTAMP:20260424T145002
CREATED:20250408T135322Z
LAST-MODIFIED:20250408T135322Z
UID:10003503-1746120600-1746129600@camdenucc.org
SUMMARY:Women's Potluck Supper
DESCRIPTION:
URL:https://camdenucc.org/event/womens-potluck-supper/
LOCATION:In person\, Pilgrim Room\, 55 Elm Street\, Camden\, 04843\, United States
CATEGORIES:Meals
END:VEVENT
BEGIN:VEVENT
DTSTART;TZID=America/New_York:20250423T180000
DTEND;TZID=America/New_York:20250423T193000
DTSTAMP:20260424T145002
CREATED:20250307T182457Z
LAST-MODIFIED:20250307T182717Z
UID:10003487-1745431200-1745436600@camdenucc.org
SUMMARY:Creation Care: Movie & Discussion "What's the Rush?"
DESCRIPTION:
URL:https://camdenucc.org/event/cabinet-2/
LOCATION:In person\, Pilgrim Room\, 55 Elm Street\, Camden\, 04843\, United States
CATEGORIES:Adult Education,Special Events/Services
END:VEVENT
BEGIN:VEVENT
DTSTART;TZID=America/New_York:20250420T070000
DTEND;TZID=America/New_York:20250420T090000
DTSTAMP:20260424T145002
CREATED:20250408T173252Z
LAST-MODIFIED:20250408T173252Z
UID:10003531-1745132400-1745139600@camdenucc.org
SUMMARY:Easter Breakfast\, Pilgrim Room
DESCRIPTION:
URL:https://camdenucc.org/event/easter-breakfast-pilgrim-room/
LOCATION:In person\, Pilgrim Room\, 55 Elm Street\, Camden\, 04843\, United States
CATEGORIES:Meals
END:VEVENT
BEGIN:VEVENT
DTSTART;TZID=America/New_York:20250412T090000
DTEND;TZID=America/New_York:20250412T120000
DTSTAMP:20260424T145002
CREATED:20250408T172024Z
LAST-MODIFIED:20250408T172024Z
UID:10003527-1744448400-1744459200@camdenucc.org
SUMMARY:Men's Breakfast
DESCRIPTION:
URL:https://camdenucc.org/event/mens-breakfast-2/
LOCATION:In person\, Pilgrim Room\, 55 Elm Street\, Camden\, 04843\, United States
CATEGORIES:Meals
END:VEVENT
BEGIN:VEVENT
DTSTART;TZID=America/New_York:20250411T120000
DTEND;TZID=America/New_York:20250411T130000
DTSTAMP:20260424T145002
CREATED:20250225T162415Z
LAST-MODIFIED:20250225T162415Z
UID:10003430-1744372800-1744376400@camdenucc.org
SUMMARY:Cake & Community\, Pilgrim Room
DESCRIPTION:
URL:https://camdenucc.org/event/cake-community-pilgrim-room/2025-04-11/
LOCATION:In person\, Pilgrim Room\, 55 Elm Street\, Camden\, 04843\, United States
CATEGORIES:Meals
END:VEVENT
BEGIN:VEVENT
DTSTART;TZID=America/New_York:20250408T173000
DTEND;TZID=America/New_York:20250408T193000
DTSTAMP:20260424T145002
CREATED:20250408T172537Z
LAST-MODIFIED:20250408T172537Z
UID:10003529-1744133400-1744140600@camdenucc.org
SUMMARY:Maundy Thursday Service
DESCRIPTION:
URL:https://camdenucc.org/event/maundy-thursday-service/
LOCATION:In person\, Pilgrim Room\, 55 Elm Street\, Camden\, 04843\, United States
CATEGORIES:Worship
END:VEVENT
BEGIN:VEVENT
DTSTART;TZID=America/New_York:20250405T090000
DTEND;TZID=America/New_York:20250405T120000
DTSTAMP:20260424T145002
CREATED:20250307T182832Z
LAST-MODIFIED:20250320T181902Z
UID:10003488-1743843600-1743854400@camdenucc.org
SUMMARY:Advocacy Training Workshop with Rev. Jodi Hayashida
DESCRIPTION:
URL:https://camdenucc.org/event/advocacy-training-workshop-with-jodi-hayashida/
LOCATION:In person\, Pilgrim Room\, 55 Elm Street\, Camden\, 04843\, United States
CATEGORIES:Adult Education
ATTACH;FMTTYPE=image/png:https://eadn-wc04-5989383.nxedge.io/wp-content/uploads/2025/03/Rev-Jodi-Hayashida.png
END:VEVENT
BEGIN:VEVENT
DTSTART;TZID=America/New_York:20250404T120000
DTEND;TZID=America/New_York:20250404T130000
DTSTAMP:20260424T145002
CREATED:20250225T162415Z
LAST-MODIFIED:20250225T162415Z
UID:10003429-1743768000-1743771600@camdenucc.org
SUMMARY:Cake & Community\, Pilgrim Room
DESCRIPTION:
URL:https://camdenucc.org/event/cake-community-pilgrim-room/2025-04-04/
LOCATION:In person\, Pilgrim Room\, 55 Elm Street\, Camden\, 04843\, United States
CATEGORIES:Meals
END:VEVENT
BEGIN:VEVENT
DTSTART;TZID=America/New_York:20250328T120000
DTEND;TZID=America/New_York:20250328T130000
DTSTAMP:20260424T145002
CREATED:20250225T162415Z
LAST-MODIFIED:20250225T162415Z
UID:10003428-1743163200-1743166800@camdenucc.org
SUMMARY:Cake & Community\, Pilgrim Room
DESCRIPTION:
URL:https://camdenucc.org/event/cake-community-pilgrim-room/2025-03-28/
LOCATION:In person\, Pilgrim Room\, 55 Elm Street\, Camden\, 04843\, United States
CATEGORIES:Meals
END:VEVENT
BEGIN:VEVENT
DTSTART;TZID=America/New_York:20250321T120000
DTEND;TZID=America/New_York:20250321T130000
DTSTAMP:20260424T145002
CREATED:20250225T162415Z
LAST-MODIFIED:20250225T162415Z
UID:10003427-1742558400-1742562000@camdenucc.org
SUMMARY:Cake & Community\, Pilgrim Room
DESCRIPTION:
URL:https://camdenucc.org/event/cake-community-pilgrim-room/2025-03-21/
LOCATION:In person\, Pilgrim Room\, 55 Elm Street\, Camden\, 04843\, United States
CATEGORIES:Meals
END:VEVENT
BEGIN:VEVENT
DTSTART;TZID=America/New_York:20250320T173000
DTEND;TZID=America/New_York:20250320T210000
DTSTAMP:20260424T145002
CREATED:20250128T195542Z
LAST-MODIFIED:20250128T195542Z
UID:10003134-1742491800-1742504400@camdenucc.org
SUMMARY:Irish Potluck Supper & Heavenly Threads Fashion Show
DESCRIPTION:
URL:https://camdenucc.org/event/irish-potluck-supper-heavenly-threads-fashion-show/
LOCATION:In person\, Pilgrim Room\, 55 Elm Street\, Camden\, 04843\, United States
CATEGORIES:Meals,Special Events/Services
END:VEVENT
BEGIN:VEVENT
DTSTART;TZID=America/New_York:20250314T120000
DTEND;TZID=America/New_York:20250314T130000
DTSTAMP:20260424T145002
CREATED:20250225T162415Z
LAST-MODIFIED:20250225T162415Z
UID:10003426-1741953600-1741957200@camdenucc.org
SUMMARY:Cake & Community\, Pilgrim Room
DESCRIPTION:
URL:https://camdenucc.org/event/cake-community-pilgrim-room/2025-03-14/
LOCATION:In person\, Pilgrim Room\, 55 Elm Street\, Camden\, 04843\, United States
CATEGORIES:Meals
END:VEVENT
BEGIN:VEVENT
DTSTART;TZID=America/New_York:20250307T120000
DTEND;TZID=America/New_York:20250307T130000
DTSTAMP:20260424T145002
CREATED:20250225T162415Z
LAST-MODIFIED:20250225T162415Z
UID:10003425-1741348800-1741352400@camdenucc.org
SUMMARY:Cake & Community\, Pilgrim Room
DESCRIPTION:
URL:https://camdenucc.org/event/cake-community-pilgrim-room/2025-03-07/
LOCATION:In person\, Pilgrim Room\, 55 Elm Street\, Camden\, 04843\, United States
CATEGORIES:Meals
END:VEVENT
BEGIN:VEVENT
DTSTART;TZID=America/New_York:20250304T173000
DTEND;TZID=America/New_York:20250304T200000
DTSTAMP:20260424T145002
CREATED:20250128T200032Z
LAST-MODIFIED:20250128T200032Z
UID:10003135-1741109400-1741118400@camdenucc.org
SUMMARY:Shrove Tuesday Pancake Supper~All Ages
DESCRIPTION:
URL:https://camdenucc.org/event/shrove-tuesday-pancake-supperall-ages/
LOCATION:In person\, Pilgrim Room\, 55 Elm Street\, Camden\, 04843\, United States
CATEGORIES:Meals
END:VEVENT
BEGIN:VEVENT
DTSTART;TZID=America/New_York:20250228T120000
DTEND;TZID=America/New_York:20250228T130000
DTSTAMP:20260424T145002
CREATED:20250225T162415Z
LAST-MODIFIED:20250225T162415Z
UID:10003424-1740744000-1740747600@camdenucc.org
SUMMARY:Cake & Community\, Pilgrim Room
DESCRIPTION:
URL:https://camdenucc.org/event/cake-community-pilgrim-room/2025-02-28/
LOCATION:In person\, Pilgrim Room\, 55 Elm Street\, Camden\, 04843\, United States
CATEGORIES:Meals
END:VEVENT
BEGIN:VEVENT
DTSTART;TZID=America/New_York:20250221T120000
DTEND;TZID=America/New_York:20250221T130000
DTSTAMP:20260424T145002
CREATED:20250225T162415Z
LAST-MODIFIED:20250225T162415Z
UID:10003423-1740139200-1740142800@camdenucc.org
SUMMARY:Cake & Community\, Pilgrim Room
DESCRIPTION:
URL:https://camdenucc.org/event/cake-community-pilgrim-room/2025-02-21/
LOCATION:In person\, Pilgrim Room\, 55 Elm Street\, Camden\, 04843\, United States
CATEGORIES:Meals
END:VEVENT
BEGIN:VEVENT
DTSTART;TZID=America/New_York:20250208T090000
DTEND;TZID=America/New_York:20250208T110000
DTSTAMP:20260424T145002
CREATED:20250204T160853Z
LAST-MODIFIED:20250204T160853Z
UID:10003140-1739005200-1739012400@camdenucc.org
SUMMARY:Men's Breakfast
DESCRIPTION:
URL:https://camdenucc.org/event/mens-breakfast/
LOCATION:In person\, Pilgrim Room\, 55 Elm Street\, Camden\, 04843\, United States
CATEGORIES:Meals
END:VEVENT
END:VCALENDAR