BEGIN:VCALENDAR
VERSION:2.0
PRODID:-//First Congregational Church of Camden, Maine - ECPv6.15.20//NONSGML v1.0//EN
CALSCALE:GREGORIAN
METHOD:PUBLISH
X-WR-CALNAME:First Congregational Church of Camden, Maine
X-ORIGINAL-URL:https://camdenucc.org
X-WR-CALDESC:Events for First Congregational Church of Camden, Maine
REFRESH-INTERVAL;VALUE=DURATION:PT1H
X-Robots-Tag:noindex
X-PUBLISHED-TTL:PT1H
BEGIN:VTIMEZONE
TZID:America/New_York
BEGIN:DAYLIGHT
TZOFFSETFROM:-0500
TZOFFSETTO:-0400
TZNAME:EDT
DTSTART:20240310T070000
END:DAYLIGHT
BEGIN:STANDARD
TZOFFSETFROM:-0400
TZOFFSETTO:-0500
TZNAME:EST
DTSTART:20241103T060000
END:STANDARD
BEGIN:DAYLIGHT
TZOFFSETFROM:-0500
TZOFFSETTO:-0400
TZNAME:EDT
DTSTART:20250309T070000
END:DAYLIGHT
BEGIN:STANDARD
TZOFFSETFROM:-0400
TZOFFSETTO:-0500
TZNAME:EST
DTSTART:20251102T060000
END:STANDARD
BEGIN:DAYLIGHT
TZOFFSETFROM:-0500
TZOFFSETTO:-0400
TZNAME:EDT
DTSTART:20260308T070000
END:DAYLIGHT
BEGIN:STANDARD
TZOFFSETFROM:-0400
TZOFFSETTO:-0500
TZNAME:EST
DTSTART:20261101T060000
END:STANDARD
BEGIN:DAYLIGHT
TZOFFSETFROM:-0500
TZOFFSETTO:-0400
TZNAME:EDT
DTSTART:20270314T070000
END:DAYLIGHT
BEGIN:STANDARD
TZOFFSETFROM:-0400
TZOFFSETTO:-0500
TZNAME:EST
DTSTART:20271107T060000
END:STANDARD
END:VTIMEZONE
BEGIN:VEVENT
DTSTART;TZID=America/New_York:20260304T180000
DTEND;TZID=America/New_York:20260304T193000
DTSTAMP:20260424T111734
CREATED:20260205T144038Z
LAST-MODIFIED:20260205T144911Z
UID:10003977-1772647200-1772652600@camdenucc.org
SUMMARY:Life After Doom: Book Discussion with David Wood
DESCRIPTION:
URL:https://camdenucc.org/event/life-after-doom-book-discussion-with-david-wood/2026-03-04/
LOCATION:In person\, Pilgrim Room\, 55 Elm Street\, Camden\, 04843\, United States
CATEGORIES:Adult Education
END:VEVENT
BEGIN:VEVENT
DTSTART;TZID=America/New_York:20260303T160000
DTEND;TZID=America/New_York:20260303T171500
DTSTAMP:20260424T111735
CREATED:20260205T143342Z
LAST-MODIFIED:20260312T174226Z
UID:10003917-1772553600-1772558100@camdenucc.org
SUMMARY:Bible Study on Gospel of Mark
DESCRIPTION:
URL:https://camdenucc.org/event/bible-study-on-gospel-of-mark/2026-03-03/
LOCATION:In person\, Pilgrim Room\, 55 Elm Street\, Camden\, 04843\, United States
CATEGORIES:Adult Education
END:VEVENT
BEGIN:VEVENT
DTSTART;TZID=America/New_York:20260303T150000
DTEND;TZID=America/New_York:20260303T170000
DTSTAMP:20260424T111735
CREATED:20260205T143511Z
LAST-MODIFIED:20260205T143511Z
UID:10003975-1772550000-1772557200@camdenucc.org
SUMMARY:Energy Coaching
DESCRIPTION:
URL:https://camdenucc.org/event/energy-coaching/
LOCATION:In person\, Pilgrim Room\, 55 Elm Street\, Camden\, 04843\, United States
CATEGORIES:Church Meetings
END:VEVENT
BEGIN:VEVENT
DTSTART;TZID=America/New_York:20260226T180000
DTEND;TZID=America/New_York:20260226T193000
DTSTAMP:20260424T111735
CREATED:20260205T143057Z
LAST-MODIFIED:20260205T143901Z
UID:10003914-1772128800-1772134200@camdenucc.org
SUMMARY:Grappling With Gaza: Rev. Wes Avram
DESCRIPTION:
URL:https://camdenucc.org/event/grappling-with-gaza-wes-abram/
LOCATION:In person\, Pilgrim Room\, 55 Elm Street\, Camden\, 04843\, United States
CATEGORIES:Adult Education
END:VEVENT
BEGIN:VEVENT
DTSTART;TZID=America/New_York:20260224T160000
DTEND;TZID=America/New_York:20260224T171500
DTSTAMP:20260424T111735
CREATED:20260205T143342Z
LAST-MODIFIED:20260312T174226Z
UID:10003916-1771948800-1771953300@camdenucc.org
SUMMARY:Bible Study on Gospel of Mark
DESCRIPTION:
URL:https://camdenucc.org/event/bible-study-on-gospel-of-mark/2026-02-24/
LOCATION:In person\, Pilgrim Room\, 55 Elm Street\, Camden\, 04843\, United States
CATEGORIES:Adult Education
END:VEVENT
BEGIN:VEVENT
DTSTART;TZID=America/New_York:20260217T173000
DTEND;TZID=America/New_York:20260217T200000
DTSTAMP:20260424T111735
CREATED:20260205T142956Z
LAST-MODIFIED:20260205T151233Z
UID:10003913-1771349400-1771358400@camdenucc.org
SUMMARY:Shrove Tuesday Pancake Supper
DESCRIPTION:
URL:https://camdenucc.org/event/shrove-tuesday-pancake-supper/
LOCATION:In person\, Pilgrim Room\, 55 Elm Street\, Camden\, 04843\, United States
CATEGORIES:Meals
ATTACH;FMTTYPE=image/jpeg:https://eadn-wc04-5989383.nxedge.io/wp-content/uploads/2026/02/2026-Shrove-Tues-Pancake-Supper-e1770304332400.jpg
END:VEVENT
BEGIN:VEVENT
DTSTART;TZID=America/New_York:20260214T090000
DTEND;TZID=America/New_York:20260214T110000
DTSTAMP:20260424T111735
CREATED:20260209T160846Z
LAST-MODIFIED:20260209T160846Z
UID:10004109-1771059600-1771066800@camdenucc.org
SUMMARY:Men's Breakfast
DESCRIPTION:
URL:https://camdenucc.org/event/mens-breakfast-9/
LOCATION:In person\, Pilgrim Room\, 55 Elm Street\, Camden\, 04843\, United States
CATEGORIES:Meals
END:VEVENT
BEGIN:VEVENT
DTSTART;TZID=America/New_York:20260211T090000
DTEND;TZID=America/New_York:20260211T100000
DTSTAMP:20260424T111735
CREATED:20260205T142547Z
LAST-MODIFIED:20260205T142547Z
UID:10003908-1770800400-1770804000@camdenucc.org
SUMMARY:First Meeting of Ryan's Helpers
DESCRIPTION:
URL:https://camdenucc.org/event/first-meeting-of-ryans-helpers/
LOCATION:In person\, Pilgrim Room\, 55 Elm Street\, Camden\, 04843\, United States
CATEGORIES:Church Meetings
END:VEVENT
BEGIN:VEVENT
DTSTART;TZID=America/New_York:20260124T090000
DTEND;TZID=America/New_York:20260124T110000
DTSTAMP:20260424T111735
CREATED:20260113T145115Z
LAST-MODIFIED:20260113T145115Z
UID:10003891-1769245200-1769252400@camdenucc.org
SUMMARY:Men's Breakfast
DESCRIPTION:
URL:https://camdenucc.org/event/mens-breakfast-8/
LOCATION:In person\, Pilgrim Room\, 55 Elm Street\, Camden\, 04843\, United States
CATEGORIES:Meals
END:VEVENT
BEGIN:VEVENT
DTSTART;TZID=America/New_York:20260122T173000
DTEND;TZID=America/New_York:20260122T203000
DTSTAMP:20260424T111735
CREATED:20251121T193953Z
LAST-MODIFIED:20251121T193953Z
UID:10003879-1769103000-1769113800@camdenucc.org
SUMMARY:Women's Potluck
DESCRIPTION:
URL:https://camdenucc.org/event/womens-potluck/
LOCATION:In person\, Pilgrim Room\, 55 Elm Street\, Camden\, 04843\, United States
CATEGORIES:Meals
END:VEVENT
BEGIN:VEVENT
DTSTART;TZID=America/New_York:20251213T090000
DTEND;TZID=America/New_York:20251213T110000
DTSTAMP:20260424T111735
CREATED:20251210T151511Z
LAST-MODIFIED:20251210T151511Z
UID:10003880-1765616400-1765623600@camdenucc.org
SUMMARY:Men's Breakfast
DESCRIPTION:
URL:https://camdenucc.org/event/mens-breakfast-7/
LOCATION:In person\, Pilgrim Room\, 55 Elm Street\, Camden\, 04843\, United States
CATEGORIES:Meals
END:VEVENT
BEGIN:VEVENT
DTSTART;TZID=America/New_York:20251122T090000
DTEND;TZID=America/New_York:20251122T110000
DTSTAMP:20260424T111735
CREATED:20251105T170924Z
LAST-MODIFIED:20251105T170924Z
UID:10003852-1763802000-1763809200@camdenucc.org
SUMMARY:Men's Breakfast
DESCRIPTION:
URL:https://camdenucc.org/event/mens-breakfast-6/
LOCATION:In person\, Pilgrim Room\, 55 Elm Street\, Camden\, 04843\, United States
CATEGORIES:Meals
END:VEVENT
BEGIN:VEVENT
DTSTART;TZID=America/New_York:20251116T140000
DTEND;TZID=America/New_York:20251116T160000
DTSTAMP:20260424T111735
CREATED:20250909T190516Z
LAST-MODIFIED:20250909T190516Z
UID:10003793-1763301600-1763308800@camdenucc.org
SUMMARY:Film "Dawnland" from Justice & Witness team
DESCRIPTION:
URL:https://camdenucc.org/event/film-dawnland-from-justice-witness-team/
LOCATION:In person\, Pilgrim Room\, 55 Elm Street\, Camden\, 04843\, United States
CATEGORIES:Adult Education
END:VEVENT
BEGIN:VEVENT
DTSTART;TZID=America/New_York:20251113T173000
DTEND;TZID=America/New_York:20251113T193000
DTSTAMP:20260424T111735
CREATED:20251020T185331Z
LAST-MODIFIED:20251020T185331Z
UID:10003835-1763055000-1763062200@camdenucc.org
SUMMARY:Women's Potluck Supper
DESCRIPTION:
URL:https://camdenucc.org/event/womens-potluck-supper-4/
LOCATION:In person\, Pilgrim Room\, 55 Elm Street\, Camden\, 04843\, United States
CATEGORIES:Meals
END:VEVENT
BEGIN:VEVENT
DTSTART;TZID=America/New_York:20251104T160000
DTEND;TZID=America/New_York:20251104T173000
DTSTAMP:20260424T111735
CREATED:20251023T181150Z
LAST-MODIFIED:20251023T181435Z
UID:10003850-1762272000-1762277400@camdenucc.org
SUMMARY:Bible Study Session #3
DESCRIPTION:
URL:https://camdenucc.org/event/bible-study-session-3/
LOCATION:In person\, Pilgrim Room\, 55 Elm Street\, Camden\, 04843\, United States
CATEGORIES:Adult Education
END:VEVENT
BEGIN:VEVENT
DTSTART;TZID=America/New_York:20251030T160000
DTEND;TZID=America/New_York:20251030T173000
DTSTAMP:20260424T111735
CREATED:20251023T181102Z
LAST-MODIFIED:20251023T181102Z
UID:10003849-1761840000-1761845400@camdenucc.org
SUMMARY:Meet Kit Ripley~Ministry in Thailand
DESCRIPTION:
URL:https://camdenucc.org/event/meet-kit-ripleyministry-in-thailand/
LOCATION:In person\, Pilgrim Room\, 55 Elm Street\, Camden\, 04843\, United States
CATEGORIES:Church Meetings
END:VEVENT
BEGIN:VEVENT
DTSTART;TZID=America/New_York:20251028T180000
DTEND;TZID=America/New_York:20251028T203000
DTSTAMP:20260424T111735
CREATED:20251020T181804Z
LAST-MODIFIED:20251020T181804Z
UID:10003797-1761674400-1761683400@camdenucc.org
SUMMARY:Queer Faith Potluck & Discussion~Rev. Ben Perry
DESCRIPTION:
URL:https://camdenucc.org/event/queer-faith-potluck-discussionrev-ben-perry/
LOCATION:In person\, Pilgrim Room\, 55 Elm Street\, Camden\, 04843\, United States
CATEGORIES:Adult Education,Meals
END:VEVENT
BEGIN:VEVENT
DTSTART;TZID=America/New_York:20251023T090000
DTEND;TZID=America/New_York:20251023T110000
DTSTAMP:20260424T111735
CREATED:20251023T180852Z
LAST-MODIFIED:20251023T180852Z
UID:10003848-1761210000-1761217200@camdenucc.org
SUMMARY:Men's Breakfast
DESCRIPTION:
URL:https://camdenucc.org/event/mens-breakfast-5/
LOCATION:In person\, Pilgrim Room\, 55 Elm Street\, Camden\, 04843\, United States
CATEGORIES:Meals
END:VEVENT
BEGIN:VEVENT
DTSTART;TZID=America/New_York:20251021T160000
DTEND;TZID=America/New_York:20251021T173000
DTSTAMP:20260424T111735
CREATED:20251020T181548Z
LAST-MODIFIED:20251020T181548Z
UID:10003795-1761062400-1761067800@camdenucc.org
SUMMARY:Bible Study~All Welcome
DESCRIPTION:
URL:https://camdenucc.org/event/bible-studyall-welcome/
LOCATION:In person\, Pilgrim Room\, 55 Elm Street\, Camden\, 04843\, United States
CATEGORIES:Adult Education
END:VEVENT
BEGIN:VEVENT
DTSTART;TZID=America/New_York:20250925T173000
DTEND;TZID=America/New_York:20250925T193000
DTSTAMP:20260424T111735
CREATED:20250820T190119Z
LAST-MODIFIED:20250820T190119Z
UID:10003782-1758821400-1758828600@camdenucc.org
SUMMARY:Women's Potluck Supper
DESCRIPTION:
URL:https://camdenucc.org/event/womens-potluck-supper-3/
LOCATION:In person\, Pilgrim Room\, 55 Elm Street\, Camden\, 04843\, United States
CATEGORIES:Meals
END:VEVENT
BEGIN:VEVENT
DTSTART;TZID=America/New_York:20250913T090000
DTEND;TZID=America/New_York:20250913T110000
DTSTAMP:20260424T111735
CREATED:20250716T142716Z
LAST-MODIFIED:20250716T142716Z
UID:10003657-1757754000-1757761200@camdenucc.org
SUMMARY:Men's Breakfast
DESCRIPTION:
URL:https://camdenucc.org/event/mens-breakfast-4/
LOCATION:In person\, Pilgrim Room\, 55 Elm Street\, Camden\, 04843\, United States
CATEGORIES:Meals
END:VEVENT
BEGIN:VEVENT
DTSTART;TZID=America/New_York:20250717T173000
DTEND;TZID=America/New_York:20250717T200000
DTSTAMP:20260424T111735
CREATED:20250605T151202Z
LAST-MODIFIED:20250605T151202Z
UID:10003572-1752773400-1752782400@camdenucc.org
SUMMARY:Women's Potluck Supper
DESCRIPTION:
URL:https://camdenucc.org/event/womens-potluck-supper-2/
LOCATION:In person\, Pilgrim Room\, 55 Elm Street\, Camden\, 04843\, United States
CATEGORIES:Meals
END:VEVENT
BEGIN:VEVENT
DTSTART;TZID=America/New_York:20250712T160000
DTEND;TZID=America/New_York:20250712T173000
DTSTAMP:20260424T111735
CREATED:20250702T164245Z
LAST-MODIFIED:20250702T164245Z
UID:10003641-1752336000-1752341400@camdenucc.org
SUMMARY:Talk & Reception\, Rev. David Wood
DESCRIPTION:
URL:https://camdenucc.org/event/talk-reception-rev-david-wood/
LOCATION:In person\, Pilgrim Room\, 55 Elm Street\, Camden\, 04843\, United States
CATEGORIES:Church Meetings
END:VEVENT
BEGIN:VEVENT
DTSTART;TZID=America/New_York:20250701T180000
DTEND;TZID=America/New_York:20250701T200000
DTSTAMP:20260424T111735
CREATED:20250530T183949Z
LAST-MODIFIED:20250530T183949Z
UID:10003564-1751392800-1751400000@camdenucc.org
SUMMARY:Men's Group Bible Study
DESCRIPTION:
URL:https://camdenucc.org/event/mens-group-bible-study-2/2025-07-01/
LOCATION:In person\, Pilgrim Room\, 55 Elm Street\, Camden\, 04843\, United States
CATEGORIES:Adult Education
END:VEVENT
BEGIN:VEVENT
DTSTART;TZID=America/New_York:20250617T180000
DTEND;TZID=America/New_York:20250617T200000
DTSTAMP:20260424T111735
CREATED:20250530T183949Z
LAST-MODIFIED:20250530T183949Z
UID:10003563-1750183200-1750190400@camdenucc.org
SUMMARY:Men's Group Bible Study
DESCRIPTION:
URL:https://camdenucc.org/event/mens-group-bible-study-2/2025-06-17/
LOCATION:In person\, Pilgrim Room\, 55 Elm Street\, Camden\, 04843\, United States
CATEGORIES:Adult Education
END:VEVENT
BEGIN:VEVENT
DTSTART;TZID=America/New_York:20250611T170000
DTEND;TZID=America/New_York:20250611T190000
DTSTAMP:20260424T111735
CREATED:20250530T184227Z
LAST-MODIFIED:20250530T184227Z
UID:10003569-1749661200-1749668400@camdenucc.org
SUMMARY:Anti-Poverty Workshop
DESCRIPTION:
URL:https://camdenucc.org/event/anti-poverty-workshop/
LOCATION:In person\, Pilgrim Room\, 55 Elm Street\, Camden\, 04843\, United States
CATEGORIES:Adult Education
END:VEVENT
BEGIN:VEVENT
DTSTART;TZID=America/New_York:20250611T160000
DTEND;TZID=America/New_York:20250611T170000
DTSTAMP:20260424T111735
CREATED:20250530T184141Z
LAST-MODIFIED:20250530T184141Z
UID:10003568-1749657600-1749661200@camdenucc.org
SUMMARY:Care Team
DESCRIPTION:
URL:https://camdenucc.org/event/care-team-2/
LOCATION:In person\, Pilgrim Room\, 55 Elm Street\, Camden\, 04843\, United States
CATEGORIES:Church Meetings
END:VEVENT
BEGIN:VEVENT
DTSTART;TZID=America/New_York:20250608T120000
DTEND;TZID=America/New_York:20250608T173000
DTSTAMP:20260424T111735
CREATED:20250423T190708Z
LAST-MODIFIED:20250423T190708Z
UID:10003540-1749384000-1749403800@camdenucc.org
SUMMARY:PRIDE Event
DESCRIPTION:
URL:https://camdenucc.org/event/pride-event/
LOCATION:In person\, Pilgrim Room\, 55 Elm Street\, Camden\, 04843\, United States
CATEGORIES:Special Events/Services
END:VEVENT
BEGIN:VEVENT
DTSTART;TZID=America/New_York:20250603T180000
DTEND;TZID=America/New_York:20250603T200000
DTSTAMP:20260424T111735
CREATED:20250530T183949Z
LAST-MODIFIED:20250530T183949Z
UID:10003562-1748973600-1748980800@camdenucc.org
SUMMARY:Men's Group Bible Study
DESCRIPTION:
URL:https://camdenucc.org/event/mens-group-bible-study-2/2025-06-03/
LOCATION:In person\, Pilgrim Room\, 55 Elm Street\, Camden\, 04843\, United States
CATEGORIES:Adult Education
END:VEVENT
BEGIN:VEVENT
DTSTART;TZID=America/New_York:20250531T090000
DTEND;TZID=America/New_York:20250531T110000
DTSTAMP:20260424T111735
CREATED:20250508T180616Z
LAST-MODIFIED:20250508T180616Z
UID:10003557-1748682000-1748689200@camdenucc.org
SUMMARY:Men's Breakfast
DESCRIPTION:
URL:https://camdenucc.org/event/mens-breakfast-3/
LOCATION:In person\, Pilgrim Room\, 55 Elm Street\, Camden\, 04843\, United States
CATEGORIES:Meals
END:VEVENT
END:VCALENDAR