BEGIN:VCALENDAR
VERSION:2.0
PRODID:-//First Congregational Church of Camden, Maine - ECPv6.15.20//NONSGML v1.0//EN
CALSCALE:GREGORIAN
METHOD:PUBLISH
X-WR-CALNAME:First Congregational Church of Camden, Maine
X-ORIGINAL-URL:https://camdenucc.org
X-WR-CALDESC:Events for First Congregational Church of Camden, Maine
REFRESH-INTERVAL;VALUE=DURATION:PT1H
X-Robots-Tag:noindex
X-PUBLISHED-TTL:PT1H
BEGIN:VTIMEZONE
TZID:America/New_York
BEGIN:DAYLIGHT
TZOFFSETFROM:-0500
TZOFFSETTO:-0400
TZNAME:EDT
DTSTART:20240310T070000
END:DAYLIGHT
BEGIN:STANDARD
TZOFFSETFROM:-0400
TZOFFSETTO:-0500
TZNAME:EST
DTSTART:20241103T060000
END:STANDARD
BEGIN:DAYLIGHT
TZOFFSETFROM:-0500
TZOFFSETTO:-0400
TZNAME:EDT
DTSTART:20250309T070000
END:DAYLIGHT
BEGIN:STANDARD
TZOFFSETFROM:-0400
TZOFFSETTO:-0500
TZNAME:EST
DTSTART:20251102T060000
END:STANDARD
BEGIN:DAYLIGHT
TZOFFSETFROM:-0500
TZOFFSETTO:-0400
TZNAME:EDT
DTSTART:20260308T070000
END:DAYLIGHT
BEGIN:STANDARD
TZOFFSETFROM:-0400
TZOFFSETTO:-0500
TZNAME:EST
DTSTART:20261101T060000
END:STANDARD
END:VTIMEZONE
BEGIN:VEVENT
DTSTART;TZID=America/New_York:20251210T160000
DTEND;TZID=America/New_York:20251210T170000
DTSTAMP:20260424T114502
CREATED:20251020T183745Z
LAST-MODIFIED:20251020T183745Z
UID:10003820-1765382400-1765386000@camdenucc.org
SUMMARY:Grief Study Group
DESCRIPTION:
URL:https://camdenucc.org/event/grief-study-group-2/
LOCATION:In person\, Mayflower Room\, 55 Elm Street\, Camden\, ME\, 04843
CATEGORIES:Adult Education
END:VEVENT
BEGIN:VEVENT
DTSTART;TZID=America/New_York:20251112T160000
DTEND;TZID=America/New_York:20251112T170000
DTSTAMP:20260424T114502
CREATED:20251020T182813Z
LAST-MODIFIED:20251020T182813Z
UID:10003810-1762963200-1762966800@camdenucc.org
SUMMARY:Grief Study
DESCRIPTION:
URL:https://camdenucc.org/event/grief-study-2/
LOCATION:In person\, Mayflower Room\, 55 Elm Street\, Camden\, ME\, 04843
CATEGORIES:Adult Education
END:VEVENT
BEGIN:VEVENT
DTSTART;TZID=America/New_York:20250924T160000
DTEND;TZID=America/New_York:20250924T173000
DTSTAMP:20260424T114502
CREATED:20250806T155732Z
LAST-MODIFIED:20250806T155732Z
UID:10003776-1758729600-1758735000@camdenucc.org
SUMMARY:Grief Study
DESCRIPTION:
URL:https://camdenucc.org/event/grief-study/
LOCATION:In person\, Mayflower Room\, 55 Elm Street\, Camden\, ME\, 04843
CATEGORIES:Adult Education
END:VEVENT
BEGIN:VEVENT
DTSTART;TZID=America/New_York:20250703T163000
DTEND;TZID=America/New_York:20250703T180000
DTSTAMP:20260424T114502
CREATED:20250617T171532Z
LAST-MODIFIED:20250617T171532Z
UID:10003573-1751560200-1751565600@camdenucc.org
SUMMARY:Exploring Grief
DESCRIPTION:
URL:https://camdenucc.org/event/exploring-grief/
LOCATION:In person\, Mayflower Room\, 55 Elm Street\, Camden\, ME\, 04843
CATEGORIES:Adult Education
END:VEVENT
BEGIN:VEVENT
DTSTART;TZID=America/New_York:20250610T160000
DTEND;TZID=America/New_York:20250610T173000
DTSTAMP:20260424T114502
CREATED:20250530T184102Z
LAST-MODIFIED:20250530T184102Z
UID:10003567-1749571200-1749576600@camdenucc.org
SUMMARY:Grief Study Group
DESCRIPTION:
URL:https://camdenucc.org/event/grief-study-group/
LOCATION:In person\, Mayflower Room\, 55 Elm Street\, Camden\, ME\, 04843
CATEGORIES:Adult Education
END:VEVENT
BEGIN:VEVENT
DTSTART;TZID=America/New_York:20250513T170000
DTEND;TZID=America/New_York:20250513T180000
DTSTAMP:20260424T114502
CREATED:20250408T141310Z
LAST-MODIFIED:20250513T185234Z
UID:10003521-1747155600-1747159200@camdenucc.org
SUMMARY:Creation Care CANCELLED
DESCRIPTION:
URL:https://camdenucc.org/event/creation-care-4/
LOCATION:In person\, Mayflower Room\, 55 Elm Street\, Camden\, ME\, 04843
CATEGORIES:Church Meetings
END:VEVENT
BEGIN:VEVENT
DTSTART;TZID=America/New_York:20250504T110000
DTEND;TZID=America/New_York:20250504T113000
DTSTAMP:20260424T114502
CREATED:20250430T175547Z
LAST-MODIFIED:20250430T175547Z
UID:10003551-1746356400-1746358200@camdenucc.org
SUMMARY:New Member Informational Meeting
DESCRIPTION:
URL:https://camdenucc.org/event/new-member-informational-meeting/
LOCATION:In person\, Mayflower Room\, 55 Elm Street\, Camden\, ME\, 04843
CATEGORIES:Church Meetings
END:VEVENT
BEGIN:VEVENT
DTSTART;TZID=America/New_York:20250206T130000
DTEND;TZID=America/New_York:20250206T150000
DTSTAMP:20260424T114502
CREATED:20250114T160304Z
LAST-MODIFIED:20250114T160304Z
UID:10003121-1738846800-1738854000@camdenucc.org
SUMMARY:Care Team Training~Session 3 of 3
DESCRIPTION:
URL:https://camdenucc.org/event/care-team-trainingsession-3-of-3/
LOCATION:In person\, Mayflower Room\, 55 Elm Street\, Camden\, ME\, 04843
CATEGORIES:Adult Education
END:VEVENT
BEGIN:VEVENT
DTSTART;TZID=America/New_York:20250130T150000
DTEND;TZID=America/New_York:20250130T170000
DTSTAMP:20260424T114502
CREATED:20250114T160226Z
LAST-MODIFIED:20250114T160226Z
UID:10003120-1738249200-1738256400@camdenucc.org
SUMMARY:Care Team Training Session~2 of 3
DESCRIPTION:
URL:https://camdenucc.org/event/care-team-training-session2-of-3/
LOCATION:In person\, Mayflower Room\, 55 Elm Street\, Camden\, ME\, 04843
CATEGORIES:Adult Education
END:VEVENT
BEGIN:VEVENT
DTSTART;TZID=America/New_York:20250123T150000
DTEND;TZID=America/New_York:20250123T170000
DTSTAMP:20260424T114502
CREATED:20250114T160149Z
LAST-MODIFIED:20250114T160149Z
UID:10003119-1737644400-1737651600@camdenucc.org
SUMMARY:Care Team Training~Session 1 of 3
DESCRIPTION:
URL:https://camdenucc.org/event/care-team-trainingsession-1-of-3/
LOCATION:In person\, Mayflower Room\, 55 Elm Street\, Camden\, ME\, 04843
CATEGORIES:Adult Education
END:VEVENT
END:VCALENDAR