BEGIN:VCALENDAR
VERSION:2.0
PRODID:-//First Congregational Church of Camden, Maine - ECPv6.15.20//NONSGML v1.0//EN
CALSCALE:GREGORIAN
METHOD:PUBLISH
X-WR-CALNAME:First Congregational Church of Camden, Maine
X-ORIGINAL-URL:https://camdenucc.org
X-WR-CALDESC:Events for First Congregational Church of Camden, Maine
REFRESH-INTERVAL;VALUE=DURATION:PT1H
X-Robots-Tag:noindex
X-PUBLISHED-TTL:PT1H
BEGIN:VTIMEZONE
TZID:America/New_York
BEGIN:DAYLIGHT
TZOFFSETFROM:-0500
TZOFFSETTO:-0400
TZNAME:EDT
DTSTART:20240310T070000
END:DAYLIGHT
BEGIN:STANDARD
TZOFFSETFROM:-0400
TZOFFSETTO:-0500
TZNAME:EST
DTSTART:20241103T060000
END:STANDARD
BEGIN:DAYLIGHT
TZOFFSETFROM:-0500
TZOFFSETTO:-0400
TZNAME:EDT
DTSTART:20250309T070000
END:DAYLIGHT
BEGIN:STANDARD
TZOFFSETFROM:-0400
TZOFFSETTO:-0500
TZNAME:EST
DTSTART:20251102T060000
END:STANDARD
BEGIN:DAYLIGHT
TZOFFSETFROM:-0500
TZOFFSETTO:-0400
TZNAME:EDT
DTSTART:20260308T070000
END:DAYLIGHT
BEGIN:STANDARD
TZOFFSETFROM:-0400
TZOFFSETTO:-0500
TZNAME:EST
DTSTART:20261101T060000
END:STANDARD
END:VTIMEZONE
BEGIN:VEVENT
DTSTART;TZID=America/New_York:20250330T093000
DTEND;TZID=America/New_York:20250330T103000
DTSTAMP:20260424T224759
CREATED:20250225T162810Z
LAST-MODIFIED:20250225T162811Z
UID:10003158-1743327000-1743330600@camdenucc.org
SUMMARY:Sunday Worship\, Rev. Lisanne Finston
DESCRIPTION:
URL:https://camdenucc.org/event/sunday-worship-4/
LOCATION:Hybrid: Online by Zoom and in Sanctuary
CATEGORIES:Worship
END:VEVENT
BEGIN:VEVENT
DTSTART;TZID=America/New_York:20250323T093000
DTEND;TZID=America/New_York:20250323T103000
DTSTAMP:20260424T224759
CREATED:20250204T162348Z
LAST-MODIFIED:20250204T162447Z
UID:10003157-1742722200-1742725800@camdenucc.org
SUMMARY:Sunday Worship
DESCRIPTION:
URL:https://camdenucc.org/event/sunday-worship/2025-03-23/
LOCATION:Hybrid: Online by Zoom and in Sanctuary
CATEGORIES:Worship
END:VEVENT
BEGIN:VEVENT
DTSTART;TZID=America/New_York:20250316T093000
DTEND;TZID=America/New_York:20250316T103000
DTSTAMP:20260424T224759
CREATED:20250225T162717Z
LAST-MODIFIED:20250225T162718Z
UID:10003156-1742117400-1742121000@camdenucc.org
SUMMARY:Sunday Worship\, Rev. John Fiscus\, ME UCC
DESCRIPTION:
URL:https://camdenucc.org/event/sunday-worship-3/
LOCATION:Hybrid: Online by Zoom and in Sanctuary
CATEGORIES:Worship
END:VEVENT
BEGIN:VEVENT
DTSTART;TZID=America/New_York:20250311T170000
DTEND;TZID=America/New_York:20250311T180000
DTSTAMP:20260424T224759
CREATED:20250310T201233Z
LAST-MODIFIED:20250310T201233Z
UID:10003491-1741712400-1741716000@camdenucc.org
SUMMARY:Creation Care
DESCRIPTION:
URL:https://camdenucc.org/event/creation-care-2/
LOCATION:Hybrid: Online by Zoom and in Sanctuary
CATEGORIES:Adult Education
END:VEVENT
BEGIN:VEVENT
DTSTART;TZID=America/New_York:20250309T093000
DTEND;TZID=America/New_York:20250309T103000
DTSTAMP:20260424T224759
CREATED:20250204T162348Z
LAST-MODIFIED:20250204T162447Z
UID:10003155-1741512600-1741516200@camdenucc.org
SUMMARY:Sunday Worship
DESCRIPTION:
URL:https://camdenucc.org/event/sunday-worship/2025-03-09/
LOCATION:Hybrid: Online by Zoom and in Sanctuary
CATEGORIES:Worship
END:VEVENT
BEGIN:VEVENT
DTSTART;TZID=America/New_York:20250302T093000
DTEND;TZID=America/New_York:20250302T103000
DTSTAMP:20260424T224759
CREATED:20250225T162618Z
LAST-MODIFIED:20250225T162619Z
UID:10003154-1740907800-1740911400@camdenucc.org
SUMMARY:Sunday Worship & Communion\, Rev. Ben Perry
DESCRIPTION:
URL:https://camdenucc.org/event/sunday-worship-2/
LOCATION:Hybrid: Online by Zoom and in Sanctuary
CATEGORIES:Worship
END:VEVENT
BEGIN:VEVENT
DTSTART;TZID=America/New_York:20250223T093000
DTEND;TZID=America/New_York:20250223T103000
DTSTAMP:20260424T224759
CREATED:20250204T162348Z
LAST-MODIFIED:20250204T162447Z
UID:10003153-1740303000-1740306600@camdenucc.org
SUMMARY:Sunday Worship
DESCRIPTION:
URL:https://camdenucc.org/event/sunday-worship/2025-02-23/
LOCATION:Hybrid: Online by Zoom and in Sanctuary
CATEGORIES:Worship
END:VEVENT
BEGIN:VEVENT
DTSTART;TZID=America/New_York:20250218T160000
DTEND;TZID=America/New_York:20250218T183000
DTSTAMP:20260424T224759
CREATED:20250204T160936Z
LAST-MODIFIED:20250204T160936Z
UID:10003141-1739894400-1739903400@camdenucc.org
SUMMARY:Cabinet
DESCRIPTION:
URL:https://camdenucc.org/event/cabinet/
LOCATION:Hybrid: Online by Zoom and in Sanctuary
CATEGORIES:Church Meetings
END:VEVENT
BEGIN:VEVENT
DTSTART;TZID=America/New_York:20250218T121500
DTEND;TZID=America/New_York:20250218T133000
DTSTAMP:20260424T224759
CREATED:20250204T161749Z
LAST-MODIFIED:20250204T161749Z
UID:10003148-1739880900-1739885400@camdenucc.org
SUMMARY:Membership
DESCRIPTION:
URL:https://camdenucc.org/event/membership/
LOCATION:Hybrid: Online by Zoom and in Sanctuary
CATEGORIES:Church Meetings
END:VEVENT
BEGIN:VEVENT
DTSTART;TZID=America/New_York:20250216T093000
DTEND;TZID=America/New_York:20250216T103000
DTSTAMP:20260424T224759
CREATED:20250204T162348Z
LAST-MODIFIED:20250204T162447Z
UID:10003412-1739698200-1739701800@camdenucc.org
SUMMARY:Sunday Worship
DESCRIPTION:
URL:https://camdenucc.org/event/sunday-worship/2025-02-16/
LOCATION:Hybrid: Online by Zoom and in Sanctuary
CATEGORIES:Worship
END:VEVENT
BEGIN:VEVENT
DTSTART;TZID=America/New_York:20250212T080000
DTEND;TZID=America/New_York:20250212T083000
DTSTAMP:20260424T224759
CREATED:20250204T161627Z
LAST-MODIFIED:20250204T161627Z
UID:10003147-1739347200-1739349000@camdenucc.org
SUMMARY:Loving Kindness Meditation~Ute
DESCRIPTION:
URL:https://camdenucc.org/event/loving-kindness-meditationute/
LOCATION:Hybrid: Online by Zoom and in Sanctuary
CATEGORIES:Meditation
END:VEVENT
BEGIN:VEVENT
DTSTART;TZID=America/New_York:20250211T170000
DTEND;TZID=America/New_York:20250211T183000
DTSTAMP:20260424T224759
CREATED:20250204T161413Z
LAST-MODIFIED:20250204T161413Z
UID:10003145-1739293200-1739298600@camdenucc.org
SUMMARY:Creation Care
DESCRIPTION:
URL:https://camdenucc.org/event/creation-care/
LOCATION:Hybrid: Online by Zoom and in Sanctuary
CATEGORIES:Church Meetings
END:VEVENT
BEGIN:VEVENT
DTSTART;TZID=America/New_York:20250209T080000
DTEND;TZID=America/New_York:20250209T170000
DTSTAMP:20260424T224759
CREATED:20250204T162227Z
LAST-MODIFIED:20250204T162227Z
UID:10003152-1739088000-1739120400@camdenucc.org
SUMMARY:Scout Sunday
DESCRIPTION:
URL:https://camdenucc.org/event/scout-sunday/
LOCATION:Hybrid: Online by Zoom and in Sanctuary
CATEGORIES:Worship
END:VEVENT
BEGIN:VEVENT
DTSTART;TZID=America/New_York:20250202T093000
DTEND;TZID=America/New_York:20250202T103000
DTSTAMP:20260424T224759
CREATED:20250204T162105Z
LAST-MODIFIED:20250204T162105Z
UID:10003151-1738488600-1738492200@camdenucc.org
SUMMARY:Worship & Communion
DESCRIPTION:
URL:https://camdenucc.org/event/worship-communion/
LOCATION:Hybrid: Online by Zoom and in Sanctuary
CATEGORIES:Worship
END:VEVENT
END:VCALENDAR