BEGIN:VCALENDAR
VERSION:2.0
PRODID:-//First Congregational Church of Camden, Maine - ECPv6.15.20//NONSGML v1.0//EN
CALSCALE:GREGORIAN
METHOD:PUBLISH
X-ORIGINAL-URL:https://camdenucc.org
X-WR-CALDESC:Events for First Congregational Church of Camden, Maine
REFRESH-INTERVAL;VALUE=DURATION:PT1H
X-Robots-Tag:noindex
X-PUBLISHED-TTL:PT1H
BEGIN:VTIMEZONE
TZID:America/New_York
BEGIN:DAYLIGHT
TZOFFSETFROM:-0500
TZOFFSETTO:-0400
TZNAME:EDT
DTSTART:20260308T070000
END:DAYLIGHT
BEGIN:STANDARD
TZOFFSETFROM:-0400
TZOFFSETTO:-0500
TZNAME:EST
DTSTART:20261101T060000
END:STANDARD
BEGIN:DAYLIGHT
TZOFFSETFROM:-0500
TZOFFSETTO:-0400
TZNAME:EDT
DTSTART:20270314T070000
END:DAYLIGHT
BEGIN:STANDARD
TZOFFSETFROM:-0400
TZOFFSETTO:-0500
TZNAME:EST
DTSTART:20271107T060000
END:STANDARD
BEGIN:DAYLIGHT
TZOFFSETFROM:-0500
TZOFFSETTO:-0400
TZNAME:EDT
DTSTART:20280312T070000
END:DAYLIGHT
BEGIN:STANDARD
TZOFFSETFROM:-0400
TZOFFSETTO:-0500
TZNAME:EST
DTSTART:20281105T060000
END:STANDARD
BEGIN:DAYLIGHT
TZOFFSETFROM:-0500
TZOFFSETTO:-0400
TZNAME:EDT
DTSTART:20290311T070000
END:DAYLIGHT
BEGIN:STANDARD
TZOFFSETFROM:-0400
TZOFFSETTO:-0500
TZNAME:EST
DTSTART:20291104T060000
END:STANDARD
END:VTIMEZONE
BEGIN:VEVENT
DTSTART;TZID=America/New_York:20271114T093000
DTEND;TZID=America/New_York:20271114T103000
DTSTAMP:20260425T123019
CREATED:20250204T162348Z
LAST-MODIFIED:20250204T162447Z
UID:10003295-1826184600-1826188200@camdenucc.org
SUMMARY:Sunday Worship
DESCRIPTION:
URL:https://camdenucc.org/event/sunday-worship/2027-11-14/
LOCATION:Hybrid: Online by Zoom and in Sanctuary
CATEGORIES:Worship
END:VEVENT
BEGIN:VEVENT
DTSTART;TZID=America/New_York:20271121T093000
DTEND;TZID=America/New_York:20271121T103000
DTSTAMP:20260425T123019
CREATED:20250204T162348Z
LAST-MODIFIED:20250204T162447Z
UID:10003296-1826789400-1826793000@camdenucc.org
SUMMARY:Sunday Worship
DESCRIPTION:
URL:https://camdenucc.org/event/sunday-worship/2027-11-21/
LOCATION:Hybrid: Online by Zoom and in Sanctuary
CATEGORIES:Worship
END:VEVENT
BEGIN:VEVENT
DTSTART;TZID=America/New_York:20271128T093000
DTEND;TZID=America/New_York:20271128T103000
DTSTAMP:20260425T123019
CREATED:20250204T162348Z
LAST-MODIFIED:20250204T162447Z
UID:10003297-1827394200-1827397800@camdenucc.org
SUMMARY:Sunday Worship
DESCRIPTION:
URL:https://camdenucc.org/event/sunday-worship/2027-11-28/
LOCATION:Hybrid: Online by Zoom and in Sanctuary
CATEGORIES:Worship
END:VEVENT
BEGIN:VEVENT
DTSTART;TZID=America/New_York:20271205T093000
DTEND;TZID=America/New_York:20271205T103000
DTSTAMP:20260425T123019
CREATED:20250204T162348Z
LAST-MODIFIED:20250204T162447Z
UID:10003298-1827999000-1828002600@camdenucc.org
SUMMARY:Sunday Worship
DESCRIPTION:
URL:https://camdenucc.org/event/sunday-worship/2027-12-05/
LOCATION:Hybrid: Online by Zoom and in Sanctuary
CATEGORIES:Worship
END:VEVENT
BEGIN:VEVENT
DTSTART;TZID=America/New_York:20271212T093000
DTEND;TZID=America/New_York:20271212T103000
DTSTAMP:20260425T123019
CREATED:20250204T162348Z
LAST-MODIFIED:20250204T162447Z
UID:10003299-1828603800-1828607400@camdenucc.org
SUMMARY:Sunday Worship
DESCRIPTION:
URL:https://camdenucc.org/event/sunday-worship/2027-12-12/
LOCATION:Hybrid: Online by Zoom and in Sanctuary
CATEGORIES:Worship
END:VEVENT
BEGIN:VEVENT
DTSTART;TZID=America/New_York:20271219T093000
DTEND;TZID=America/New_York:20271219T103000
DTSTAMP:20260425T123019
CREATED:20250204T162348Z
LAST-MODIFIED:20250204T162447Z
UID:10003300-1829208600-1829212200@camdenucc.org
SUMMARY:Sunday Worship
DESCRIPTION:
URL:https://camdenucc.org/event/sunday-worship/2027-12-19/
LOCATION:Hybrid: Online by Zoom and in Sanctuary
CATEGORIES:Worship
END:VEVENT
BEGIN:VEVENT
DTSTART;TZID=America/New_York:20271226T093000
DTEND;TZID=America/New_York:20271226T103000
DTSTAMP:20260425T123019
CREATED:20250204T162348Z
LAST-MODIFIED:20250204T162447Z
UID:10003301-1829813400-1829817000@camdenucc.org
SUMMARY:Sunday Worship
DESCRIPTION:
URL:https://camdenucc.org/event/sunday-worship/2027-12-26/
LOCATION:Hybrid: Online by Zoom and in Sanctuary
CATEGORIES:Worship
END:VEVENT
BEGIN:VEVENT
DTSTART;TZID=America/New_York:20280102T093000
DTEND;TZID=America/New_York:20280102T103000
DTSTAMP:20260425T123019
CREATED:20250204T162348Z
LAST-MODIFIED:20250204T162447Z
UID:10003302-1830418200-1830421800@camdenucc.org
SUMMARY:Sunday Worship
DESCRIPTION:
URL:https://camdenucc.org/event/sunday-worship/2028-01-02/
LOCATION:Hybrid: Online by Zoom and in Sanctuary
CATEGORIES:Worship
END:VEVENT
BEGIN:VEVENT
DTSTART;TZID=America/New_York:20280109T093000
DTEND;TZID=America/New_York:20280109T103000
DTSTAMP:20260425T123019
CREATED:20250204T162348Z
LAST-MODIFIED:20250204T162447Z
UID:10003303-1831023000-1831026600@camdenucc.org
SUMMARY:Sunday Worship
DESCRIPTION:
URL:https://camdenucc.org/event/sunday-worship/2028-01-09/
LOCATION:Hybrid: Online by Zoom and in Sanctuary
CATEGORIES:Worship
END:VEVENT
BEGIN:VEVENT
DTSTART;TZID=America/New_York:20280116T093000
DTEND;TZID=America/New_York:20280116T103000
DTSTAMP:20260425T123019
CREATED:20250204T162348Z
LAST-MODIFIED:20250204T162447Z
UID:10003304-1831627800-1831631400@camdenucc.org
SUMMARY:Sunday Worship
DESCRIPTION:
URL:https://camdenucc.org/event/sunday-worship/2028-01-16/
LOCATION:Hybrid: Online by Zoom and in Sanctuary
CATEGORIES:Worship
END:VEVENT
BEGIN:VEVENT
DTSTART;TZID=America/New_York:20280123T093000
DTEND;TZID=America/New_York:20280123T103000
DTSTAMP:20260425T123019
CREATED:20250204T162348Z
LAST-MODIFIED:20250204T162447Z
UID:10003305-1832232600-1832236200@camdenucc.org
SUMMARY:Sunday Worship
DESCRIPTION:
URL:https://camdenucc.org/event/sunday-worship/2028-01-23/
LOCATION:Hybrid: Online by Zoom and in Sanctuary
CATEGORIES:Worship
END:VEVENT
BEGIN:VEVENT
DTSTART;TZID=America/New_York:20280130T093000
DTEND;TZID=America/New_York:20280130T103000
DTSTAMP:20260425T123019
CREATED:20250204T162348Z
LAST-MODIFIED:20250204T162447Z
UID:10003306-1832837400-1832841000@camdenucc.org
SUMMARY:Sunday Worship
DESCRIPTION:
URL:https://camdenucc.org/event/sunday-worship/2028-01-30/
LOCATION:Hybrid: Online by Zoom and in Sanctuary
CATEGORIES:Worship
END:VEVENT
BEGIN:VEVENT
DTSTART;TZID=America/New_York:20280206T093000
DTEND;TZID=America/New_York:20280206T103000
DTSTAMP:20260425T123019
CREATED:20250204T162348Z
LAST-MODIFIED:20250204T162447Z
UID:10003307-1833442200-1833445800@camdenucc.org
SUMMARY:Sunday Worship
DESCRIPTION:
URL:https://camdenucc.org/event/sunday-worship/2028-02-06/
LOCATION:Hybrid: Online by Zoom and in Sanctuary
CATEGORIES:Worship
END:VEVENT
BEGIN:VEVENT
DTSTART;TZID=America/New_York:20280213T093000
DTEND;TZID=America/New_York:20280213T103000
DTSTAMP:20260425T123019
CREATED:20250204T162348Z
LAST-MODIFIED:20250204T162447Z
UID:10003308-1834047000-1834050600@camdenucc.org
SUMMARY:Sunday Worship
DESCRIPTION:
URL:https://camdenucc.org/event/sunday-worship/2028-02-13/
LOCATION:Hybrid: Online by Zoom and in Sanctuary
CATEGORIES:Worship
END:VEVENT
BEGIN:VEVENT
DTSTART;TZID=America/New_York:20280220T093000
DTEND;TZID=America/New_York:20280220T103000
DTSTAMP:20260425T123019
CREATED:20250204T162348Z
LAST-MODIFIED:20250204T162447Z
UID:10003309-1834651800-1834655400@camdenucc.org
SUMMARY:Sunday Worship
DESCRIPTION:
URL:https://camdenucc.org/event/sunday-worship/2028-02-20/
LOCATION:Hybrid: Online by Zoom and in Sanctuary
CATEGORIES:Worship
END:VEVENT
BEGIN:VEVENT
DTSTART;TZID=America/New_York:20280227T093000
DTEND;TZID=America/New_York:20280227T103000
DTSTAMP:20260425T123019
CREATED:20250204T162348Z
LAST-MODIFIED:20250204T162447Z
UID:10003310-1835256600-1835260200@camdenucc.org
SUMMARY:Sunday Worship
DESCRIPTION:
URL:https://camdenucc.org/event/sunday-worship/2028-02-27/
LOCATION:Hybrid: Online by Zoom and in Sanctuary
CATEGORIES:Worship
END:VEVENT
BEGIN:VEVENT
DTSTART;TZID=America/New_York:20280305T093000
DTEND;TZID=America/New_York:20280305T103000
DTSTAMP:20260425T123019
CREATED:20250204T162348Z
LAST-MODIFIED:20250204T162447Z
UID:10003311-1835861400-1835865000@camdenucc.org
SUMMARY:Sunday Worship
DESCRIPTION:
URL:https://camdenucc.org/event/sunday-worship/2028-03-05/
LOCATION:Hybrid: Online by Zoom and in Sanctuary
CATEGORIES:Worship
END:VEVENT
BEGIN:VEVENT
DTSTART;TZID=America/New_York:20280312T093000
DTEND;TZID=America/New_York:20280312T103000
DTSTAMP:20260425T123019
CREATED:20250204T162348Z
LAST-MODIFIED:20250204T162447Z
UID:10003312-1836466200-1836469800@camdenucc.org
SUMMARY:Sunday Worship
DESCRIPTION:
URL:https://camdenucc.org/event/sunday-worship/2028-03-12/
LOCATION:Hybrid: Online by Zoom and in Sanctuary
CATEGORIES:Worship
END:VEVENT
BEGIN:VEVENT
DTSTART;TZID=America/New_York:20280319T093000
DTEND;TZID=America/New_York:20280319T103000
DTSTAMP:20260425T123019
CREATED:20250204T162348Z
LAST-MODIFIED:20250204T162447Z
UID:10003313-1837071000-1837074600@camdenucc.org
SUMMARY:Sunday Worship
DESCRIPTION:
URL:https://camdenucc.org/event/sunday-worship/2028-03-19/
LOCATION:Hybrid: Online by Zoom and in Sanctuary
CATEGORIES:Worship
END:VEVENT
BEGIN:VEVENT
DTSTART;TZID=America/New_York:20280326T093000
DTEND;TZID=America/New_York:20280326T103000
DTSTAMP:20260425T123019
CREATED:20250204T162348Z
LAST-MODIFIED:20250204T162447Z
UID:10003314-1837675800-1837679400@camdenucc.org
SUMMARY:Sunday Worship
DESCRIPTION:
URL:https://camdenucc.org/event/sunday-worship/2028-03-26/
LOCATION:Hybrid: Online by Zoom and in Sanctuary
CATEGORIES:Worship
END:VEVENT
BEGIN:VEVENT
DTSTART;TZID=America/New_York:20280402T093000
DTEND;TZID=America/New_York:20280402T103000
DTSTAMP:20260425T123019
CREATED:20250204T162348Z
LAST-MODIFIED:20250204T162447Z
UID:10003315-1838280600-1838284200@camdenucc.org
SUMMARY:Sunday Worship
DESCRIPTION:
URL:https://camdenucc.org/event/sunday-worship/2028-04-02/
LOCATION:Hybrid: Online by Zoom and in Sanctuary
CATEGORIES:Worship
END:VEVENT
BEGIN:VEVENT
DTSTART;TZID=America/New_York:20280409T093000
DTEND;TZID=America/New_York:20280409T103000
DTSTAMP:20260425T123019
CREATED:20250204T162348Z
LAST-MODIFIED:20250204T162447Z
UID:10003316-1838885400-1838889000@camdenucc.org
SUMMARY:Sunday Worship
DESCRIPTION:
URL:https://camdenucc.org/event/sunday-worship/2028-04-09/
LOCATION:Hybrid: Online by Zoom and in Sanctuary
CATEGORIES:Worship
END:VEVENT
BEGIN:VEVENT
DTSTART;TZID=America/New_York:20280416T093000
DTEND;TZID=America/New_York:20280416T103000
DTSTAMP:20260425T123019
CREATED:20250204T162348Z
LAST-MODIFIED:20250204T162447Z
UID:10003317-1839490200-1839493800@camdenucc.org
SUMMARY:Sunday Worship
DESCRIPTION:
URL:https://camdenucc.org/event/sunday-worship/2028-04-16/
LOCATION:Hybrid: Online by Zoom and in Sanctuary
CATEGORIES:Worship
END:VEVENT
BEGIN:VEVENT
DTSTART;TZID=America/New_York:20280423T093000
DTEND;TZID=America/New_York:20280423T103000
DTSTAMP:20260425T123019
CREATED:20250204T162348Z
LAST-MODIFIED:20250204T162447Z
UID:10003318-1840095000-1840098600@camdenucc.org
SUMMARY:Sunday Worship
DESCRIPTION:
URL:https://camdenucc.org/event/sunday-worship/2028-04-23/
LOCATION:Hybrid: Online by Zoom and in Sanctuary
CATEGORIES:Worship
END:VEVENT
BEGIN:VEVENT
DTSTART;TZID=America/New_York:20280430T093000
DTEND;TZID=America/New_York:20280430T103000
DTSTAMP:20260425T123019
CREATED:20250204T162348Z
LAST-MODIFIED:20250204T162447Z
UID:10003319-1840699800-1840703400@camdenucc.org
SUMMARY:Sunday Worship
DESCRIPTION:
URL:https://camdenucc.org/event/sunday-worship/2028-04-30/
LOCATION:Hybrid: Online by Zoom and in Sanctuary
CATEGORIES:Worship
END:VEVENT
BEGIN:VEVENT
DTSTART;TZID=America/New_York:20280507T093000
DTEND;TZID=America/New_York:20280507T103000
DTSTAMP:20260425T123019
CREATED:20250204T162348Z
LAST-MODIFIED:20250204T162447Z
UID:10003320-1841304600-1841308200@camdenucc.org
SUMMARY:Sunday Worship
DESCRIPTION:
URL:https://camdenucc.org/event/sunday-worship/2028-05-07/
LOCATION:Hybrid: Online by Zoom and in Sanctuary
CATEGORIES:Worship
END:VEVENT
BEGIN:VEVENT
DTSTART;TZID=America/New_York:20280514T093000
DTEND;TZID=America/New_York:20280514T103000
DTSTAMP:20260425T123019
CREATED:20250204T162348Z
LAST-MODIFIED:20250204T162447Z
UID:10003321-1841909400-1841913000@camdenucc.org
SUMMARY:Sunday Worship
DESCRIPTION:
URL:https://camdenucc.org/event/sunday-worship/2028-05-14/
LOCATION:Hybrid: Online by Zoom and in Sanctuary
CATEGORIES:Worship
END:VEVENT
BEGIN:VEVENT
DTSTART;TZID=America/New_York:20280521T093000
DTEND;TZID=America/New_York:20280521T103000
DTSTAMP:20260425T123019
CREATED:20250204T162348Z
LAST-MODIFIED:20250204T162447Z
UID:10003322-1842514200-1842517800@camdenucc.org
SUMMARY:Sunday Worship
DESCRIPTION:
URL:https://camdenucc.org/event/sunday-worship/2028-05-21/
LOCATION:Hybrid: Online by Zoom and in Sanctuary
CATEGORIES:Worship
END:VEVENT
BEGIN:VEVENT
DTSTART;TZID=America/New_York:20280528T093000
DTEND;TZID=America/New_York:20280528T103000
DTSTAMP:20260425T123019
CREATED:20250204T162348Z
LAST-MODIFIED:20250204T162447Z
UID:10003323-1843119000-1843122600@camdenucc.org
SUMMARY:Sunday Worship
DESCRIPTION:
URL:https://camdenucc.org/event/sunday-worship/2028-05-28/
LOCATION:Hybrid: Online by Zoom and in Sanctuary
CATEGORIES:Worship
END:VEVENT
BEGIN:VEVENT
DTSTART;TZID=America/New_York:20280604T093000
DTEND;TZID=America/New_York:20280604T103000
DTSTAMP:20260425T123019
CREATED:20250204T162348Z
LAST-MODIFIED:20250204T162447Z
UID:10003324-1843723800-1843727400@camdenucc.org
SUMMARY:Sunday Worship
DESCRIPTION:
URL:https://camdenucc.org/event/sunday-worship/2028-06-04/
LOCATION:Hybrid: Online by Zoom and in Sanctuary
CATEGORIES:Worship
END:VEVENT
END:VCALENDAR