BEGIN:VCALENDAR
VERSION:2.0
PRODID:-//First Congregational Church of Camden, Maine - ECPv6.15.20//NONSGML v1.0//EN
CALSCALE:GREGORIAN
METHOD:PUBLISH
X-ORIGINAL-URL:https://camdenucc.org
X-WR-CALDESC:Events for First Congregational Church of Camden, Maine
REFRESH-INTERVAL;VALUE=DURATION:PT1H
X-Robots-Tag:noindex
X-PUBLISHED-TTL:PT1H
BEGIN:VTIMEZONE
TZID:America/New_York
BEGIN:DAYLIGHT
TZOFFSETFROM:-0500
TZOFFSETTO:-0400
TZNAME:EDT
DTSTART:20250309T070000
END:DAYLIGHT
BEGIN:STANDARD
TZOFFSETFROM:-0400
TZOFFSETTO:-0500
TZNAME:EST
DTSTART:20251102T060000
END:STANDARD
BEGIN:DAYLIGHT
TZOFFSETFROM:-0500
TZOFFSETTO:-0400
TZNAME:EDT
DTSTART:20260308T070000
END:DAYLIGHT
BEGIN:STANDARD
TZOFFSETFROM:-0400
TZOFFSETTO:-0500
TZNAME:EST
DTSTART:20261101T060000
END:STANDARD
BEGIN:DAYLIGHT
TZOFFSETFROM:-0500
TZOFFSETTO:-0400
TZNAME:EDT
DTSTART:20270314T070000
END:DAYLIGHT
BEGIN:STANDARD
TZOFFSETFROM:-0400
TZOFFSETTO:-0500
TZNAME:EST
DTSTART:20271107T060000
END:STANDARD
END:VTIMEZONE
BEGIN:VEVENT
DTSTART;TZID=America/New_York:20260317T160000
DTEND;TZID=America/New_York:20260317T171500
DTSTAMP:20260425T084523
CREATED:20260205T143342Z
LAST-MODIFIED:20260312T174226Z
UID:10003919-1773763200-1773767700@camdenucc.org
SUMMARY:Bible Study on Gospel of Mark
DESCRIPTION:
URL:https://camdenucc.org/event/bible-study-on-gospel-of-mark/2026-03-17/
LOCATION:In person\, Pilgrim Room\, 55 Elm Street\, Camden\, 04843\, United States
CATEGORIES:Adult Education
END:VEVENT
BEGIN:VEVENT
DTSTART;TZID=America/New_York:20260317T173000
DTEND;TZID=America/New_York:20260317T190000
DTSTAMP:20260425T084523
CREATED:20260302T200735Z
LAST-MODIFIED:20260302T200735Z
UID:10004115-1773768600-1773774000@camdenucc.org
SUMMARY:Trustees  (note day/time)
DESCRIPTION:
URL:https://camdenucc.org/event/trustees-note-day-time/
LOCATION:Hybrid: Zoom and in person\, Conference Room\, 55 Elm Street\, Camden\, 04843\, United States
CATEGORIES:Church Meetings
END:VEVENT
BEGIN:VEVENT
DTSTART;TZID=America/New_York:20260318T093000
DTEND;TZID=America/New_York:20260318T100000
DTSTAMP:20260425T084523
CREATED:20250716T143056Z
LAST-MODIFIED:20250716T143056Z
UID:10003696-1773826200-1773828000@camdenucc.org
SUMMARY:Staff Meeting
DESCRIPTION:
URL:https://camdenucc.org/event/staff-meeting/2026-03-18/
LOCATION:Hybrid: Zoom and in person\, Conference Room\, 55 Elm Street\, Camden\, 04843\, United States
CATEGORIES:Church Meetings
END:VEVENT
BEGIN:VEVENT
DTSTART;TZID=America/New_York:20260318T180000
DTEND;TZID=America/New_York:20260318T193000
DTSTAMP:20260425T084523
CREATED:20260205T144038Z
LAST-MODIFIED:20260205T144911Z
UID:10003979-1773856800-1773862200@camdenucc.org
SUMMARY:Life After Doom: Book Discussion with David Wood
DESCRIPTION:
URL:https://camdenucc.org/event/life-after-doom-book-discussion-with-david-wood/2026-03-18/
LOCATION:In person\, Pilgrim Room\, 55 Elm Street\, Camden\, 04843\, United States
CATEGORIES:Adult Education
END:VEVENT
BEGIN:VEVENT
DTSTART;TZID=America/New_York:20260319T090000
DTEND;TZID=America/New_York:20260319T110000
DTSTAMP:20260425T084523
CREATED:20260312T172855Z
LAST-MODIFIED:20260312T172855Z
UID:10004116-1773910800-1773918000@camdenucc.org
SUMMARY:Outreach
DESCRIPTION:
URL:https://camdenucc.org/event/outreach-11/
LOCATION:In person\, Conference Room\, 55 Elm Street\, Camden\, 04843\, United States
CATEGORIES:Church Meetings
END:VEVENT
BEGIN:VEVENT
DTSTART;TZID=America/New_York:20260320T120000
DTEND;TZID=America/New_York:20260320T130000
DTSTAMP:20260425T084523
CREATED:20251020T184158Z
LAST-MODIFIED:20251020T184158Z
UID:10003833-1774008000-1774011600@camdenucc.org
SUMMARY:Cake & Community~Noon Meal for all
DESCRIPTION:
URL:https://camdenucc.org/event/cake-communitynoon-meal-for-all/2026-03-20/
CATEGORIES:Meals
END:VEVENT
BEGIN:VEVENT
DTSTART;TZID=America/New_York:20260322T093000
DTEND;TZID=America/New_York:20260322T103000
DTSTAMP:20260425T084523
CREATED:20250204T162348Z
LAST-MODIFIED:20250204T162447Z
UID:10003209-1774171800-1774175400@camdenucc.org
SUMMARY:Sunday Worship
DESCRIPTION:
URL:https://camdenucc.org/event/sunday-worship/2026-03-22/
LOCATION:Hybrid: Online by Zoom and in Sanctuary
CATEGORIES:Worship
END:VEVENT
BEGIN:VEVENT
DTSTART;TZID=America/New_York:20260323T163000
DTEND;TZID=America/New_York:20260323T170000
DTSTAMP:20260425T084523
CREATED:20260113T145726Z
LAST-MODIFIED:20260113T145726Z
UID:10003896-1774283400-1774285200@camdenucc.org
SUMMARY:Choral Bells Rehearsal
DESCRIPTION:
URL:https://camdenucc.org/event/choral-bells-rehearsal/2026-03-23/
LOCATION:In person\, Sanctuary\, 55 Elm Street\, Camden\, 04843\, United States
CATEGORIES:Rehearsals
END:VEVENT
BEGIN:VEVENT
DTSTART;TZID=America/New_York:20260323T170000
DTEND;TZID=America/New_York:20260323T203000
DTSTAMP:20260425T084523
CREATED:20250806T155634Z
LAST-MODIFIED:20250806T155634Z
UID:10003761-1774285200-1774297800@camdenucc.org
SUMMARY:Midcoast Community Chorus Rehearsal
DESCRIPTION:
URL:https://camdenucc.org/event/midcoast-community-chorus-rehearsal/2026-03-23/
LOCATION:In person\, First Congregational UCC\, 55 Elm Street\, Camden\, ME\, 04843
CATEGORIES:Rehearsals,Rentals
END:VEVENT
BEGIN:VEVENT
DTSTART;TZID=America/New_York:20260324T080000
DTEND;TZID=America/New_York:20260324T170000
DTSTAMP:20260425T084523
CREATED:20250716T145303Z
LAST-MODIFIED:20250716T145303Z
UID:10003723-1774339200-1774371600@camdenucc.org
SUMMARY:Deadline for BEACON articles
DESCRIPTION:
URL:https://camdenucc.org/event/deadline-for-beacon-articles/2026-03-24/
CATEGORIES:Special Events/Services
END:VEVENT
BEGIN:VEVENT
DTSTART;TZID=America/New_York:20260324T160000
DTEND;TZID=America/New_York:20260324T171500
DTSTAMP:20260425T084523
CREATED:20260205T143342Z
LAST-MODIFIED:20260312T174226Z
UID:10003920-1774368000-1774372500@camdenucc.org
SUMMARY:Bible Study on Gospel of Mark
DESCRIPTION:
URL:https://camdenucc.org/event/bible-study-on-gospel-of-mark/2026-03-24/
LOCATION:In person\, Pilgrim Room\, 55 Elm Street\, Camden\, 04843\, United States
CATEGORIES:Adult Education
END:VEVENT
BEGIN:VEVENT
DTSTART;TZID=America/New_York:20260324T170000
DTEND;TZID=America/New_York:20260324T183000
DTSTAMP:20260425T084523
CREATED:20260209T154627Z
LAST-MODIFIED:20260209T154627Z
UID:10004102-1774371600-1774377000@camdenucc.org
SUMMARY:Cabinet
DESCRIPTION:
URL:https://camdenucc.org/event/cabinet-11/
LOCATION:Hybrid: Zoom and in person\, Conference Room\, 55 Elm Street\, Camden\, 04843\, United States
CATEGORIES:Church Meetings
END:VEVENT
BEGIN:VEVENT
DTSTART;TZID=America/New_York:20260325T093000
DTEND;TZID=America/New_York:20260325T100000
DTSTAMP:20260425T084523
CREATED:20250716T143056Z
LAST-MODIFIED:20250716T143056Z
UID:10003697-1774431000-1774432800@camdenucc.org
SUMMARY:Staff Meeting
DESCRIPTION:
URL:https://camdenucc.org/event/staff-meeting/2026-03-25/
LOCATION:Hybrid: Zoom and in person\, Conference Room\, 55 Elm Street\, Camden\, 04843\, United States
CATEGORIES:Church Meetings
END:VEVENT
BEGIN:VEVENT
DTSTART;TZID=America/New_York:20260325T180000
DTEND;TZID=America/New_York:20260325T193000
DTSTAMP:20260425T084523
CREATED:20260205T144038Z
LAST-MODIFIED:20260205T144911Z
UID:10003980-1774461600-1774467000@camdenucc.org
SUMMARY:Life After Doom: Book Discussion with David Wood
DESCRIPTION:
URL:https://camdenucc.org/event/life-after-doom-book-discussion-with-david-wood/2026-03-25/
LOCATION:In person\, Pilgrim Room\, 55 Elm Street\, Camden\, 04843\, United States
CATEGORIES:Adult Education
END:VEVENT
BEGIN:VEVENT
DTSTART;TZID=America/New_York:20260327T120000
DTEND;TZID=America/New_York:20260327T130000
DTSTAMP:20260425T084523
CREATED:20251020T184158Z
LAST-MODIFIED:20251020T184158Z
UID:10003834-1774612800-1774616400@camdenucc.org
SUMMARY:Cake & Community~Noon Meal for all
DESCRIPTION:
URL:https://camdenucc.org/event/cake-communitynoon-meal-for-all/2026-03-27/
CATEGORIES:Meals
END:VEVENT
BEGIN:VEVENT
DTSTART;TZID=America/New_York:20260329T093000
DTEND;TZID=America/New_York:20260329T103000
DTSTAMP:20260425T084523
CREATED:20250204T162348Z
LAST-MODIFIED:20250204T162447Z
UID:10003210-1774776600-1774780200@camdenucc.org
SUMMARY:Sunday Worship
DESCRIPTION:
URL:https://camdenucc.org/event/sunday-worship/2026-03-29/
LOCATION:Hybrid: Online by Zoom and in Sanctuary
CATEGORIES:Worship
END:VEVENT
BEGIN:VEVENT
DTSTART;TZID=America/New_York:20260330T163000
DTEND;TZID=America/New_York:20260330T170000
DTSTAMP:20260425T084523
CREATED:20260113T145939Z
LAST-MODIFIED:20260113T145939Z
UID:10003900-1774888200-1774890000@camdenucc.org
SUMMARY:Choir Rehearsal
DESCRIPTION:
URL:https://camdenucc.org/event/choir-rehearsal/2026-03-30/
LOCATION:In person\, Sanctuary\, 55 Elm Street\, Camden\, 04843\, United States
CATEGORIES:Rehearsals
END:VEVENT
BEGIN:VEVENT
DTSTART;TZID=America/New_York:20260330T170000
DTEND;TZID=America/New_York:20260330T203000
DTSTAMP:20260425T084523
CREATED:20250806T155634Z
LAST-MODIFIED:20250806T155634Z
UID:10003762-1774890000-1774902600@camdenucc.org
SUMMARY:Midcoast Community Chorus Rehearsal
DESCRIPTION:
URL:https://camdenucc.org/event/midcoast-community-chorus-rehearsal/2026-03-30/
LOCATION:In person\, First Congregational UCC\, 55 Elm Street\, Camden\, ME\, 04843
CATEGORIES:Rehearsals,Rentals
END:VEVENT
BEGIN:VEVENT
DTSTART;TZID=America/New_York:20260331T160000
DTEND;TZID=America/New_York:20260331T171500
DTSTAMP:20260425T084523
CREATED:20260205T143342Z
LAST-MODIFIED:20260312T174226Z
UID:10003921-1774972800-1774977300@camdenucc.org
SUMMARY:Bible Study on Gospel of Mark
DESCRIPTION:
URL:https://camdenucc.org/event/bible-study-on-gospel-of-mark/2026-03-31/
LOCATION:In person\, Pilgrim Room\, 55 Elm Street\, Camden\, 04843\, United States
CATEGORIES:Adult Education
END:VEVENT
BEGIN:VEVENT
DTSTART;TZID=America/New_York:20260401T093000
DTEND;TZID=America/New_York:20260401T100000
DTSTAMP:20260425T084523
CREATED:20250716T143056Z
LAST-MODIFIED:20250716T143056Z
UID:10003698-1775035800-1775037600@camdenucc.org
SUMMARY:Staff Meeting
DESCRIPTION:
URL:https://camdenucc.org/event/staff-meeting/2026-04-01/
LOCATION:Hybrid: Zoom and in person\, Conference Room\, 55 Elm Street\, Camden\, 04843\, United States
CATEGORIES:Church Meetings
END:VEVENT
BEGIN:VEVENT
DTSTART;TZID=America/New_York:20260402T180000
DTEND;TZID=America/New_York:20260402T193000
DTSTAMP:20260425T084523
CREATED:20260312T173014Z
LAST-MODIFIED:20260312T173014Z
UID:10004117-1775152800-1775158200@camdenucc.org
SUMMARY:Maundy Thursday Meal & Service
DESCRIPTION:
URL:https://camdenucc.org/event/maundy-thursday-meal-service/
LOCATION:In person\, First Congregational UCC\, 55 Elm Street\, Camden\, ME\, 04843
CATEGORIES:Worship
END:VEVENT
BEGIN:VEVENT
DTSTART;TZID=America/New_York:20260403T120000
DTEND;TZID=America/New_York:20260403T130000
DTSTAMP:20260425T084523
CREATED:20260205T144341Z
LAST-MODIFIED:20260205T144341Z
UID:10004034-1775217600-1775221200@camdenucc.org
SUMMARY:Good Friday Camden Ecumenical Service
DESCRIPTION:
URL:https://camdenucc.org/event/good-friday-camden-ecumenical-service/
LOCATION:Chestnut St. Baptist Church\, 29 Chestnut St.\, Camden\, ME\, 04843\, United States
CATEGORIES:Worship
END:VEVENT
BEGIN:VEVENT
DTSTART;TZID=America/New_York:20260405T060000
DTEND;TZID=America/New_York:20260405T070000
DTSTAMP:20260425T084523
CREATED:20260312T173349Z
LAST-MODIFIED:20260312T173349Z
UID:10004120-1775368800-1775372400@camdenucc.org
SUMMARY:Easter Sunrise Service
DESCRIPTION:
URL:https://camdenucc.org/event/easter-sunrise-service/
LOCATION:Camden Yacht Club\, 68 Bay View St.\, Camden\, ME\, 04843\, United States
CATEGORIES:Worship
END:VEVENT
BEGIN:VEVENT
DTSTART;TZID=America/New_York:20260405T093000
DTEND;TZID=America/New_York:20260405T103000
DTSTAMP:20260425T084523
CREATED:20260312T173540Z
LAST-MODIFIED:20260312T173541Z
UID:10003211-1775381400-1775385000@camdenucc.org
SUMMARY:Easter Sunday Worship & Communion
DESCRIPTION:
URL:https://camdenucc.org/event/sunday-worship-13/
LOCATION:Hybrid: Online by Zoom and in Sanctuary
CATEGORIES:Worship
END:VEVENT
BEGIN:VEVENT
DTSTART;TZID=America/New_York:20260406T080000
DTEND;TZID=America/New_York:20260406T170000
DTSTAMP:20260425T084523
CREATED:20260205T144515Z
LAST-MODIFIED:20260205T145200Z
UID:10004035-1775462400-1775494800@camdenucc.org
SUMMARY:Easter Monday Holiday
DESCRIPTION:
URL:https://camdenucc.org/event/easter-monday-holiday/
LOCATION:In person\, First Congregational UCC\, 55 Elm Street\, Camden\, ME\, 04843
CATEGORIES:Church Office Closed,Special Events/Holidays
END:VEVENT
BEGIN:VEVENT
DTSTART;TZID=America/New_York:20260406T170000
DTEND;TZID=America/New_York:20260406T203000
DTSTAMP:20260425T084523
CREATED:20250806T155634Z
LAST-MODIFIED:20250806T155634Z
UID:10003763-1775494800-1775507400@camdenucc.org
SUMMARY:Midcoast Community Chorus Rehearsal
DESCRIPTION:
URL:https://camdenucc.org/event/midcoast-community-chorus-rehearsal/2026-04-06/
LOCATION:In person\, First Congregational UCC\, 55 Elm Street\, Camden\, ME\, 04843
CATEGORIES:Rehearsals,Rentals
END:VEVENT
BEGIN:VEVENT
DTSTART;TZID=America/New_York:20260407T160000
DTEND;TZID=America/New_York:20260407T171500
DTSTAMP:20260425T084523
CREATED:20260205T143342Z
LAST-MODIFIED:20260312T174226Z
UID:10003922-1775577600-1775582100@camdenucc.org
SUMMARY:Bible Study on Gospel of Mark
DESCRIPTION:
URL:https://camdenucc.org/event/bible-study-on-gospel-of-mark/2026-04-07/
LOCATION:In person\, Pilgrim Room\, 55 Elm Street\, Camden\, 04843\, United States
CATEGORIES:Adult Education
END:VEVENT
BEGIN:VEVENT
DTSTART;TZID=America/New_York:20260408T093000
DTEND;TZID=America/New_York:20260408T100000
DTSTAMP:20260425T084523
CREATED:20250716T143056Z
LAST-MODIFIED:20250716T143056Z
UID:10003699-1775640600-1775642400@camdenucc.org
SUMMARY:Staff Meeting
DESCRIPTION:
URL:https://camdenucc.org/event/staff-meeting/2026-04-08/
LOCATION:Hybrid: Zoom and in person\, Conference Room\, 55 Elm Street\, Camden\, 04843\, United States
CATEGORIES:Church Meetings
END:VEVENT
BEGIN:VEVENT
DTSTART;TZID=America/New_York:20260409T130000
DTEND;TZID=America/New_York:20260409T153000
DTSTAMP:20260425T084523
CREATED:20260408T183915Z
LAST-MODIFIED:20260408T183915Z
UID:10004165-1775739600-1775748600@camdenucc.org
SUMMARY:Shields Fund
DESCRIPTION:
URL:https://camdenucc.org/event/shields-fund/
LOCATION:Hybrid: Zoom and in person\, Conference Room\, 55 Elm Street\, Camden\, 04843\, United States
CATEGORIES:Church Meetings
END:VEVENT
BEGIN:VEVENT
DTSTART;TZID=America/New_York:20260409T180000
DTEND;TZID=America/New_York:20260409T200000
DTSTAMP:20260425T084523
CREATED:20260407T150452Z
LAST-MODIFIED:20260407T150452Z
UID:10004151-1775757600-1775764800@camdenucc.org
SUMMARY:Goliath's Curse Book Discussion
DESCRIPTION:
URL:https://camdenucc.org/event/goliaths-curse-book-discussion/
LOCATION:In person\, Pilgrim Room\, 55 Elm Street\, Camden\, 04843\, United States
CATEGORIES:Adult Education
END:VEVENT
END:VCALENDAR