BEGIN:VCALENDAR
VERSION:2.0
PRODID:-//First Congregational Church of Camden, Maine - ECPv6.15.20//NONSGML v1.0//EN
CALSCALE:GREGORIAN
METHOD:PUBLISH
X-WR-CALNAME:First Congregational Church of Camden, Maine
X-ORIGINAL-URL:https://camdenucc.org
X-WR-CALDESC:Events for First Congregational Church of Camden, Maine
REFRESH-INTERVAL;VALUE=DURATION:PT1H
X-Robots-Tag:noindex
X-PUBLISHED-TTL:PT1H
BEGIN:VTIMEZONE
TZID:America/New_York
BEGIN:DAYLIGHT
TZOFFSETFROM:-0500
TZOFFSETTO:-0400
TZNAME:EDT
DTSTART:20240310T070000
END:DAYLIGHT
BEGIN:STANDARD
TZOFFSETFROM:-0400
TZOFFSETTO:-0500
TZNAME:EST
DTSTART:20241103T060000
END:STANDARD
BEGIN:DAYLIGHT
TZOFFSETFROM:-0500
TZOFFSETTO:-0400
TZNAME:EDT
DTSTART:20250309T070000
END:DAYLIGHT
BEGIN:STANDARD
TZOFFSETFROM:-0400
TZOFFSETTO:-0500
TZNAME:EST
DTSTART:20251102T060000
END:STANDARD
BEGIN:DAYLIGHT
TZOFFSETFROM:-0500
TZOFFSETTO:-0400
TZNAME:EDT
DTSTART:20260308T070000
END:DAYLIGHT
BEGIN:STANDARD
TZOFFSETFROM:-0400
TZOFFSETTO:-0500
TZNAME:EST
DTSTART:20261101T060000
END:STANDARD
BEGIN:DAYLIGHT
TZOFFSETFROM:-0500
TZOFFSETTO:-0400
TZNAME:EDT
DTSTART:20270314T070000
END:DAYLIGHT
BEGIN:STANDARD
TZOFFSETFROM:-0400
TZOFFSETTO:-0500
TZNAME:EST
DTSTART:20271107T060000
END:STANDARD
END:VTIMEZONE
BEGIN:VEVENT
DTSTART;TZID=America/New_York:20251210T160000
DTEND;TZID=America/New_York:20251210T170000
DTSTAMP:20260425T115329
CREATED:20251020T183745Z
LAST-MODIFIED:20251020T183745Z
UID:10003820-1765382400-1765386000@camdenucc.org
SUMMARY:Grief Study Group
DESCRIPTION:
URL:https://camdenucc.org/event/grief-study-group-2/
LOCATION:In person\, Mayflower Room\, 55 Elm Street\, Camden\, ME\, 04843
CATEGORIES:Adult Education
END:VEVENT
BEGIN:VEVENT
DTSTART;TZID=America/New_York:20251213T090000
DTEND;TZID=America/New_York:20251213T110000
DTSTAMP:20260425T115329
CREATED:20251210T151511Z
LAST-MODIFIED:20251210T151511Z
UID:10003880-1765616400-1765623600@camdenucc.org
SUMMARY:Men's Breakfast
DESCRIPTION:
URL:https://camdenucc.org/event/mens-breakfast-7/
LOCATION:In person\, Pilgrim Room\, 55 Elm Street\, Camden\, 04843\, United States
CATEGORIES:Meals
END:VEVENT
BEGIN:VEVENT
DTSTART;TZID=America/New_York:20251214T093000
DTEND;TZID=America/New_York:20251214T103000
DTSTAMP:20260425T115329
CREATED:20250204T162348Z
LAST-MODIFIED:20250204T162447Z
UID:10003195-1765704600-1765708200@camdenucc.org
SUMMARY:Sunday Worship
DESCRIPTION:
URL:https://camdenucc.org/event/sunday-worship/2025-12-14/
LOCATION:Hybrid: Online by Zoom and in Sanctuary
CATEGORIES:Worship
END:VEVENT
BEGIN:VEVENT
DTSTART;TZID=America/New_York:20251214T160000
DTEND;TZID=America/New_York:20251214T170000
DTSTAMP:20260425T115329
CREATED:20250820T191447Z
LAST-MODIFIED:20250820T191447Z
UID:10003789-1765728000-1765731600@camdenucc.org
SUMMARY:Surprise FOM Concert: Cello/Piano
DESCRIPTION:
URL:https://camdenucc.org/event/surprise-fom-concert-cello-piano/
LOCATION:In person\, Sanctuary\, 55 Elm Street\, Camden\, 04843\, United States
CATEGORIES:Concerts
END:VEVENT
BEGIN:VEVENT
DTSTART;TZID=America/New_York:20251215T170000
DTEND;TZID=America/New_York:20251215T203000
DTSTAMP:20260425T115329
CREATED:20250806T155634Z
LAST-MODIFIED:20250806T155634Z
UID:10003747-1765818000-1765830600@camdenucc.org
SUMMARY:Midcoast Community Chorus Rehearsal
DESCRIPTION:
URL:https://camdenucc.org/event/midcoast-community-chorus-rehearsal/2025-12-15/
LOCATION:In person\, First Congregational UCC\, 55 Elm Street\, Camden\, ME\, 04843
CATEGORIES:Rehearsals,Rentals
END:VEVENT
BEGIN:VEVENT
DTSTART;TZID=America/New_York:20251216T120000
DTEND;TZID=America/New_York:20251216T130000
DTSTAMP:20260425T115329
CREATED:20251121T193632Z
LAST-MODIFIED:20251121T193632Z
UID:10003877-1765886400-1765890000@camdenucc.org
SUMMARY:Membership
DESCRIPTION:
URL:https://camdenucc.org/event/membership-9/
LOCATION:Hybrid: Zoom and in person\, Conference Room\, 55 Elm Street\, Camden\, 04843\, United States
CATEGORIES:Church Meetings
END:VEVENT
BEGIN:VEVENT
DTSTART;TZID=America/New_York:20251216T160000
DTEND;TZID=America/New_York:20251216T183000
DTSTAMP:20260425T115329
CREATED:20251113T163258Z
LAST-MODIFIED:20251113T163258Z
UID:10003876-1765900800-1765909800@camdenucc.org
SUMMARY:Cabinet ~Nov/Dec Meeting
DESCRIPTION:
URL:https://camdenucc.org/event/cabinet-nov-dec-meeting/
LOCATION:Hybrid: Zoom and in person\, Conference Room\, 55 Elm Street\, Camden\, 04843\, United States
CATEGORIES:Church Meetings
END:VEVENT
BEGIN:VEVENT
DTSTART;TZID=America/New_York:20251217T093000
DTEND;TZID=America/New_York:20251217T100000
DTSTAMP:20260425T115329
CREATED:20250716T143056Z
LAST-MODIFIED:20250716T143056Z
UID:10003683-1765963800-1765965600@camdenucc.org
SUMMARY:Staff Meeting
DESCRIPTION:
URL:https://camdenucc.org/event/staff-meeting/2025-12-17/
LOCATION:Hybrid: Zoom and in person\, Conference Room\, 55 Elm Street\, Camden\, 04843\, United States
CATEGORIES:Church Meetings
END:VEVENT
BEGIN:VEVENT
DTSTART;TZID=America/New_York:20251217T170000
DTEND;TZID=America/New_York:20251217T180000
DTSTAMP:20260425T115329
CREATED:20251020T182419Z
LAST-MODIFIED:20251020T182419Z
UID:10003802-1765990800-1765994400@camdenucc.org
SUMMARY:Vespers
DESCRIPTION:
URL:https://camdenucc.org/event/vespers-2/2025-12-17/
LOCATION:In person\, Sanctuary\, 55 Elm Street\, Camden\, 04843\, United States
CATEGORIES:Meditation
END:VEVENT
BEGIN:VEVENT
DTSTART;TZID=America/New_York:20251217T173000
DTEND;TZID=America/New_York:20251217T190000
DTSTAMP:20260425T115329
CREATED:20251121T193809Z
LAST-MODIFIED:20251121T193809Z
UID:10003878-1765992600-1765998000@camdenucc.org
SUMMARY:Trustees-new time
DESCRIPTION:
URL:https://camdenucc.org/event/trustees-new-time/
LOCATION:Hybrid: Zoom and in person\, Conference Room\, 55 Elm Street\, Camden\, 04843\, United States
CATEGORIES:Church Meetings
END:VEVENT
BEGIN:VEVENT
DTSTART;TZID=America/New_York:20251221T093000
DTEND;TZID=America/New_York:20251221T103000
DTSTAMP:20260425T115329
CREATED:20250204T162348Z
LAST-MODIFIED:20250204T162447Z
UID:10003196-1766309400-1766313000@camdenucc.org
SUMMARY:Sunday Worship
DESCRIPTION:
URL:https://camdenucc.org/event/sunday-worship/2025-12-21/
LOCATION:Hybrid: Online by Zoom and in Sanctuary
CATEGORIES:Worship
END:VEVENT
BEGIN:VEVENT
DTSTART;TZID=America/New_York:20251222T170000
DTEND;TZID=America/New_York:20251222T173000
DTSTAMP:20260425T115329
CREATED:20251020T190024Z
LAST-MODIFIED:20251020T190024Z
UID:10003840-1766422800-1766424600@camdenucc.org
SUMMARY:Sanctuary Choir Rehearsal
DESCRIPTION:
URL:https://camdenucc.org/event/sanctuary-choir-rehearsal-2/2025-12-22/
LOCATION:In person\, Sanctuary\, 55 Elm Street\, Camden\, 04843\, United States
CATEGORIES:Rehearsals
END:VEVENT
BEGIN:VEVENT
DTSTART;TZID=America/New_York:20251222T170000
DTEND;TZID=America/New_York:20251222T203000
DTSTAMP:20260425T115329
CREATED:20250806T155634Z
LAST-MODIFIED:20250806T155634Z
UID:10003748-1766422800-1766435400@camdenucc.org
SUMMARY:Midcoast Community Chorus Rehearsal
DESCRIPTION:
URL:https://camdenucc.org/event/midcoast-community-chorus-rehearsal/2025-12-22/
LOCATION:In person\, First Congregational UCC\, 55 Elm Street\, Camden\, ME\, 04843
CATEGORIES:Rehearsals,Rentals
END:VEVENT
BEGIN:VEVENT
DTSTART;TZID=America/New_York:20251224T080000
DTEND;TZID=America/New_York:20251224T170000
DTSTAMP:20260425T115329
CREATED:20250716T145303Z
LAST-MODIFIED:20250716T145303Z
UID:10003720-1766563200-1766595600@camdenucc.org
SUMMARY:Deadline for BEACON articles
DESCRIPTION:
URL:https://camdenucc.org/event/deadline-for-beacon-articles/2025-12-24/
CATEGORIES:Special Events/Services
END:VEVENT
BEGIN:VEVENT
DTSTART;TZID=America/New_York:20251224T093000
DTEND;TZID=America/New_York:20251224T100000
DTSTAMP:20260425T115329
CREATED:20250716T143056Z
LAST-MODIFIED:20250716T143056Z
UID:10003684-1766568600-1766570400@camdenucc.org
SUMMARY:Staff Meeting
DESCRIPTION:
URL:https://camdenucc.org/event/staff-meeting/2025-12-24/
LOCATION:Hybrid: Zoom and in person\, Conference Room\, 55 Elm Street\, Camden\, 04843\, United States
CATEGORIES:Church Meetings
END:VEVENT
BEGIN:VEVENT
DTSTART;TZID=America/New_York:20251224T180000
DTEND;TZID=America/New_York:20251224T190000
DTSTAMP:20260425T115329
CREATED:20251020T183839Z
LAST-MODIFIED:20251020T183839Z
UID:10003821-1766599200-1766602800@camdenucc.org
SUMMARY:Christmas Eve Family Service
DESCRIPTION:
URL:https://camdenucc.org/event/christmas-eve-family-service/
LOCATION:In person\, Sanctuary\, 55 Elm Street\, Camden\, 04843\, United States
CATEGORIES:Special Events/Services
END:VEVENT
BEGIN:VEVENT
DTSTART;TZID=America/New_York:20251224T210000
DTEND;TZID=America/New_York:20251224T220000
DTSTAMP:20260425T115329
CREATED:20251020T183930Z
LAST-MODIFIED:20251020T183930Z
UID:10003822-1766610000-1766613600@camdenucc.org
SUMMARY:Christmas Eve Candlelight Service
DESCRIPTION:
URL:https://camdenucc.org/event/christmas-eve-candlelight-service/
LOCATION:In person\, Sanctuary\, 55 Elm Street\, Camden\, 04843\, United States
CATEGORIES:Special Events/Services,Worship
END:VEVENT
BEGIN:VEVENT
DTSTART;TZID=America/New_York:20251225T080000
DTEND;TZID=America/New_York:20251225T170000
DTSTAMP:20260425T115329
CREATED:20251020T191327Z
LAST-MODIFIED:20251020T191327Z
UID:10003845-1766649600-1766682000@camdenucc.org
SUMMARY:Christmas Day~Church closed
DESCRIPTION:
URL:https://camdenucc.org/event/christmas-daychurch-closed-2/
CATEGORIES:Church Office Closed,Special Events/Holidays
END:VEVENT
BEGIN:VEVENT
DTSTART;TZID=America/New_York:20251225T080000
DTEND;TZID=America/New_York:20251226T170000
DTSTAMP:20260425T115329
CREATED:20251020T191443Z
LAST-MODIFIED:20251020T191443Z
UID:10003846-1766649600-1766768400@camdenucc.org
SUMMARY:Christmas Holiday~church closed
DESCRIPTION:
URL:https://camdenucc.org/event/christmas-holidaychurch-closed/
CATEGORIES:Church Office Closed,Special Events/Holidays
END:VEVENT
BEGIN:VEVENT
DTSTART;TZID=America/New_York:20251226T130000
DTEND;TZID=America/New_York:20251226T150000
DTSTAMP:20260425T115329
CREATED:20251020T190139Z
LAST-MODIFIED:20251121T194233Z
UID:10003842-1766754000-1766761200@camdenucc.org
SUMMARY:Church Office open in afternoon
DESCRIPTION:
URL:https://camdenucc.org/event/christmas-daychurch-closed/
LOCATION:In person\, First Congregational UCC\, 55 Elm Street\, Camden\, ME\, 04843
CATEGORIES:Church Office Closed
END:VEVENT
BEGIN:VEVENT
DTSTART;TZID=America/New_York:20251228T093000
DTEND;TZID=America/New_York:20251228T103000
DTSTAMP:20260425T115329
CREATED:20250204T162348Z
LAST-MODIFIED:20250204T162447Z
UID:10003197-1766914200-1766917800@camdenucc.org
SUMMARY:Sunday Worship
DESCRIPTION:
URL:https://camdenucc.org/event/sunday-worship/2025-12-28/
LOCATION:Hybrid: Online by Zoom and in Sanctuary
CATEGORIES:Worship
END:VEVENT
BEGIN:VEVENT
DTSTART;TZID=America/New_York:20251229T170000
DTEND;TZID=America/New_York:20251229T203000
DTSTAMP:20260425T115329
CREATED:20250806T155634Z
LAST-MODIFIED:20250806T155634Z
UID:10003749-1767027600-1767040200@camdenucc.org
SUMMARY:Midcoast Community Chorus Rehearsal
DESCRIPTION:
URL:https://camdenucc.org/event/midcoast-community-chorus-rehearsal/2025-12-29/
LOCATION:In person\, First Congregational UCC\, 55 Elm Street\, Camden\, ME\, 04843
CATEGORIES:Rehearsals,Rentals
END:VEVENT
BEGIN:VEVENT
DTSTART;TZID=America/New_York:20251231T093000
DTEND;TZID=America/New_York:20251231T100000
DTSTAMP:20260425T115329
CREATED:20250716T143056Z
LAST-MODIFIED:20250716T143056Z
UID:10003685-1767173400-1767175200@camdenucc.org
SUMMARY:Staff Meeting
DESCRIPTION:
URL:https://camdenucc.org/event/staff-meeting/2025-12-31/
LOCATION:Hybrid: Zoom and in person\, Conference Room\, 55 Elm Street\, Camden\, 04843\, United States
CATEGORIES:Church Meetings
END:VEVENT
BEGIN:VEVENT
DTSTART;TZID=America/New_York:20260101T080000
DTEND;TZID=America/New_York:20260101T170000
DTSTAMP:20260425T115329
CREATED:20251020T190658Z
LAST-MODIFIED:20251020T190658Z
UID:10003843-1767254400-1767286800@camdenucc.org
SUMMARY:Happy New Year!~church closed
DESCRIPTION:
URL:https://camdenucc.org/event/happy-new-yearchurch-closed/
CATEGORIES:Church Office Closed,Special Events/Holidays
END:VEVENT
BEGIN:VEVENT
DTSTART;TZID=America/New_York:20260104T093000
DTEND;TZID=America/New_York:20260104T103000
DTSTAMP:20260425T115329
CREATED:20250204T162348Z
LAST-MODIFIED:20250204T162447Z
UID:10003198-1767519000-1767522600@camdenucc.org
SUMMARY:Sunday Worship
DESCRIPTION:
URL:https://camdenucc.org/event/sunday-worship/2026-01-04/
LOCATION:Hybrid: Online by Zoom and in Sanctuary
CATEGORIES:Worship
END:VEVENT
BEGIN:VEVENT
DTSTART;TZID=America/New_York:20260105T170000
DTEND;TZID=America/New_York:20260105T173000
DTSTAMP:20260425T115329
CREATED:20251020T190024Z
LAST-MODIFIED:20251020T190024Z
UID:10003841-1767632400-1767634200@camdenucc.org
SUMMARY:Sanctuary Choir Rehearsal
DESCRIPTION:
URL:https://camdenucc.org/event/sanctuary-choir-rehearsal-2/2026-01-05/
LOCATION:In person\, Sanctuary\, 55 Elm Street\, Camden\, 04843\, United States
CATEGORIES:Rehearsals
END:VEVENT
BEGIN:VEVENT
DTSTART;TZID=America/New_York:20260105T170000
DTEND;TZID=America/New_York:20260105T203000
DTSTAMP:20260425T115329
CREATED:20250806T155634Z
LAST-MODIFIED:20250806T155634Z
UID:10003750-1767632400-1767645000@camdenucc.org
SUMMARY:Midcoast Community Chorus Rehearsal
DESCRIPTION:
URL:https://camdenucc.org/event/midcoast-community-chorus-rehearsal/2026-01-05/
LOCATION:In person\, First Congregational UCC\, 55 Elm Street\, Camden\, ME\, 04843
CATEGORIES:Rehearsals,Rentals
END:VEVENT
BEGIN:VEVENT
DTSTART;TZID=America/New_York:20260107T093000
DTEND;TZID=America/New_York:20260107T100000
DTSTAMP:20260425T115329
CREATED:20250716T143056Z
LAST-MODIFIED:20250716T143056Z
UID:10003686-1767778200-1767780000@camdenucc.org
SUMMARY:Staff Meeting
DESCRIPTION:
URL:https://camdenucc.org/event/staff-meeting/2026-01-07/
LOCATION:Hybrid: Zoom and in person\, Conference Room\, 55 Elm Street\, Camden\, 04843\, United States
CATEGORIES:Church Meetings
END:VEVENT
BEGIN:VEVENT
DTSTART;TZID=America/New_York:20260107T170000
DTEND;TZID=America/New_York:20260107T180000
DTSTAMP:20260425T115329
CREATED:20251020T182419Z
LAST-MODIFIED:20251020T182419Z
UID:10003803-1767805200-1767808800@camdenucc.org
SUMMARY:Vespers
DESCRIPTION:
URL:https://camdenucc.org/event/vespers-2/2026-01-07/
LOCATION:In person\, Sanctuary\, 55 Elm Street\, Camden\, 04843\, United States
CATEGORIES:Meditation
END:VEVENT
BEGIN:VEVENT
DTSTART;TZID=America/New_York:20260108T083000
DTEND;TZID=America/New_York:20260108T100000
DTSTAMP:20260425T115329
CREATED:20251210T151818Z
LAST-MODIFIED:20251210T151818Z
UID:10003883-1767861000-1767866400@camdenucc.org
SUMMARY:Stewardship
DESCRIPTION:
URL:https://camdenucc.org/event/stewardship-9/
LOCATION:Online by Zoom invitation
CATEGORIES:Church Meetings
END:VEVENT
END:VCALENDAR