BEGIN:VCALENDAR
VERSION:2.0
PRODID:-//First Congregational Church of Camden, Maine - ECPv6.15.20//NONSGML v1.0//EN
CALSCALE:GREGORIAN
METHOD:PUBLISH
X-ORIGINAL-URL:https://camdenucc.org
X-WR-CALDESC:Events for First Congregational Church of Camden, Maine
REFRESH-INTERVAL;VALUE=DURATION:PT1H
X-Robots-Tag:noindex
X-PUBLISHED-TTL:PT1H
BEGIN:VTIMEZONE
TZID:America/New_York
BEGIN:DAYLIGHT
TZOFFSETFROM:-0500
TZOFFSETTO:-0400
TZNAME:EDT
DTSTART:20240310T070000
END:DAYLIGHT
BEGIN:STANDARD
TZOFFSETFROM:-0400
TZOFFSETTO:-0500
TZNAME:EST
DTSTART:20241103T060000
END:STANDARD
BEGIN:DAYLIGHT
TZOFFSETFROM:-0500
TZOFFSETTO:-0400
TZNAME:EDT
DTSTART:20250309T070000
END:DAYLIGHT
BEGIN:STANDARD
TZOFFSETFROM:-0400
TZOFFSETTO:-0500
TZNAME:EST
DTSTART:20251102T060000
END:STANDARD
BEGIN:DAYLIGHT
TZOFFSETFROM:-0500
TZOFFSETTO:-0400
TZNAME:EDT
DTSTART:20260308T070000
END:DAYLIGHT
BEGIN:STANDARD
TZOFFSETFROM:-0400
TZOFFSETTO:-0500
TZNAME:EST
DTSTART:20261101T060000
END:STANDARD
END:VTIMEZONE
BEGIN:VEVENT
DTSTART;TZID=America/New_York:20251117T170000
DTEND;TZID=America/New_York:20251117T203000
DTSTAMP:20260425T120002
CREATED:20250806T155634Z
LAST-MODIFIED:20250806T155634Z
UID:10003743-1763398800-1763411400@camdenucc.org
SUMMARY:Midcoast Community Chorus Rehearsal
DESCRIPTION:
URL:https://camdenucc.org/event/midcoast-community-chorus-rehearsal/2025-11-17/
LOCATION:In person\, First Congregational UCC\, 55 Elm Street\, Camden\, ME\, 04843
CATEGORIES:Rehearsals,Rentals
END:VEVENT
BEGIN:VEVENT
DTSTART;TZID=America/New_York:20251118T120000
DTEND;TZID=America/New_York:20251118T130000
DTSTAMP:20260425T120002
CREATED:20251020T183019Z
LAST-MODIFIED:20251020T183019Z
UID:10003812-1763467200-1763470800@camdenucc.org
SUMMARY:Membership
DESCRIPTION:
URL:https://camdenucc.org/event/membership-8/
LOCATION:Hybrid: Zoom and in person\, Conference Room\, 55 Elm Street\, Camden\, 04843\, United States
CATEGORIES:Church Meetings
END:VEVENT
BEGIN:VEVENT
DTSTART;TZID=America/New_York:20251118T163000
DTEND;TZID=America/New_York:20251118T183000
DTSTAMP:20260425T120002
CREATED:20251020T183058Z
LAST-MODIFIED:20251020T183058Z
UID:10003813-1763483400-1763490600@camdenucc.org
SUMMARY:Communications
DESCRIPTION:
URL:https://camdenucc.org/event/communications-8/
CATEGORIES:Church Meetings
END:VEVENT
BEGIN:VEVENT
DTSTART;TZID=America/New_York:20251119T093000
DTEND;TZID=America/New_York:20251119T100000
DTSTAMP:20260425T120002
CREATED:20250716T143056Z
LAST-MODIFIED:20250716T143056Z
UID:10003679-1763544600-1763546400@camdenucc.org
SUMMARY:Staff Meeting
DESCRIPTION:
URL:https://camdenucc.org/event/staff-meeting/2025-11-19/
LOCATION:Hybrid: Zoom and in person\, Conference Room\, 55 Elm Street\, Camden\, 04843\, United States
CATEGORIES:Church Meetings
END:VEVENT
BEGIN:VEVENT
DTSTART;TZID=America/New_York:20251119T160000
DTEND;TZID=America/New_York:20251119T170000
DTSTAMP:20260425T120002
CREATED:20251105T170841Z
LAST-MODIFIED:20251105T170841Z
UID:10003851-1763568000-1763571600@camdenucc.org
SUMMARY:Care Team
DESCRIPTION:
URL:https://camdenucc.org/event/care-team-5/
LOCATION:In person\, First Congregational UCC\, 55 Elm Street\, Camden\, ME\, 04843
CATEGORIES:Church Meetings
END:VEVENT
BEGIN:VEVENT
DTSTART;TZID=America/New_York:20251119T170000
DTEND;TZID=America/New_York:20251119T180000
DTSTAMP:20260425T120002
CREATED:20251020T182419Z
LAST-MODIFIED:20251020T182419Z
UID:10003800-1763571600-1763575200@camdenucc.org
SUMMARY:Vespers
DESCRIPTION:
URL:https://camdenucc.org/event/vespers-2/2025-11-19/
LOCATION:In person\, Sanctuary\, 55 Elm Street\, Camden\, 04843\, United States
CATEGORIES:Meditation
END:VEVENT
BEGIN:VEVENT
DTSTART;TZID=America/New_York:20251119T170000
DTEND;TZID=America/New_York:20251119T190000
DTSTAMP:20260425T120002
CREATED:20251020T183139Z
LAST-MODIFIED:20251020T183139Z
UID:10003814-1763571600-1763578800@camdenucc.org
SUMMARY:Trustees
DESCRIPTION:
URL:https://camdenucc.org/event/trustees-7/
CATEGORIES:Church Meetings
END:VEVENT
BEGIN:VEVENT
DTSTART;TZID=America/New_York:20251120T090000
DTEND;TZID=America/New_York:20251120T110000
DTSTAMP:20260425T120002
CREATED:20251020T183219Z
LAST-MODIFIED:20251020T183219Z
UID:10003815-1763629200-1763636400@camdenucc.org
SUMMARY:Outreach
DESCRIPTION:
URL:https://camdenucc.org/event/outreach-7/
LOCATION:In person\, Conference Room\, 55 Elm Street\, Camden\, 04843\, United States
CATEGORIES:Church Meetings
END:VEVENT
BEGIN:VEVENT
DTSTART;TZID=America/New_York:20251122T090000
DTEND;TZID=America/New_York:20251122T110000
DTSTAMP:20260425T120002
CREATED:20251105T170924Z
LAST-MODIFIED:20251105T170924Z
UID:10003852-1763802000-1763809200@camdenucc.org
SUMMARY:Men's Breakfast
DESCRIPTION:
URL:https://camdenucc.org/event/mens-breakfast-6/
LOCATION:In person\, Pilgrim Room\, 55 Elm Street\, Camden\, 04843\, United States
CATEGORIES:Meals
END:VEVENT
BEGIN:VEVENT
DTSTART;TZID=America/New_York:20251123T093000
DTEND;TZID=America/New_York:20251123T103000
DTSTAMP:20260425T120002
CREATED:20250204T162348Z
LAST-MODIFIED:20250204T162447Z
UID:10003192-1763890200-1763893800@camdenucc.org
SUMMARY:Sunday Worship
DESCRIPTION:
URL:https://camdenucc.org/event/sunday-worship/2025-11-23/
LOCATION:Hybrid: Online by Zoom and in Sanctuary
CATEGORIES:Worship
END:VEVENT
BEGIN:VEVENT
DTSTART;TZID=America/New_York:20251124T080000
DTEND;TZID=America/New_York:20251124T170000
DTSTAMP:20260425T120002
CREATED:20250716T145303Z
LAST-MODIFIED:20250716T145303Z
UID:10003719-1763971200-1764003600@camdenucc.org
SUMMARY:Deadline for BEACON articles
DESCRIPTION:
URL:https://camdenucc.org/event/deadline-for-beacon-articles/2025-11-24/
CATEGORIES:Special Events/Services
END:VEVENT
BEGIN:VEVENT
DTSTART;TZID=America/New_York:20251124T170000
DTEND;TZID=America/New_York:20251124T203000
DTSTAMP:20260425T120002
CREATED:20250806T155634Z
LAST-MODIFIED:20250806T155634Z
UID:10003744-1764003600-1764016200@camdenucc.org
SUMMARY:Midcoast Community Chorus Rehearsal
DESCRIPTION:
URL:https://camdenucc.org/event/midcoast-community-chorus-rehearsal/2025-11-24/
LOCATION:In person\, First Congregational UCC\, 55 Elm Street\, Camden\, ME\, 04843
CATEGORIES:Rehearsals,Rentals
END:VEVENT
BEGIN:VEVENT
DTSTART;TZID=America/New_York:20251126T093000
DTEND;TZID=America/New_York:20251126T100000
DTSTAMP:20260425T120002
CREATED:20250716T143056Z
LAST-MODIFIED:20250716T143056Z
UID:10003680-1764149400-1764151200@camdenucc.org
SUMMARY:Staff Meeting
DESCRIPTION:
URL:https://camdenucc.org/event/staff-meeting/2025-11-26/
LOCATION:Hybrid: Zoom and in person\, Conference Room\, 55 Elm Street\, Camden\, 04843\, United States
CATEGORIES:Church Meetings
END:VEVENT
BEGIN:VEVENT
DTSTART;TZID=America/New_York:20251127T080000
DTEND;TZID=America/New_York:20251128T170000
DTSTAMP:20260425T120002
CREATED:20251020T183449Z
LAST-MODIFIED:20251020T183449Z
UID:10003817-1764230400-1764349200@camdenucc.org
SUMMARY:Thanksgiving Holidays~church closed
DESCRIPTION:
URL:https://camdenucc.org/event/thanksgiving-holidayschurch-closed/
CATEGORIES:Church Office Closed,Special Events/Holidays
END:VEVENT
BEGIN:VEVENT
DTSTART;TZID=America/New_York:20251130T093000
DTEND;TZID=America/New_York:20251130T103000
DTSTAMP:20260425T120002
CREATED:20250204T162348Z
LAST-MODIFIED:20250204T162447Z
UID:10003193-1764495000-1764498600@camdenucc.org
SUMMARY:Sunday Worship
DESCRIPTION:
URL:https://camdenucc.org/event/sunday-worship/2025-11-30/
LOCATION:Hybrid: Online by Zoom and in Sanctuary
CATEGORIES:Worship
END:VEVENT
BEGIN:VEVENT
DTSTART;TZID=America/New_York:20251201T170000
DTEND;TZID=America/New_York:20251201T173000
DTSTAMP:20260425T120002
CREATED:20251020T185612Z
LAST-MODIFIED:20251020T185725Z
UID:10003837-1764608400-1764610200@camdenucc.org
SUMMARY:Choral Bells Rehearsal
DESCRIPTION:
URL:https://camdenucc.org/event/sanctuary-choir-rehearsal/2025-12-01/
LOCATION:In person\, Sanctuary\, 55 Elm Street\, Camden\, 04843\, United States
CATEGORIES:Rehearsals
END:VEVENT
BEGIN:VEVENT
DTSTART;TZID=America/New_York:20251201T170000
DTEND;TZID=America/New_York:20251201T203000
DTSTAMP:20260425T120002
CREATED:20250806T155634Z
LAST-MODIFIED:20250806T155634Z
UID:10003745-1764608400-1764621000@camdenucc.org
SUMMARY:Midcoast Community Chorus Rehearsal
DESCRIPTION:
URL:https://camdenucc.org/event/midcoast-community-chorus-rehearsal/2025-12-01/
LOCATION:In person\, First Congregational UCC\, 55 Elm Street\, Camden\, ME\, 04843
CATEGORIES:Rehearsals,Rentals
END:VEVENT
BEGIN:VEVENT
DTSTART;TZID=America/New_York:20251203T093000
DTEND;TZID=America/New_York:20251203T100000
DTSTAMP:20260425T120002
CREATED:20250716T143056Z
LAST-MODIFIED:20250716T143056Z
UID:10003681-1764754200-1764756000@camdenucc.org
SUMMARY:Staff Meeting
DESCRIPTION:
URL:https://camdenucc.org/event/staff-meeting/2025-12-03/
LOCATION:Hybrid: Zoom and in person\, Conference Room\, 55 Elm Street\, Camden\, 04843\, United States
CATEGORIES:Church Meetings
END:VEVENT
BEGIN:VEVENT
DTSTART;TZID=America/New_York:20251203T170000
DTEND;TZID=America/New_York:20251203T180000
DTSTAMP:20260425T120002
CREATED:20251020T182419Z
LAST-MODIFIED:20251020T182419Z
UID:10003801-1764781200-1764784800@camdenucc.org
SUMMARY:Vespers
DESCRIPTION:
URL:https://camdenucc.org/event/vespers-2/2025-12-03/
LOCATION:In person\, Sanctuary\, 55 Elm Street\, Camden\, 04843\, United States
CATEGORIES:Meditation
END:VEVENT
BEGIN:VEVENT
DTSTART;TZID=America/New_York:20251204T083000
DTEND;TZID=America/New_York:20251204T093000
DTSTAMP:20260425T120002
CREATED:20251113T163103Z
LAST-MODIFIED:20251113T163103Z
UID:10003874-1764837000-1764840600@camdenucc.org
SUMMARY:Stewardship
DESCRIPTION:
URL:https://camdenucc.org/event/stewardship-8/
LOCATION:Online by Zoom invitation
CATEGORIES:Church Meetings
END:VEVENT
BEGIN:VEVENT
DTSTART;TZID=America/New_York:20251205T120000
DTEND;TZID=America/New_York:20251205T130000
DTSTAMP:20260425T120002
CREATED:20250806T160119Z
LAST-MODIFIED:20250806T160119Z
UID:10003778-1764936000-1764939600@camdenucc.org
SUMMARY:Friends of Music: Christmas by the Sea Variety Show
DESCRIPTION:
URL:https://camdenucc.org/event/friends-of-music-christmas-by-the-sea-variety-show/
LOCATION:In person\, Sanctuary\, 55 Elm Street\, Camden\, 04843\, United States
CATEGORIES:Concerts
END:VEVENT
BEGIN:VEVENT
DTSTART;TZID=America/New_York:20251206T090000
DTEND;TZID=America/New_York:20251206T140000
DTSTAMP:20260425T120002
CREATED:20251020T183554Z
LAST-MODIFIED:20251020T183554Z
UID:10003818-1765011600-1765029600@camdenucc.org
SUMMARY:Christmas by the Sea Craft Show
DESCRIPTION:
URL:https://camdenucc.org/event/christmas-by-the-sea-craft-show/
CATEGORIES:Special Events/Holidays
END:VEVENT
BEGIN:VEVENT
DTSTART;TZID=America/New_York:20251206T160000
DTEND;TZID=America/New_York:20251206T173000
DTSTAMP:20260425T120002
CREATED:20250806T160211Z
LAST-MODIFIED:20250806T160211Z
UID:10003779-1765036800-1765042200@camdenucc.org
SUMMARY:Ringing in the Season Handbell Concert
DESCRIPTION:
URL:https://camdenucc.org/event/ringing-in-the-season-handbell-concert/
LOCATION:In person\, Sanctuary\, 55 Elm Street\, Camden\, 04843\, United States
CATEGORIES:Concerts
END:VEVENT
BEGIN:VEVENT
DTSTART;TZID=America/New_York:20251207T093000
DTEND;TZID=America/New_York:20251207T103000
DTSTAMP:20260425T120002
CREATED:20250204T162348Z
LAST-MODIFIED:20250204T162447Z
UID:10003194-1765099800-1765103400@camdenucc.org
SUMMARY:Sunday Worship
DESCRIPTION:
URL:https://camdenucc.org/event/sunday-worship/2025-12-07/
LOCATION:Hybrid: Online by Zoom and in Sanctuary
CATEGORIES:Worship
END:VEVENT
BEGIN:VEVENT
DTSTART;TZID=America/New_York:20251207T140000
DTEND;TZID=America/New_York:20251207T160000
DTSTAMP:20260425T120002
CREATED:20251020T183655Z
LAST-MODIFIED:20251020T183655Z
UID:10003819-1765116000-1765123200@camdenucc.org
SUMMARY:DownEast Singers Holiday Concert~paid admission
DESCRIPTION:
URL:https://camdenucc.org/event/downeast-singers-holiday-concertpaid-admission/
LOCATION:In person\, Sanctuary\, 55 Elm Street\, Camden\, 04843\, United States
CATEGORIES:Concerts
END:VEVENT
BEGIN:VEVENT
DTSTART;TZID=America/New_York:20251208T170000
DTEND;TZID=America/New_York:20251208T203000
DTSTAMP:20260425T120002
CREATED:20250806T155634Z
LAST-MODIFIED:20250806T155634Z
UID:10003746-1765213200-1765225800@camdenucc.org
SUMMARY:Midcoast Community Chorus Rehearsal
DESCRIPTION:
URL:https://camdenucc.org/event/midcoast-community-chorus-rehearsal/2025-12-08/
LOCATION:In person\, First Congregational UCC\, 55 Elm Street\, Camden\, ME\, 04843
CATEGORIES:Rehearsals,Rentals
END:VEVENT
BEGIN:VEVENT
DTSTART;TZID=America/New_York:20251210T093000
DTEND;TZID=America/New_York:20251210T100000
DTSTAMP:20260425T120002
CREATED:20250716T143056Z
LAST-MODIFIED:20250716T143056Z
UID:10003682-1765359000-1765360800@camdenucc.org
SUMMARY:Staff Meeting
DESCRIPTION:
URL:https://camdenucc.org/event/staff-meeting/2025-12-10/
LOCATION:Hybrid: Zoom and in person\, Conference Room\, 55 Elm Street\, Camden\, 04843\, United States
CATEGORIES:Church Meetings
END:VEVENT
BEGIN:VEVENT
DTSTART;TZID=America/New_York:20251210T160000
DTEND;TZID=America/New_York:20251210T170000
DTSTAMP:20260425T120002
CREATED:20251020T183745Z
LAST-MODIFIED:20251020T183745Z
UID:10003820-1765382400-1765386000@camdenucc.org
SUMMARY:Grief Study Group
DESCRIPTION:
URL:https://camdenucc.org/event/grief-study-group-2/
LOCATION:In person\, Mayflower Room\, 55 Elm Street\, Camden\, ME\, 04843
CATEGORIES:Adult Education
END:VEVENT
BEGIN:VEVENT
DTSTART;TZID=America/New_York:20251213T090000
DTEND;TZID=America/New_York:20251213T110000
DTSTAMP:20260425T120002
CREATED:20251210T151511Z
LAST-MODIFIED:20251210T151511Z
UID:10003880-1765616400-1765623600@camdenucc.org
SUMMARY:Men's Breakfast
DESCRIPTION:
URL:https://camdenucc.org/event/mens-breakfast-7/
LOCATION:In person\, Pilgrim Room\, 55 Elm Street\, Camden\, 04843\, United States
CATEGORIES:Meals
END:VEVENT
BEGIN:VEVENT
DTSTART;TZID=America/New_York:20251214T093000
DTEND;TZID=America/New_York:20251214T103000
DTSTAMP:20260425T120002
CREATED:20250204T162348Z
LAST-MODIFIED:20250204T162447Z
UID:10003195-1765704600-1765708200@camdenucc.org
SUMMARY:Sunday Worship
DESCRIPTION:
URL:https://camdenucc.org/event/sunday-worship/2025-12-14/
LOCATION:Hybrid: Online by Zoom and in Sanctuary
CATEGORIES:Worship
END:VEVENT
END:VCALENDAR