BEGIN:VCALENDAR
VERSION:2.0
PRODID:-//First Congregational Church of Camden, Maine - ECPv6.15.20//NONSGML v1.0//EN
CALSCALE:GREGORIAN
METHOD:PUBLISH
X-ORIGINAL-URL:https://camdenucc.org
X-WR-CALDESC:Events for First Congregational Church of Camden, Maine
REFRESH-INTERVAL;VALUE=DURATION:PT1H
X-Robots-Tag:noindex
X-PUBLISHED-TTL:PT1H
BEGIN:VTIMEZONE
TZID:America/New_York
BEGIN:DAYLIGHT
TZOFFSETFROM:-0500
TZOFFSETTO:-0400
TZNAME:EDT
DTSTART:20250309T070000
END:DAYLIGHT
BEGIN:STANDARD
TZOFFSETFROM:-0400
TZOFFSETTO:-0500
TZNAME:EST
DTSTART:20251102T060000
END:STANDARD
BEGIN:DAYLIGHT
TZOFFSETFROM:-0500
TZOFFSETTO:-0400
TZNAME:EDT
DTSTART:20260308T070000
END:DAYLIGHT
BEGIN:STANDARD
TZOFFSETFROM:-0400
TZOFFSETTO:-0500
TZNAME:EST
DTSTART:20261101T060000
END:STANDARD
BEGIN:DAYLIGHT
TZOFFSETFROM:-0500
TZOFFSETTO:-0400
TZNAME:EDT
DTSTART:20270314T070000
END:DAYLIGHT
BEGIN:STANDARD
TZOFFSETFROM:-0400
TZOFFSETTO:-0500
TZNAME:EST
DTSTART:20271107T060000
END:STANDARD
BEGIN:DAYLIGHT
TZOFFSETFROM:-0500
TZOFFSETTO:-0400
TZNAME:EDT
DTSTART:20280312T070000
END:DAYLIGHT
BEGIN:STANDARD
TZOFFSETFROM:-0400
TZOFFSETTO:-0500
TZNAME:EST
DTSTART:20281105T060000
END:STANDARD
END:VTIMEZONE
BEGIN:VEVENT
DTSTART;TZID=America/New_York:20261004T093000
DTEND;TZID=America/New_York:20261004T103000
DTSTAMP:20260425T125704
CREATED:20250204T162348Z
LAST-MODIFIED:20250204T162447Z
UID:10003237-1791106200-1791109800@camdenucc.org
SUMMARY:Sunday Worship
DESCRIPTION:
URL:https://camdenucc.org/event/sunday-worship/2026-10-04/
LOCATION:Hybrid: Online by Zoom and in Sanctuary
CATEGORIES:Worship
END:VEVENT
BEGIN:VEVENT
DTSTART;TZID=America/New_York:20261004T160000
DTEND;TZID=America/New_York:20261004T170000
DTSTAMP:20260425T125704
CREATED:20260209T155610Z
LAST-MODIFIED:20260209T155610Z
UID:10004107-1791129600-1791133200@camdenucc.org
SUMMARY:Friends of Music~Free Concert~Robert Cart\, flute
DESCRIPTION:
URL:https://camdenucc.org/event/friends-of-musicfree-concertrobert-cart-flute/
LOCATION:In person\, Sanctuary\, 55 Elm Street\, Camden\, 04843\, United States
CATEGORIES:Concerts
END:VEVENT
BEGIN:VEVENT
DTSTART;TZID=America/New_York:20261011T093000
DTEND;TZID=America/New_York:20261011T103000
DTSTAMP:20260425T125704
CREATED:20250204T162348Z
LAST-MODIFIED:20250204T162447Z
UID:10003238-1791711000-1791714600@camdenucc.org
SUMMARY:Sunday Worship
DESCRIPTION:
URL:https://camdenucc.org/event/sunday-worship/2026-10-11/
LOCATION:Hybrid: Online by Zoom and in Sanctuary
CATEGORIES:Worship
END:VEVENT
BEGIN:VEVENT
DTSTART;TZID=America/New_York:20261018T093000
DTEND;TZID=America/New_York:20261018T103000
DTSTAMP:20260425T125704
CREATED:20250204T162348Z
LAST-MODIFIED:20250204T162447Z
UID:10003239-1792315800-1792319400@camdenucc.org
SUMMARY:Sunday Worship
DESCRIPTION:
URL:https://camdenucc.org/event/sunday-worship/2026-10-18/
LOCATION:Hybrid: Online by Zoom and in Sanctuary
CATEGORIES:Worship
END:VEVENT
BEGIN:VEVENT
DTSTART;TZID=America/New_York:20261024T080000
DTEND;TZID=America/New_York:20261024T170000
DTSTAMP:20260425T125704
CREATED:20250716T145303Z
LAST-MODIFIED:20250716T145303Z
UID:10003730-1792828800-1792861200@camdenucc.org
SUMMARY:Deadline for BEACON articles
DESCRIPTION:
URL:https://camdenucc.org/event/deadline-for-beacon-articles/2026-10-24/
CATEGORIES:Special Events/Services
END:VEVENT
BEGIN:VEVENT
DTSTART;TZID=America/New_York:20261025T093000
DTEND;TZID=America/New_York:20261025T103000
DTSTAMP:20260425T125704
CREATED:20250204T162348Z
LAST-MODIFIED:20250204T162447Z
UID:10003240-1792920600-1792924200@camdenucc.org
SUMMARY:Sunday Worship
DESCRIPTION:
URL:https://camdenucc.org/event/sunday-worship/2026-10-25/
LOCATION:Hybrid: Online by Zoom and in Sanctuary
CATEGORIES:Worship
END:VEVENT
BEGIN:VEVENT
DTSTART;TZID=America/New_York:20261025T160000
DTEND;TZID=America/New_York:20261025T170000
DTSTAMP:20260425T125704
CREATED:20260209T155721Z
LAST-MODIFIED:20260209T155721Z
UID:10004108-1792944000-1792947600@camdenucc.org
SUMMARY:Friends of Music~Free Concert~Shelly Moorman-Stahlman\, piano
DESCRIPTION:
URL:https://camdenucc.org/event/friends-of-musicfree-concertshelly-moorman-stahlman-piano/
LOCATION:In person\, Sanctuary\, 55 Elm Street\, Camden\, 04843\, United States
CATEGORIES:Concerts
END:VEVENT
BEGIN:VEVENT
DTSTART;TZID=America/New_York:20261101T093000
DTEND;TZID=America/New_York:20261101T103000
DTSTAMP:20260425T125704
CREATED:20250204T162348Z
LAST-MODIFIED:20250204T162447Z
UID:10003241-1793525400-1793529000@camdenucc.org
SUMMARY:Sunday Worship
DESCRIPTION:
URL:https://camdenucc.org/event/sunday-worship/2026-11-01/
LOCATION:Hybrid: Online by Zoom and in Sanctuary
CATEGORIES:Worship
END:VEVENT
BEGIN:VEVENT
DTSTART;TZID=America/New_York:20261108T093000
DTEND;TZID=America/New_York:20261108T103000
DTSTAMP:20260425T125704
CREATED:20250204T162348Z
LAST-MODIFIED:20250204T162447Z
UID:10003242-1794130200-1794133800@camdenucc.org
SUMMARY:Sunday Worship
DESCRIPTION:
URL:https://camdenucc.org/event/sunday-worship/2026-11-08/
LOCATION:Hybrid: Online by Zoom and in Sanctuary
CATEGORIES:Worship
END:VEVENT
BEGIN:VEVENT
DTSTART;TZID=America/New_York:20261115T093000
DTEND;TZID=America/New_York:20261115T103000
DTSTAMP:20260425T125704
CREATED:20250204T162348Z
LAST-MODIFIED:20250204T162447Z
UID:10003243-1794735000-1794738600@camdenucc.org
SUMMARY:Sunday Worship
DESCRIPTION:
URL:https://camdenucc.org/event/sunday-worship/2026-11-15/
LOCATION:Hybrid: Online by Zoom and in Sanctuary
CATEGORIES:Worship
END:VEVENT
BEGIN:VEVENT
DTSTART;TZID=America/New_York:20261122T093000
DTEND;TZID=America/New_York:20261122T103000
DTSTAMP:20260425T125704
CREATED:20250204T162348Z
LAST-MODIFIED:20250204T162447Z
UID:10003244-1795339800-1795343400@camdenucc.org
SUMMARY:Sunday Worship
DESCRIPTION:
URL:https://camdenucc.org/event/sunday-worship/2026-11-22/
LOCATION:Hybrid: Online by Zoom and in Sanctuary
CATEGORIES:Worship
END:VEVENT
BEGIN:VEVENT
DTSTART;TZID=America/New_York:20261124T080000
DTEND;TZID=America/New_York:20261124T170000
DTSTAMP:20260425T125704
CREATED:20250716T145303Z
LAST-MODIFIED:20250716T145303Z
UID:10003731-1795507200-1795539600@camdenucc.org
SUMMARY:Deadline for BEACON articles
DESCRIPTION:
URL:https://camdenucc.org/event/deadline-for-beacon-articles/2026-11-24/
CATEGORIES:Special Events/Services
END:VEVENT
BEGIN:VEVENT
DTSTART;TZID=America/New_York:20261129T093000
DTEND;TZID=America/New_York:20261129T103000
DTSTAMP:20260425T125704
CREATED:20250204T162348Z
LAST-MODIFIED:20250204T162447Z
UID:10003245-1795944600-1795948200@camdenucc.org
SUMMARY:Sunday Worship
DESCRIPTION:
URL:https://camdenucc.org/event/sunday-worship/2026-11-29/
LOCATION:Hybrid: Online by Zoom and in Sanctuary
CATEGORIES:Worship
END:VEVENT
BEGIN:VEVENT
DTSTART;TZID=America/New_York:20261206T093000
DTEND;TZID=America/New_York:20261206T103000
DTSTAMP:20260425T125704
CREATED:20250204T162348Z
LAST-MODIFIED:20250204T162447Z
UID:10003246-1796549400-1796553000@camdenucc.org
SUMMARY:Sunday Worship
DESCRIPTION:
URL:https://camdenucc.org/event/sunday-worship/2026-12-06/
LOCATION:Hybrid: Online by Zoom and in Sanctuary
CATEGORIES:Worship
END:VEVENT
BEGIN:VEVENT
DTSTART;TZID=America/New_York:20261213T093000
DTEND;TZID=America/New_York:20261213T103000
DTSTAMP:20260425T125704
CREATED:20250204T162348Z
LAST-MODIFIED:20250204T162447Z
UID:10003247-1797154200-1797157800@camdenucc.org
SUMMARY:Sunday Worship
DESCRIPTION:
URL:https://camdenucc.org/event/sunday-worship/2026-12-13/
LOCATION:Hybrid: Online by Zoom and in Sanctuary
CATEGORIES:Worship
END:VEVENT
BEGIN:VEVENT
DTSTART;TZID=America/New_York:20261220T093000
DTEND;TZID=America/New_York:20261220T103000
DTSTAMP:20260425T125704
CREATED:20250204T162348Z
LAST-MODIFIED:20250204T162447Z
UID:10003248-1797759000-1797762600@camdenucc.org
SUMMARY:Sunday Worship
DESCRIPTION:
URL:https://camdenucc.org/event/sunday-worship/2026-12-20/
LOCATION:Hybrid: Online by Zoom and in Sanctuary
CATEGORIES:Worship
END:VEVENT
BEGIN:VEVENT
DTSTART;TZID=America/New_York:20261224T080000
DTEND;TZID=America/New_York:20261224T170000
DTSTAMP:20260425T125704
CREATED:20250716T145303Z
LAST-MODIFIED:20250716T145303Z
UID:10003732-1798099200-1798131600@camdenucc.org
SUMMARY:Deadline for BEACON articles
DESCRIPTION:
URL:https://camdenucc.org/event/deadline-for-beacon-articles/2026-12-24/
CATEGORIES:Special Events/Services
END:VEVENT
BEGIN:VEVENT
DTSTART;TZID=America/New_York:20261227T093000
DTEND;TZID=America/New_York:20261227T103000
DTSTAMP:20260425T125704
CREATED:20250204T162348Z
LAST-MODIFIED:20250204T162447Z
UID:10003249-1798363800-1798367400@camdenucc.org
SUMMARY:Sunday Worship
DESCRIPTION:
URL:https://camdenucc.org/event/sunday-worship/2026-12-27/
LOCATION:Hybrid: Online by Zoom and in Sanctuary
CATEGORIES:Worship
END:VEVENT
BEGIN:VEVENT
DTSTART;TZID=America/New_York:20270103T093000
DTEND;TZID=America/New_York:20270103T103000
DTSTAMP:20260425T125704
CREATED:20250204T162348Z
LAST-MODIFIED:20250204T162447Z
UID:10003250-1798968600-1798972200@camdenucc.org
SUMMARY:Sunday Worship
DESCRIPTION:
URL:https://camdenucc.org/event/sunday-worship/2027-01-03/
LOCATION:Hybrid: Online by Zoom and in Sanctuary
CATEGORIES:Worship
END:VEVENT
BEGIN:VEVENT
DTSTART;TZID=America/New_York:20270110T093000
DTEND;TZID=America/New_York:20270110T103000
DTSTAMP:20260425T125704
CREATED:20250204T162348Z
LAST-MODIFIED:20250204T162447Z
UID:10003251-1799573400-1799577000@camdenucc.org
SUMMARY:Sunday Worship
DESCRIPTION:
URL:https://camdenucc.org/event/sunday-worship/2027-01-10/
LOCATION:Hybrid: Online by Zoom and in Sanctuary
CATEGORIES:Worship
END:VEVENT
BEGIN:VEVENT
DTSTART;TZID=America/New_York:20270117T093000
DTEND;TZID=America/New_York:20270117T103000
DTSTAMP:20260425T125704
CREATED:20250204T162348Z
LAST-MODIFIED:20250204T162447Z
UID:10003252-1800178200-1800181800@camdenucc.org
SUMMARY:Sunday Worship
DESCRIPTION:
URL:https://camdenucc.org/event/sunday-worship/2027-01-17/
LOCATION:Hybrid: Online by Zoom and in Sanctuary
CATEGORIES:Worship
END:VEVENT
BEGIN:VEVENT
DTSTART;TZID=America/New_York:20270124T093000
DTEND;TZID=America/New_York:20270124T103000
DTSTAMP:20260425T125704
CREATED:20250204T162348Z
LAST-MODIFIED:20250204T162447Z
UID:10003253-1800783000-1800786600@camdenucc.org
SUMMARY:Sunday Worship
DESCRIPTION:
URL:https://camdenucc.org/event/sunday-worship/2027-01-24/
LOCATION:Hybrid: Online by Zoom and in Sanctuary
CATEGORIES:Worship
END:VEVENT
BEGIN:VEVENT
DTSTART;TZID=America/New_York:20270131T093000
DTEND;TZID=America/New_York:20270131T103000
DTSTAMP:20260425T125704
CREATED:20250204T162348Z
LAST-MODIFIED:20250204T162447Z
UID:10003254-1801387800-1801391400@camdenucc.org
SUMMARY:Sunday Worship
DESCRIPTION:
URL:https://camdenucc.org/event/sunday-worship/2027-01-31/
LOCATION:Hybrid: Online by Zoom and in Sanctuary
CATEGORIES:Worship
END:VEVENT
BEGIN:VEVENT
DTSTART;TZID=America/New_York:20270207T093000
DTEND;TZID=America/New_York:20270207T103000
DTSTAMP:20260425T125704
CREATED:20250204T162348Z
LAST-MODIFIED:20250204T162447Z
UID:10003255-1801992600-1801996200@camdenucc.org
SUMMARY:Sunday Worship
DESCRIPTION:
URL:https://camdenucc.org/event/sunday-worship/2027-02-07/
LOCATION:Hybrid: Online by Zoom and in Sanctuary
CATEGORIES:Worship
END:VEVENT
BEGIN:VEVENT
DTSTART;TZID=America/New_York:20270214T093000
DTEND;TZID=America/New_York:20270214T103000
DTSTAMP:20260425T125704
CREATED:20250204T162348Z
LAST-MODIFIED:20250204T162447Z
UID:10003256-1802597400-1802601000@camdenucc.org
SUMMARY:Sunday Worship
DESCRIPTION:
URL:https://camdenucc.org/event/sunday-worship/2027-02-14/
LOCATION:Hybrid: Online by Zoom and in Sanctuary
CATEGORIES:Worship
END:VEVENT
BEGIN:VEVENT
DTSTART;TZID=America/New_York:20270221T093000
DTEND;TZID=America/New_York:20270221T103000
DTSTAMP:20260425T125704
CREATED:20250204T162348Z
LAST-MODIFIED:20250204T162447Z
UID:10003257-1803202200-1803205800@camdenucc.org
SUMMARY:Sunday Worship
DESCRIPTION:
URL:https://camdenucc.org/event/sunday-worship/2027-02-21/
LOCATION:Hybrid: Online by Zoom and in Sanctuary
CATEGORIES:Worship
END:VEVENT
BEGIN:VEVENT
DTSTART;TZID=America/New_York:20270228T093000
DTEND;TZID=America/New_York:20270228T103000
DTSTAMP:20260425T125704
CREATED:20250204T162348Z
LAST-MODIFIED:20250204T162447Z
UID:10003258-1803807000-1803810600@camdenucc.org
SUMMARY:Sunday Worship
DESCRIPTION:
URL:https://camdenucc.org/event/sunday-worship/2027-02-28/
LOCATION:Hybrid: Online by Zoom and in Sanctuary
CATEGORIES:Worship
END:VEVENT
BEGIN:VEVENT
DTSTART;TZID=America/New_York:20270307T093000
DTEND;TZID=America/New_York:20270307T103000
DTSTAMP:20260425T125704
CREATED:20250204T162348Z
LAST-MODIFIED:20250204T162447Z
UID:10003259-1804411800-1804415400@camdenucc.org
SUMMARY:Sunday Worship
DESCRIPTION:
URL:https://camdenucc.org/event/sunday-worship/2027-03-07/
LOCATION:Hybrid: Online by Zoom and in Sanctuary
CATEGORIES:Worship
END:VEVENT
BEGIN:VEVENT
DTSTART;TZID=America/New_York:20270314T093000
DTEND;TZID=America/New_York:20270314T103000
DTSTAMP:20260425T125704
CREATED:20250204T162348Z
LAST-MODIFIED:20250204T162447Z
UID:10003260-1805016600-1805020200@camdenucc.org
SUMMARY:Sunday Worship
DESCRIPTION:
URL:https://camdenucc.org/event/sunday-worship/2027-03-14/
LOCATION:Hybrid: Online by Zoom and in Sanctuary
CATEGORIES:Worship
END:VEVENT
BEGIN:VEVENT
DTSTART;TZID=America/New_York:20270321T093000
DTEND;TZID=America/New_York:20270321T103000
DTSTAMP:20260425T125704
CREATED:20250204T162348Z
LAST-MODIFIED:20250204T162447Z
UID:10003261-1805621400-1805625000@camdenucc.org
SUMMARY:Sunday Worship
DESCRIPTION:
URL:https://camdenucc.org/event/sunday-worship/2027-03-21/
LOCATION:Hybrid: Online by Zoom and in Sanctuary
CATEGORIES:Worship
END:VEVENT
END:VCALENDAR