BEGIN:VCALENDAR
VERSION:2.0
PRODID:-//First Congregational Church of Camden, Maine - ECPv6.15.20//NONSGML v1.0//EN
CALSCALE:GREGORIAN
METHOD:PUBLISH
X-ORIGINAL-URL:https://camdenucc.org
X-WR-CALDESC:Events for First Congregational Church of Camden, Maine
REFRESH-INTERVAL;VALUE=DURATION:PT1H
X-Robots-Tag:noindex
X-PUBLISHED-TTL:PT1H
BEGIN:VTIMEZONE
TZID:America/New_York
BEGIN:DAYLIGHT
TZOFFSETFROM:-0500
TZOFFSETTO:-0400
TZNAME:EDT
DTSTART:20240310T070000
END:DAYLIGHT
BEGIN:STANDARD
TZOFFSETFROM:-0400
TZOFFSETTO:-0500
TZNAME:EST
DTSTART:20241103T060000
END:STANDARD
BEGIN:DAYLIGHT
TZOFFSETFROM:-0500
TZOFFSETTO:-0400
TZNAME:EDT
DTSTART:20250309T070000
END:DAYLIGHT
BEGIN:STANDARD
TZOFFSETFROM:-0400
TZOFFSETTO:-0500
TZNAME:EST
DTSTART:20251102T060000
END:STANDARD
BEGIN:DAYLIGHT
TZOFFSETFROM:-0500
TZOFFSETTO:-0400
TZNAME:EDT
DTSTART:20260308T070000
END:DAYLIGHT
BEGIN:STANDARD
TZOFFSETFROM:-0400
TZOFFSETTO:-0500
TZNAME:EST
DTSTART:20261101T060000
END:STANDARD
END:VTIMEZONE
BEGIN:VEVENT
DTSTART;TZID=America/New_York:20250617T180000
DTEND;TZID=America/New_York:20250617T200000
DTSTAMP:20260425T114448
CREATED:20250530T183949Z
LAST-MODIFIED:20250530T183949Z
UID:10003563-1750183200-1750190400@camdenucc.org
SUMMARY:Men's Group Bible Study
DESCRIPTION:
URL:https://camdenucc.org/event/mens-group-bible-study-2/2025-06-17/
LOCATION:In person\, Pilgrim Room\, 55 Elm Street\, Camden\, 04843\, United States
CATEGORIES:Adult Education
END:VEVENT
BEGIN:VEVENT
DTSTART;TZID=America/New_York:20250618T170000
DTEND;TZID=America/New_York:20250618T183000
DTSTAMP:20260425T114448
CREATED:20250423T190606Z
LAST-MODIFIED:20250423T190606Z
UID:10003539-1750266000-1750271400@camdenucc.org
SUMMARY:Trustees
DESCRIPTION:
URL:https://camdenucc.org/event/trustees-5/
LOCATION:Online by Zoom invitation
CATEGORIES:Church Meetings
END:VEVENT
BEGIN:VEVENT
DTSTART;TZID=America/New_York:20250622T093000
DTEND;TZID=America/New_York:20250622T103000
DTSTAMP:20260425T114448
CREATED:20250204T162348Z
LAST-MODIFIED:20250204T162447Z
UID:10003170-1750584600-1750588200@camdenucc.org
SUMMARY:Sunday Worship
DESCRIPTION:
URL:https://camdenucc.org/event/sunday-worship/2025-06-22/
LOCATION:Hybrid: Online by Zoom and in Sanctuary
CATEGORIES:Worship
END:VEVENT
BEGIN:VEVENT
DTSTART;TZID=America/New_York:20250628T140000
DTEND;TZID=America/New_York:20250628T160000
DTSTAMP:20260425T114448
CREATED:20250605T144713Z
LAST-MODIFIED:20250605T144713Z
UID:10003570-1751119200-1751126400@camdenucc.org
SUMMARY:Memorial Service for Allen Fernald
DESCRIPTION:
URL:https://camdenucc.org/event/memorial-service-for-allen-fernald/
LOCATION:In person\, Sanctuary\, 55 Elm Street\, Camden\, 04843\, United States
CATEGORIES:Special Events/Services
END:VEVENT
BEGIN:VEVENT
DTSTART;TZID=America/New_York:20250629T093000
DTEND;TZID=America/New_York:20250629T103000
DTSTAMP:20260425T114448
CREATED:20250204T162348Z
LAST-MODIFIED:20250204T162447Z
UID:10003171-1751189400-1751193000@camdenucc.org
SUMMARY:Sunday Worship
DESCRIPTION:
URL:https://camdenucc.org/event/sunday-worship/2025-06-29/
LOCATION:Hybrid: Online by Zoom and in Sanctuary
CATEGORIES:Worship
END:VEVENT
BEGIN:VEVENT
DTSTART;TZID=America/New_York:20250630T083000
DTEND;TZID=America/New_York:20250630T153000
DTSTAMP:20260425T114448
CREATED:20250617T171719Z
LAST-MODIFIED:20250617T172049Z
UID:10003574-1751272200-1751297400@camdenucc.org
SUMMARY:Office Closed Mondays in Summer
DESCRIPTION:
URL:https://camdenucc.org/event/office-closed-mondays-in-summer/2025-06-30/
LOCATION:In person\, First Congregational UCC\, 55 Elm Street\, Camden\, ME\, 04843
CATEGORIES:Church Office Closed
END:VEVENT
BEGIN:VEVENT
DTSTART;TZID=America/New_York:20250701T180000
DTEND;TZID=America/New_York:20250701T200000
DTSTAMP:20260425T114448
CREATED:20250530T183949Z
LAST-MODIFIED:20250530T183949Z
UID:10003564-1751392800-1751400000@camdenucc.org
SUMMARY:Men's Group Bible Study
DESCRIPTION:
URL:https://camdenucc.org/event/mens-group-bible-study-2/2025-07-01/
LOCATION:In person\, Pilgrim Room\, 55 Elm Street\, Camden\, 04843\, United States
CATEGORIES:Adult Education
END:VEVENT
BEGIN:VEVENT
DTSTART;TZID=America/New_York:20250702T093000
DTEND;TZID=America/New_York:20250702T100000
DTSTAMP:20260425T114448
CREATED:20250716T143056Z
LAST-MODIFIED:20250716T143056Z
UID:10003659-1751448600-1751450400@camdenucc.org
SUMMARY:Staff Meeting
DESCRIPTION:
URL:https://camdenucc.org/event/staff-meeting/2025-07-02/
LOCATION:Hybrid: Zoom and in person\, Conference Room\, 55 Elm Street\, Camden\, 04843\, United States
CATEGORIES:Church Meetings
END:VEVENT
BEGIN:VEVENT
DTSTART;TZID=America/New_York:20250703T163000
DTEND;TZID=America/New_York:20250703T180000
DTSTAMP:20260425T114448
CREATED:20250617T171532Z
LAST-MODIFIED:20250617T171532Z
UID:10003573-1751560200-1751565600@camdenucc.org
SUMMARY:Exploring Grief
DESCRIPTION:
URL:https://camdenucc.org/event/exploring-grief/
LOCATION:In person\, Mayflower Room\, 55 Elm Street\, Camden\, ME\, 04843
CATEGORIES:Adult Education
END:VEVENT
BEGIN:VEVENT
DTSTART;TZID=America/New_York:20250706T093000
DTEND;TZID=America/New_York:20250706T103000
DTSTAMP:20260425T114448
CREATED:20250204T162348Z
LAST-MODIFIED:20250204T162447Z
UID:10003172-1751794200-1751797800@camdenucc.org
SUMMARY:Sunday Worship
DESCRIPTION:
URL:https://camdenucc.org/event/sunday-worship/2025-07-06/
LOCATION:Hybrid: Online by Zoom and in Sanctuary
CATEGORIES:Worship
END:VEVENT
BEGIN:VEVENT
DTSTART;TZID=America/New_York:20250707T083000
DTEND;TZID=America/New_York:20250707T153000
DTSTAMP:20260425T114448
CREATED:20250617T171719Z
LAST-MODIFIED:20250617T172049Z
UID:10003575-1751877000-1751902200@camdenucc.org
SUMMARY:Office Closed Mondays in Summer
DESCRIPTION:
URL:https://camdenucc.org/event/office-closed-mondays-in-summer/2025-07-07/
LOCATION:In person\, First Congregational UCC\, 55 Elm Street\, Camden\, ME\, 04843
CATEGORIES:Church Office Closed
END:VEVENT
BEGIN:VEVENT
DTSTART;TZID=America/New_York:20250708T163000
DTEND;TZID=America/New_York:20250708T180000
DTSTAMP:20260425T114448
CREATED:20250716T142910Z
LAST-MODIFIED:20250716T142910Z
UID:10003658-1751992200-1751997600@camdenucc.org
SUMMARY:Communications
DESCRIPTION:
URL:https://camdenucc.org/event/communications-6/
LOCATION:Hybrid: Zoom and in person\, Conference Room\, 55 Elm Street\, Camden\, 04843\, United States
CATEGORIES:Church Meetings
END:VEVENT
BEGIN:VEVENT
DTSTART;TZID=America/New_York:20250709T093000
DTEND;TZID=America/New_York:20250709T100000
DTSTAMP:20260425T114448
CREATED:20250716T143056Z
LAST-MODIFIED:20250716T143056Z
UID:10003660-1752053400-1752055200@camdenucc.org
SUMMARY:Staff Meeting
DESCRIPTION:
URL:https://camdenucc.org/event/staff-meeting/2025-07-09/
LOCATION:Hybrid: Zoom and in person\, Conference Room\, 55 Elm Street\, Camden\, 04843\, United States
CATEGORIES:Church Meetings
END:VEVENT
BEGIN:VEVENT
DTSTART;TZID=America/New_York:20250712T160000
DTEND;TZID=America/New_York:20250712T173000
DTSTAMP:20260425T114448
CREATED:20250702T164245Z
LAST-MODIFIED:20250702T164245Z
UID:10003641-1752336000-1752341400@camdenucc.org
SUMMARY:Talk & Reception\, Rev. David Wood
DESCRIPTION:
URL:https://camdenucc.org/event/talk-reception-rev-david-wood/
LOCATION:In person\, Pilgrim Room\, 55 Elm Street\, Camden\, 04843\, United States
CATEGORIES:Church Meetings
END:VEVENT
BEGIN:VEVENT
DTSTART;TZID=America/New_York:20250713T093000
DTEND;TZID=America/New_York:20250713T103000
DTSTAMP:20260425T114448
CREATED:20250702T164344Z
LAST-MODIFIED:20250702T164344Z
UID:10003173-1752399000-1752402600@camdenucc.org
SUMMARY:Sunday Worship\, Candidate Rev. David Wood
DESCRIPTION:
URL:https://camdenucc.org/event/sunday-worship-10/
LOCATION:Hybrid: Online by Zoom and in Sanctuary
CATEGORIES:Worship
END:VEVENT
BEGIN:VEVENT
DTSTART;TZID=America/New_York:20250713T103000
DTEND;TZID=America/New_York:20250713T110000
DTSTAMP:20260425T114448
CREATED:20250702T164643Z
LAST-MODIFIED:20250702T164643Z
UID:10003651-1752402600-1752404400@camdenucc.org
SUMMARY:All-church Meeting to Vote on Interim Minister
DESCRIPTION:
URL:https://camdenucc.org/event/all-church-meeting-to-vote-on-interim-minister/
LOCATION:Hybrid: Online by Zoom and in Sanctuary
CATEGORIES:Church Meetings
END:VEVENT
BEGIN:VEVENT
DTSTART;TZID=America/New_York:20250714T083000
DTEND;TZID=America/New_York:20250714T153000
DTSTAMP:20260425T114448
CREATED:20250617T171719Z
LAST-MODIFIED:20250617T172049Z
UID:10003576-1752481800-1752507000@camdenucc.org
SUMMARY:Office Closed Mondays in Summer
DESCRIPTION:
URL:https://camdenucc.org/event/office-closed-mondays-in-summer/2025-07-14/
LOCATION:In person\, First Congregational UCC\, 55 Elm Street\, Camden\, ME\, 04843
CATEGORIES:Church Office Closed
END:VEVENT
BEGIN:VEVENT
DTSTART;TZID=America/New_York:20250716T093000
DTEND;TZID=America/New_York:20250716T100000
DTSTAMP:20260425T114448
CREATED:20250716T143056Z
LAST-MODIFIED:20250716T143056Z
UID:10003661-1752658200-1752660000@camdenucc.org
SUMMARY:Staff Meeting
DESCRIPTION:
URL:https://camdenucc.org/event/staff-meeting/2025-07-16/
LOCATION:Hybrid: Zoom and in person\, Conference Room\, 55 Elm Street\, Camden\, 04843\, United States
CATEGORIES:Church Meetings
END:VEVENT
BEGIN:VEVENT
DTSTART;TZID=America/New_York:20250716T123000
DTEND;TZID=America/New_York:20250716T150000
DTSTAMP:20260425T114448
CREATED:20250702T160940Z
LAST-MODIFIED:20250702T160940Z
UID:10003639-1752669000-1752678000@camdenucc.org
SUMMARY:Shields
DESCRIPTION:
URL:https://camdenucc.org/event/shields-6/
LOCATION:In person\, private home
CATEGORIES:Church Meetings
END:VEVENT
BEGIN:VEVENT
DTSTART;TZID=America/New_York:20250717T173000
DTEND;TZID=America/New_York:20250717T200000
DTSTAMP:20260425T114448
CREATED:20250605T151202Z
LAST-MODIFIED:20250605T151202Z
UID:10003572-1752773400-1752782400@camdenucc.org
SUMMARY:Women's Potluck Supper
DESCRIPTION:
URL:https://camdenucc.org/event/womens-potluck-supper-2/
LOCATION:In person\, Pilgrim Room\, 55 Elm Street\, Camden\, 04843\, United States
CATEGORIES:Meals
END:VEVENT
BEGIN:VEVENT
DTSTART;TZID=America/New_York:20250720T093000
DTEND;TZID=America/New_York:20250720T103000
DTSTAMP:20260425T114448
CREATED:20250204T162348Z
LAST-MODIFIED:20250204T162447Z
UID:10003174-1753003800-1753007400@camdenucc.org
SUMMARY:Sunday Worship
DESCRIPTION:
URL:https://camdenucc.org/event/sunday-worship/2025-07-20/
LOCATION:Hybrid: Online by Zoom and in Sanctuary
CATEGORIES:Worship
END:VEVENT
BEGIN:VEVENT
DTSTART;TZID=America/New_York:20250720T103000
DTEND;TZID=America/New_York:20250720T120000
DTSTAMP:20260425T114448
CREATED:20250702T164952Z
LAST-MODIFIED:20250702T164952Z
UID:10003652-1753007400-1753012800@camdenucc.org
SUMMARY:Celebration Cookout for Patty Fox
DESCRIPTION:
URL:https://camdenucc.org/event/celebration-cookout-for-patty-fox/
LOCATION:Free Street lawn & driveway\, 55 Elm Street\, Camden\, ME\, 04843\, United States
CATEGORIES:Meals
END:VEVENT
BEGIN:VEVENT
DTSTART;TZID=America/New_York:20250720T160000
DTEND;TZID=America/New_York:20250720T170000
DTSTAMP:20260425T114448
CREATED:20250408T143504Z
LAST-MODIFIED:20250408T143932Z
UID:10003526-1753027200-1753030800@camdenucc.org
SUMMARY:Friends of Music Free Event~Musical Murder Mystery Tea
DESCRIPTION:
URL:https://camdenucc.org/event/friends-of-music-free-eventmusical-murder-mystery-tea/
LOCATION:In person\, First Congregational UCC\, 55 Elm Street\, Camden\, ME\, 04843
CATEGORIES:Concerts
END:VEVENT
BEGIN:VEVENT
DTSTART;TZID=America/New_York:20250721T083000
DTEND;TZID=America/New_York:20250721T153000
DTSTAMP:20260425T114448
CREATED:20250617T171719Z
LAST-MODIFIED:20250617T172049Z
UID:10003577-1753086600-1753111800@camdenucc.org
SUMMARY:Office Closed Mondays in Summer
DESCRIPTION:
URL:https://camdenucc.org/event/office-closed-mondays-in-summer/2025-07-21/
LOCATION:In person\, First Congregational UCC\, 55 Elm Street\, Camden\, ME\, 04843
CATEGORIES:Church Office Closed
END:VEVENT
BEGIN:VEVENT
DTSTART;TZID=America/New_York:20250722T160000
DTEND;TZID=America/New_York:20250722T183000
DTSTAMP:20260425T114448
CREATED:20250702T162728Z
LAST-MODIFIED:20250702T162728Z
UID:10003640-1753200000-1753209000@camdenucc.org
SUMMARY:Cabinet
DESCRIPTION:
URL:https://camdenucc.org/event/cabinet-4/
LOCATION:Hybrid: Zoom and in person\, Conference Room\, 55 Elm Street\, Camden\, 04843\, United States
CATEGORIES:Church Meetings
END:VEVENT
BEGIN:VEVENT
DTSTART;TZID=America/New_York:20250723T093000
DTEND;TZID=America/New_York:20250723T100000
DTSTAMP:20260425T114448
CREATED:20250716T143056Z
LAST-MODIFIED:20250716T143056Z
UID:10003662-1753263000-1753264800@camdenucc.org
SUMMARY:Staff Meeting
DESCRIPTION:
URL:https://camdenucc.org/event/staff-meeting/2025-07-23/
LOCATION:Hybrid: Zoom and in person\, Conference Room\, 55 Elm Street\, Camden\, 04843\, United States
CATEGORIES:Church Meetings
END:VEVENT
BEGIN:VEVENT
DTSTART;TZID=America/New_York:20250724T080000
DTEND;TZID=America/New_York:20250724T170000
DTSTAMP:20260425T114448
CREATED:20250716T145303Z
LAST-MODIFIED:20250716T145303Z
UID:10003715-1753344000-1753376400@camdenucc.org
SUMMARY:Deadline for BEACON articles
DESCRIPTION:
URL:https://camdenucc.org/event/deadline-for-beacon-articles/2025-07-24/
CATEGORIES:Special Events/Services
END:VEVENT
BEGIN:VEVENT
DTSTART;TZID=America/New_York:20250727T093000
DTEND;TZID=America/New_York:20250727T103000
DTSTAMP:20260425T114448
CREATED:20250204T162348Z
LAST-MODIFIED:20250204T162447Z
UID:10003175-1753608600-1753612200@camdenucc.org
SUMMARY:Sunday Worship
DESCRIPTION:
URL:https://camdenucc.org/event/sunday-worship/2025-07-27/
LOCATION:Hybrid: Online by Zoom and in Sanctuary
CATEGORIES:Worship
END:VEVENT
BEGIN:VEVENT
DTSTART;TZID=America/New_York:20250728T083000
DTEND;TZID=America/New_York:20250728T153000
DTSTAMP:20260425T114448
CREATED:20250617T171719Z
LAST-MODIFIED:20250617T172049Z
UID:10003578-1753691400-1753716600@camdenucc.org
SUMMARY:Office Closed Mondays in Summer
DESCRIPTION:
URL:https://camdenucc.org/event/office-closed-mondays-in-summer/2025-07-28/
LOCATION:In person\, First Congregational UCC\, 55 Elm Street\, Camden\, ME\, 04843
CATEGORIES:Church Office Closed
END:VEVENT
BEGIN:VEVENT
DTSTART;TZID=America/New_York:20250730T093000
DTEND;TZID=America/New_York:20250730T100000
DTSTAMP:20260425T114448
CREATED:20250716T143056Z
LAST-MODIFIED:20250716T143056Z
UID:10003663-1753867800-1753869600@camdenucc.org
SUMMARY:Staff Meeting
DESCRIPTION:
URL:https://camdenucc.org/event/staff-meeting/2025-07-30/
LOCATION:Hybrid: Zoom and in person\, Conference Room\, 55 Elm Street\, Camden\, 04843\, United States
CATEGORIES:Church Meetings
END:VEVENT
END:VCALENDAR