BEGIN:VCALENDAR
VERSION:2.0
PRODID:-//First Congregational Church of Camden, Maine - ECPv6.15.20//NONSGML v1.0//EN
CALSCALE:GREGORIAN
METHOD:PUBLISH
X-WR-CALNAME:First Congregational Church of Camden, Maine
X-ORIGINAL-URL:https://camdenucc.org
X-WR-CALDESC:Events for First Congregational Church of Camden, Maine
REFRESH-INTERVAL;VALUE=DURATION:PT1H
X-Robots-Tag:noindex
X-PUBLISHED-TTL:PT1H
BEGIN:VTIMEZONE
TZID:America/New_York
BEGIN:DAYLIGHT
TZOFFSETFROM:-0500
TZOFFSETTO:-0400
TZNAME:EDT
DTSTART:20240310T070000
END:DAYLIGHT
BEGIN:STANDARD
TZOFFSETFROM:-0400
TZOFFSETTO:-0500
TZNAME:EST
DTSTART:20241103T060000
END:STANDARD
BEGIN:DAYLIGHT
TZOFFSETFROM:-0500
TZOFFSETTO:-0400
TZNAME:EDT
DTSTART:20250309T070000
END:DAYLIGHT
BEGIN:STANDARD
TZOFFSETFROM:-0400
TZOFFSETTO:-0500
TZNAME:EST
DTSTART:20251102T060000
END:STANDARD
BEGIN:DAYLIGHT
TZOFFSETFROM:-0500
TZOFFSETTO:-0400
TZNAME:EDT
DTSTART:20260308T070000
END:DAYLIGHT
BEGIN:STANDARD
TZOFFSETFROM:-0400
TZOFFSETTO:-0500
TZNAME:EST
DTSTART:20261101T060000
END:STANDARD
END:VTIMEZONE
BEGIN:VEVENT
DTSTART;TZID=America/New_York:20251012T093000
DTEND;TZID=America/New_York:20251012T103000
DTSTAMP:20260425T100734
CREATED:20250204T162348Z
LAST-MODIFIED:20250204T162447Z
UID:10003186-1760261400-1760265000@camdenucc.org
SUMMARY:Sunday Worship
DESCRIPTION:
URL:https://camdenucc.org/event/sunday-worship/2025-10-12/
LOCATION:Hybrid: Online by Zoom and in Sanctuary
CATEGORIES:Worship
END:VEVENT
BEGIN:VEVENT
DTSTART;TZID=America/New_York:20251013T170000
DTEND;TZID=America/New_York:20251013T203000
DTSTAMP:20260425T100734
CREATED:20250806T155634Z
LAST-MODIFIED:20250806T155634Z
UID:10003738-1760374800-1760387400@camdenucc.org
SUMMARY:Midcoast Community Chorus Rehearsal
DESCRIPTION:
URL:https://camdenucc.org/event/midcoast-community-chorus-rehearsal/2025-10-13/
LOCATION:In person\, First Congregational UCC\, 55 Elm Street\, Camden\, ME\, 04843
CATEGORIES:Rehearsals,Rentals
END:VEVENT
BEGIN:VEVENT
DTSTART;TZID=America/New_York:20251014T120000
DTEND;TZID=America/New_York:20251014T130000
DTSTAMP:20260425T100734
CREATED:20250909T190610Z
LAST-MODIFIED:20250909T190610Z
UID:10003794-1760443200-1760446800@camdenucc.org
SUMMARY:Membership
DESCRIPTION:
URL:https://camdenucc.org/event/membership-7/
LOCATION:Hybrid: Zoom and in person\, Conference Room\, 55 Elm Street\, Camden\, 04843\, United States
CATEGORIES:Church Meetings
END:VEVENT
BEGIN:VEVENT
DTSTART;TZID=America/New_York:20251015T093000
DTEND;TZID=America/New_York:20251015T100000
DTSTAMP:20260425T100734
CREATED:20250716T143056Z
LAST-MODIFIED:20250716T143056Z
UID:10003674-1760520600-1760522400@camdenucc.org
SUMMARY:Staff Meeting
DESCRIPTION:
URL:https://camdenucc.org/event/staff-meeting/2025-10-15/
LOCATION:Hybrid: Zoom and in person\, Conference Room\, 55 Elm Street\, Camden\, 04843\, United States
CATEGORIES:Church Meetings
END:VEVENT
BEGIN:VEVENT
DTSTART;TZID=America/New_York:20251016T173000
DTEND;TZID=America/New_York:20251016T210000
DTSTAMP:20260425T100734
CREATED:20250820T191233Z
LAST-MODIFIED:20250820T191233Z
UID:10003787-1760635800-1760648400@camdenucc.org
SUMMARY:Stewardship Dinner & Silent Auction
DESCRIPTION:
URL:https://camdenucc.org/event/stewardship-dinner-silent-auction/
LOCATION:In person\, Pilgrim and Mayflower Rooms\, 55 Elm Street\, Camden\, ME\, 04843\, United States
CATEGORIES:Meals
END:VEVENT
BEGIN:VEVENT
DTSTART;TZID=America/New_York:20251019T093000
DTEND;TZID=America/New_York:20251019T103000
DTSTAMP:20260425T100734
CREATED:20250204T162348Z
LAST-MODIFIED:20250204T162447Z
UID:10003187-1760866200-1760869800@camdenucc.org
SUMMARY:Sunday Worship
DESCRIPTION:
URL:https://camdenucc.org/event/sunday-worship/2025-10-19/
LOCATION:Hybrid: Online by Zoom and in Sanctuary
CATEGORIES:Worship
END:VEVENT
BEGIN:VEVENT
DTSTART;TZID=America/New_York:20251020T170000
DTEND;TZID=America/New_York:20251020T203000
DTSTAMP:20260425T100734
CREATED:20250806T155634Z
LAST-MODIFIED:20250806T155634Z
UID:10003739-1760979600-1760992200@camdenucc.org
SUMMARY:Midcoast Community Chorus Rehearsal
DESCRIPTION:
URL:https://camdenucc.org/event/midcoast-community-chorus-rehearsal/2025-10-20/
LOCATION:In person\, First Congregational UCC\, 55 Elm Street\, Camden\, ME\, 04843
CATEGORIES:Rehearsals,Rentals
END:VEVENT
BEGIN:VEVENT
DTSTART;TZID=America/New_York:20251021T160000
DTEND;TZID=America/New_York:20251021T173000
DTSTAMP:20260425T100734
CREATED:20251020T181548Z
LAST-MODIFIED:20251020T181548Z
UID:10003795-1761062400-1761067800@camdenucc.org
SUMMARY:Bible Study~All Welcome
DESCRIPTION:
URL:https://camdenucc.org/event/bible-studyall-welcome/
LOCATION:In person\, Pilgrim Room\, 55 Elm Street\, Camden\, 04843\, United States
CATEGORIES:Adult Education
END:VEVENT
BEGIN:VEVENT
DTSTART;TZID=America/New_York:20251022T093000
DTEND;TZID=America/New_York:20251022T100000
DTSTAMP:20260425T100734
CREATED:20250716T143056Z
LAST-MODIFIED:20250716T143056Z
UID:10003675-1761125400-1761127200@camdenucc.org
SUMMARY:Staff Meeting
DESCRIPTION:
URL:https://camdenucc.org/event/staff-meeting/2025-10-22/
LOCATION:Hybrid: Zoom and in person\, Conference Room\, 55 Elm Street\, Camden\, 04843\, United States
CATEGORIES:Church Meetings
END:VEVENT
BEGIN:VEVENT
DTSTART;TZID=America/New_York:20251022T160000
DTEND;TZID=America/New_York:20251022T170000
DTSTAMP:20260425T100734
CREATED:20251023T180815Z
LAST-MODIFIED:20251023T180815Z
UID:10003847-1761148800-1761152400@camdenucc.org
SUMMARY:Care Team
DESCRIPTION:
URL:https://camdenucc.org/event/care-team-4/
LOCATION:In person\, Conference Room\, 55 Elm Street\, Camden\, 04843\, United States
CATEGORIES:Church Meetings
END:VEVENT
BEGIN:VEVENT
DTSTART;TZID=America/New_York:20251023T090000
DTEND;TZID=America/New_York:20251023T110000
DTSTAMP:20260425T100734
CREATED:20251023T180852Z
LAST-MODIFIED:20251023T180852Z
UID:10003848-1761210000-1761217200@camdenucc.org
SUMMARY:Men's Breakfast
DESCRIPTION:
URL:https://camdenucc.org/event/mens-breakfast-5/
LOCATION:In person\, Pilgrim Room\, 55 Elm Street\, Camden\, 04843\, United States
CATEGORIES:Meals
END:VEVENT
BEGIN:VEVENT
DTSTART;TZID=America/New_York:20251024T080000
DTEND;TZID=America/New_York:20251024T170000
DTSTAMP:20260425T100734
CREATED:20250716T145303Z
LAST-MODIFIED:20250716T145303Z
UID:10003718-1761292800-1761325200@camdenucc.org
SUMMARY:Deadline for BEACON articles
DESCRIPTION:
URL:https://camdenucc.org/event/deadline-for-beacon-articles/2025-10-24/
CATEGORIES:Special Events/Services
END:VEVENT
BEGIN:VEVENT
DTSTART;TZID=America/New_York:20251026T093000
DTEND;TZID=America/New_York:20251026T103000
DTSTAMP:20260425T100734
CREATED:20250204T162348Z
LAST-MODIFIED:20250204T162447Z
UID:10003188-1761471000-1761474600@camdenucc.org
SUMMARY:Sunday Worship
DESCRIPTION:
URL:https://camdenucc.org/event/sunday-worship/2025-10-26/
LOCATION:Hybrid: Online by Zoom and in Sanctuary
CATEGORIES:Worship
END:VEVENT
BEGIN:VEVENT
DTSTART;TZID=America/New_York:20251027T170000
DTEND;TZID=America/New_York:20251027T203000
DTSTAMP:20260425T100734
CREATED:20250806T155634Z
LAST-MODIFIED:20250806T155634Z
UID:10003740-1761584400-1761597000@camdenucc.org
SUMMARY:Midcoast Community Chorus Rehearsal
DESCRIPTION:
URL:https://camdenucc.org/event/midcoast-community-chorus-rehearsal/2025-10-27/
LOCATION:In person\, First Congregational UCC\, 55 Elm Street\, Camden\, ME\, 04843
CATEGORIES:Rehearsals,Rentals
END:VEVENT
BEGIN:VEVENT
DTSTART;TZID=America/New_York:20251028T160000
DTEND;TZID=America/New_York:20251028T180000
DTSTAMP:20260425T100734
CREATED:20251020T190953Z
LAST-MODIFIED:20251020T190953Z
UID:10003844-1761667200-1761674400@camdenucc.org
SUMMARY:Cabinet
DESCRIPTION:
URL:https://camdenucc.org/event/cabinet-7/
LOCATION:Hybrid: Zoom and in person\, Conference Room\, 55 Elm Street\, Camden\, 04843\, United States
CATEGORIES:Church Meetings
END:VEVENT
BEGIN:VEVENT
DTSTART;TZID=America/New_York:20251028T180000
DTEND;TZID=America/New_York:20251028T203000
DTSTAMP:20260425T100734
CREATED:20251020T181804Z
LAST-MODIFIED:20251020T181804Z
UID:10003797-1761674400-1761683400@camdenucc.org
SUMMARY:Queer Faith Potluck & Discussion~Rev. Ben Perry
DESCRIPTION:
URL:https://camdenucc.org/event/queer-faith-potluck-discussionrev-ben-perry/
LOCATION:In person\, Pilgrim Room\, 55 Elm Street\, Camden\, 04843\, United States
CATEGORIES:Adult Education,Meals
END:VEVENT
BEGIN:VEVENT
DTSTART;TZID=America/New_York:20251029T093000
DTEND;TZID=America/New_York:20251029T100000
DTSTAMP:20260425T100734
CREATED:20250716T143056Z
LAST-MODIFIED:20250716T143056Z
UID:10003676-1761730200-1761732000@camdenucc.org
SUMMARY:Staff Meeting
DESCRIPTION:
URL:https://camdenucc.org/event/staff-meeting/2025-10-29/
LOCATION:Hybrid: Zoom and in person\, Conference Room\, 55 Elm Street\, Camden\, 04843\, United States
CATEGORIES:Church Meetings
END:VEVENT
BEGIN:VEVENT
DTSTART;TZID=America/New_York:20251030T123000
DTEND;TZID=America/New_York:20251030T143000
DTSTAMP:20260425T100734
CREATED:20251020T181927Z
LAST-MODIFIED:20251020T181927Z
UID:10003798-1761827400-1761834600@camdenucc.org
SUMMARY:Shields
DESCRIPTION:
URL:https://camdenucc.org/event/shields-8/
LOCATION:In person\, private home
CATEGORIES:Church Meetings
END:VEVENT
BEGIN:VEVENT
DTSTART;TZID=America/New_York:20251030T160000
DTEND;TZID=America/New_York:20251030T173000
DTSTAMP:20260425T100734
CREATED:20251023T181102Z
LAST-MODIFIED:20251023T181102Z
UID:10003849-1761840000-1761845400@camdenucc.org
SUMMARY:Meet Kit Ripley~Ministry in Thailand
DESCRIPTION:
URL:https://camdenucc.org/event/meet-kit-ripleyministry-in-thailand/
LOCATION:In person\, Pilgrim Room\, 55 Elm Street\, Camden\, 04843\, United States
CATEGORIES:Church Meetings
END:VEVENT
BEGIN:VEVENT
DTSTART;TZID=America/New_York:20251101T190000
DTEND;TZID=America/New_York:20251101T213000
DTSTAMP:20260425T100734
CREATED:20251020T183358Z
LAST-MODIFIED:20251020T183358Z
UID:10003816-1762023600-1762032600@camdenucc.org
SUMMARY:David Dodson Concert~Sanctuary -paid admission
DESCRIPTION:
URL:https://camdenucc.org/event/david-dodson-concertsanctuary-paid-admission/
CATEGORIES:Concerts
END:VEVENT
BEGIN:VEVENT
DTSTART;TZID=America/New_York:20251102T093000
DTEND;TZID=America/New_York:20251102T103000
DTSTAMP:20260425T100734
CREATED:20250204T162348Z
LAST-MODIFIED:20250204T162447Z
UID:10003189-1762075800-1762079400@camdenucc.org
SUMMARY:Sunday Worship
DESCRIPTION:
URL:https://camdenucc.org/event/sunday-worship/2025-11-02/
LOCATION:Hybrid: Online by Zoom and in Sanctuary
CATEGORIES:Worship
END:VEVENT
BEGIN:VEVENT
DTSTART;TZID=America/New_York:20251103T170000
DTEND;TZID=America/New_York:20251103T203000
DTSTAMP:20260425T100734
CREATED:20250806T155634Z
LAST-MODIFIED:20250806T155634Z
UID:10003741-1762189200-1762201800@camdenucc.org
SUMMARY:Midcoast Community Chorus Rehearsal
DESCRIPTION:
URL:https://camdenucc.org/event/midcoast-community-chorus-rehearsal/2025-11-03/
LOCATION:In person\, First Congregational UCC\, 55 Elm Street\, Camden\, ME\, 04843
CATEGORIES:Rehearsals,Rentals
END:VEVENT
BEGIN:VEVENT
DTSTART;TZID=America/New_York:20251104T160000
DTEND;TZID=America/New_York:20251104T173000
DTSTAMP:20260425T100734
CREATED:20251023T181150Z
LAST-MODIFIED:20251023T181435Z
UID:10003850-1762272000-1762277400@camdenucc.org
SUMMARY:Bible Study Session #3
DESCRIPTION:
URL:https://camdenucc.org/event/bible-study-session-3/
LOCATION:In person\, Pilgrim Room\, 55 Elm Street\, Camden\, 04843\, United States
CATEGORIES:Adult Education
END:VEVENT
BEGIN:VEVENT
DTSTART;TZID=America/New_York:20251105T093000
DTEND;TZID=America/New_York:20251105T100000
DTSTAMP:20260425T100734
CREATED:20250716T143056Z
LAST-MODIFIED:20250716T143056Z
UID:10003677-1762335000-1762336800@camdenucc.org
SUMMARY:Staff Meeting
DESCRIPTION:
URL:https://camdenucc.org/event/staff-meeting/2025-11-05/
LOCATION:Hybrid: Zoom and in person\, Conference Room\, 55 Elm Street\, Camden\, 04843\, United States
CATEGORIES:Church Meetings
END:VEVENT
BEGIN:VEVENT
DTSTART;TZID=America/New_York:20251106T160000
DTEND;TZID=America/New_York:20251106T170000
DTSTAMP:20260425T100734
CREATED:20251020T182502Z
LAST-MODIFIED:20251020T182502Z
UID:10003807-1762444800-1762448400@camdenucc.org
SUMMARY:Deacons
DESCRIPTION:
URL:https://camdenucc.org/event/deacons-8/
LOCATION:Hybrid: Zoom and in person\, Conference Room\, 55 Elm Street\, Camden\, 04843\, United States
CATEGORIES:Church Meetings
END:VEVENT
BEGIN:VEVENT
DTSTART;TZID=America/New_York:20251109T093000
DTEND;TZID=America/New_York:20251109T103000
DTSTAMP:20260425T100734
CREATED:20251105T171445Z
LAST-MODIFIED:20251105T171445Z
UID:10003190-1762680600-1762684200@camdenucc.org
SUMMARY:Remembrance Sunday Worship
DESCRIPTION:
URL:https://camdenucc.org/event/sunday-worship-12/
LOCATION:Hybrid: Online by Zoom and in Sanctuary
CATEGORIES:Worship
END:VEVENT
BEGIN:VEVENT
DTSTART;TZID=America/New_York:20251109T103000
DTEND;TZID=America/New_York:20251109T110000
DTSTAMP:20260425T100734
CREATED:20251105T171604Z
LAST-MODIFIED:20251105T171604Z
UID:10003871-1762684200-1762686000@camdenucc.org
SUMMARY:Stewardship Financial Presentation
DESCRIPTION:
URL:https://camdenucc.org/event/stewardship-financial-presentation/
LOCATION:Hybrid: Online by Zoom and in Sanctuary
CATEGORIES:Church Meetings
END:VEVENT
BEGIN:VEVENT
DTSTART;TZID=America/New_York:20251109T110000
DTEND;TZID=America/New_York:20251109T120000
DTSTAMP:20260425T100734
CREATED:20251020T182636Z
LAST-MODIFIED:20251105T171233Z
UID:10003808-1762686000-1762689600@camdenucc.org
SUMMARY:Informational Meeting on Joining Our Church
DESCRIPTION:
URL:https://camdenucc.org/event/informational-meeting-on-joining-our-church/
LOCATION:In person\, First Congregational UCC\, 55 Elm Street\, Camden\, ME\, 04843
CATEGORIES:Church Meetings
END:VEVENT
BEGIN:VEVENT
DTSTART;TZID=America/New_York:20251109T120000
DTEND;TZID=America/New_York:20251109T130000
DTSTAMP:20260425T100734
CREATED:20251105T184352Z
LAST-MODIFIED:20251105T184456Z
UID:10003873-1762689600-1762693200@camdenucc.org
SUMMARY:Finance Committee
DESCRIPTION:
URL:https://camdenucc.org/event/finance-committee/
LOCATION:In person\, First Congregational UCC\, 55 Elm Street\, Camden\, ME\, 04843
CATEGORIES:Church Meetings
END:VEVENT
BEGIN:VEVENT
DTSTART;TZID=America/New_York:20251110T170000
DTEND;TZID=America/New_York:20251110T173000
DTSTAMP:20260425T100734
CREATED:20251020T185612Z
LAST-MODIFIED:20251020T185725Z
UID:10003836-1762794000-1762795800@camdenucc.org
SUMMARY:Choral Bells Rehearsal
DESCRIPTION:
URL:https://camdenucc.org/event/sanctuary-choir-rehearsal/2025-11-10/
LOCATION:In person\, Sanctuary\, 55 Elm Street\, Camden\, 04843\, United States
CATEGORIES:Rehearsals
END:VEVENT
END:VCALENDAR