BEGIN:VCALENDAR
VERSION:2.0
PRODID:-//First Congregational Church of Camden, Maine - ECPv6.15.20//NONSGML v1.0//EN
CALSCALE:GREGORIAN
METHOD:PUBLISH
X-WR-CALNAME:First Congregational Church of Camden, Maine
X-ORIGINAL-URL:https://camdenucc.org
X-WR-CALDESC:Events for First Congregational Church of Camden, Maine
REFRESH-INTERVAL;VALUE=DURATION:PT1H
X-Robots-Tag:noindex
X-PUBLISHED-TTL:PT1H
BEGIN:VTIMEZONE
TZID:America/New_York
BEGIN:DAYLIGHT
TZOFFSETFROM:-0500
TZOFFSETTO:-0400
TZNAME:EDT
DTSTART:20250309T070000
END:DAYLIGHT
BEGIN:STANDARD
TZOFFSETFROM:-0400
TZOFFSETTO:-0500
TZNAME:EST
DTSTART:20251102T060000
END:STANDARD
BEGIN:DAYLIGHT
TZOFFSETFROM:-0500
TZOFFSETTO:-0400
TZNAME:EDT
DTSTART:20260308T070000
END:DAYLIGHT
BEGIN:STANDARD
TZOFFSETFROM:-0400
TZOFFSETTO:-0500
TZNAME:EST
DTSTART:20261101T060000
END:STANDARD
BEGIN:DAYLIGHT
TZOFFSETFROM:-0500
TZOFFSETTO:-0400
TZNAME:EDT
DTSTART:20270314T070000
END:DAYLIGHT
BEGIN:STANDARD
TZOFFSETFROM:-0400
TZOFFSETTO:-0500
TZNAME:EST
DTSTART:20271107T060000
END:STANDARD
END:VTIMEZONE
BEGIN:VEVENT
DTSTART;TZID=America/New_York:20260816T093000
DTEND;TZID=America/New_York:20260816T103000
DTSTAMP:20260425T102007
CREATED:20250204T162348Z
LAST-MODIFIED:20250204T162447Z
UID:10003230-1786872600-1786876200@camdenucc.org
SUMMARY:Sunday Worship
DESCRIPTION:
URL:https://camdenucc.org/event/sunday-worship/2026-08-16/
LOCATION:Hybrid: Online by Zoom and in Sanctuary
CATEGORIES:Worship
END:VEVENT
BEGIN:VEVENT
DTSTART;TZID=America/New_York:20260809T093000
DTEND;TZID=America/New_York:20260809T103000
DTSTAMP:20260425T102007
CREATED:20250204T162348Z
LAST-MODIFIED:20250204T162447Z
UID:10003229-1786267800-1786271400@camdenucc.org
SUMMARY:Sunday Worship
DESCRIPTION:
URL:https://camdenucc.org/event/sunday-worship/2026-08-09/
LOCATION:Hybrid: Online by Zoom and in Sanctuary
CATEGORIES:Worship
END:VEVENT
BEGIN:VEVENT
DTSTART;TZID=America/New_York:20260802T093000
DTEND;TZID=America/New_York:20260802T103000
DTSTAMP:20260425T102007
CREATED:20250204T162348Z
LAST-MODIFIED:20250204T162447Z
UID:10003228-1785663000-1785666600@camdenucc.org
SUMMARY:Sunday Worship
DESCRIPTION:
URL:https://camdenucc.org/event/sunday-worship/2026-08-02/
LOCATION:Hybrid: Online by Zoom and in Sanctuary
CATEGORIES:Worship
END:VEVENT
BEGIN:VEVENT
DTSTART;TZID=America/New_York:20260726T093000
DTEND;TZID=America/New_York:20260726T103000
DTSTAMP:20260425T102007
CREATED:20250204T162348Z
LAST-MODIFIED:20250204T162447Z
UID:10003227-1785058200-1785061800@camdenucc.org
SUMMARY:Sunday Worship
DESCRIPTION:
URL:https://camdenucc.org/event/sunday-worship/2026-07-26/
LOCATION:Hybrid: Online by Zoom and in Sanctuary
CATEGORIES:Worship
END:VEVENT
BEGIN:VEVENT
DTSTART;TZID=America/New_York:20260724T080000
DTEND;TZID=America/New_York:20260724T170000
DTSTAMP:20260425T102007
CREATED:20250716T145303Z
LAST-MODIFIED:20250716T145303Z
UID:10003727-1784880000-1784912400@camdenucc.org
SUMMARY:Deadline for BEACON articles
DESCRIPTION:
URL:https://camdenucc.org/event/deadline-for-beacon-articles/2026-07-24/
CATEGORIES:Special Events/Services
END:VEVENT
BEGIN:VEVENT
DTSTART;TZID=America/New_York:20260719T093000
DTEND;TZID=America/New_York:20260719T103000
DTSTAMP:20260425T102007
CREATED:20250204T162348Z
LAST-MODIFIED:20250204T162447Z
UID:10003226-1784453400-1784457000@camdenucc.org
SUMMARY:Sunday Worship
DESCRIPTION:
URL:https://camdenucc.org/event/sunday-worship/2026-07-19/
LOCATION:Hybrid: Online by Zoom and in Sanctuary
CATEGORIES:Worship
END:VEVENT
BEGIN:VEVENT
DTSTART;TZID=America/New_York:20260712T093000
DTEND;TZID=America/New_York:20260712T103000
DTSTAMP:20260425T102007
CREATED:20250204T162348Z
LAST-MODIFIED:20250204T162447Z
UID:10003225-1783848600-1783852200@camdenucc.org
SUMMARY:Sunday Worship
DESCRIPTION:
URL:https://camdenucc.org/event/sunday-worship/2026-07-12/
LOCATION:Hybrid: Online by Zoom and in Sanctuary
CATEGORIES:Worship
END:VEVENT
BEGIN:VEVENT
DTSTART;TZID=America/New_York:20260708T190000
DTEND;TZID=America/New_York:20260708T210000
DTSTAMP:20260425T102007
CREATED:20260407T152537Z
LAST-MODIFIED:20260407T152537Z
UID:10004164-1783537200-1783544400@camdenucc.org
SUMMARY:Public Lecture by Alan Lightman "The Miraculous from the Material"
DESCRIPTION:
URL:https://camdenucc.org/event/public-lecture-by-alan-lightman-the-miraculous-from-the-material/
LOCATION:In person\, Sanctuary\, 55 Elm Street\, Camden\, 04843\, United States
CATEGORIES:Adult Education
END:VEVENT
BEGIN:VEVENT
DTSTART;TZID=America/New_York:20260705T093000
DTEND;TZID=America/New_York:20260705T103000
DTSTAMP:20260425T102007
CREATED:20250204T162348Z
LAST-MODIFIED:20250204T162447Z
UID:10003224-1783243800-1783247400@camdenucc.org
SUMMARY:Sunday Worship
DESCRIPTION:
URL:https://camdenucc.org/event/sunday-worship/2026-07-05/
LOCATION:Hybrid: Online by Zoom and in Sanctuary
CATEGORIES:Worship
END:VEVENT
BEGIN:VEVENT
DTSTART;TZID=America/New_York:20260701T093000
DTEND;TZID=America/New_York:20260701T100000
DTSTAMP:20260425T102007
CREATED:20250716T143056Z
LAST-MODIFIED:20250716T143056Z
UID:10003711-1782898200-1782900000@camdenucc.org
SUMMARY:Staff Meeting
DESCRIPTION:
URL:https://camdenucc.org/event/staff-meeting/2026-07-01/
LOCATION:Hybrid: Zoom and in person\, Conference Room\, 55 Elm Street\, Camden\, 04843\, United States
CATEGORIES:Church Meetings
END:VEVENT
BEGIN:VEVENT
DTSTART;TZID=America/New_York:20260630T180000
DTEND;TZID=America/New_York:20260630T203000
DTSTAMP:20260425T102007
CREATED:20260407T152413Z
LAST-MODIFIED:20260407T152413Z
UID:10004163-1782842400-1782851400@camdenucc.org
SUMMARY:PBS Film Showing: "The Stars & the Osprey"
DESCRIPTION:
URL:https://camdenucc.org/event/pbs-film-showing-the-stars-the-osprey/
LOCATION:In person\, Pilgrim Room\, 55 Elm Street\, Camden\, 04843\, United States
CATEGORIES:Adult Education
END:VEVENT
BEGIN:VEVENT
DTSTART;TZID=America/New_York:20260629T170000
DTEND;TZID=America/New_York:20260629T203000
DTSTAMP:20260425T102007
CREATED:20250806T155634Z
LAST-MODIFIED:20250806T155634Z
UID:10003775-1782752400-1782765000@camdenucc.org
SUMMARY:Midcoast Community Chorus Rehearsal
DESCRIPTION:
URL:https://camdenucc.org/event/midcoast-community-chorus-rehearsal/2026-06-29/
LOCATION:In person\, First Congregational UCC\, 55 Elm Street\, Camden\, ME\, 04843
CATEGORIES:Rehearsals,Rentals
END:VEVENT
BEGIN:VEVENT
DTSTART;TZID=America/New_York:20260628T093000
DTEND;TZID=America/New_York:20260628T103000
DTSTAMP:20260425T102007
CREATED:20250204T162348Z
LAST-MODIFIED:20250204T162447Z
UID:10003223-1782639000-1782642600@camdenucc.org
SUMMARY:Sunday Worship
DESCRIPTION:
URL:https://camdenucc.org/event/sunday-worship/2026-06-28/
LOCATION:Hybrid: Online by Zoom and in Sanctuary
CATEGORIES:Worship
END:VEVENT
BEGIN:VEVENT
DTSTART;TZID=America/New_York:20260624T093000
DTEND;TZID=America/New_York:20260624T100000
DTSTAMP:20260425T102007
CREATED:20250716T143056Z
LAST-MODIFIED:20250716T143056Z
UID:10003710-1782293400-1782295200@camdenucc.org
SUMMARY:Staff Meeting
DESCRIPTION:
URL:https://camdenucc.org/event/staff-meeting/2026-06-24/
LOCATION:Hybrid: Zoom and in person\, Conference Room\, 55 Elm Street\, Camden\, 04843\, United States
CATEGORIES:Church Meetings
END:VEVENT
BEGIN:VEVENT
DTSTART;TZID=America/New_York:20260624T080000
DTEND;TZID=America/New_York:20260624T170000
DTSTAMP:20260425T102007
CREATED:20250716T145303Z
LAST-MODIFIED:20250716T145303Z
UID:10003726-1782288000-1782320400@camdenucc.org
SUMMARY:Deadline for BEACON articles
DESCRIPTION:
URL:https://camdenucc.org/event/deadline-for-beacon-articles/2026-06-24/
CATEGORIES:Special Events/Services
END:VEVENT
BEGIN:VEVENT
DTSTART;TZID=America/New_York:20260622T170000
DTEND;TZID=America/New_York:20260622T203000
DTSTAMP:20260425T102007
CREATED:20250806T155634Z
LAST-MODIFIED:20250806T155634Z
UID:10003774-1782147600-1782160200@camdenucc.org
SUMMARY:Midcoast Community Chorus Rehearsal
DESCRIPTION:
URL:https://camdenucc.org/event/midcoast-community-chorus-rehearsal/2026-06-22/
LOCATION:In person\, First Congregational UCC\, 55 Elm Street\, Camden\, ME\, 04843
CATEGORIES:Rehearsals,Rentals
END:VEVENT
BEGIN:VEVENT
DTSTART;TZID=America/New_York:20260621T093000
DTEND;TZID=America/New_York:20260621T103000
DTSTAMP:20260425T102007
CREATED:20250204T162348Z
LAST-MODIFIED:20250204T162447Z
UID:10003222-1782034200-1782037800@camdenucc.org
SUMMARY:Sunday Worship
DESCRIPTION:
URL:https://camdenucc.org/event/sunday-worship/2026-06-21/
LOCATION:Hybrid: Online by Zoom and in Sanctuary
CATEGORIES:Worship
END:VEVENT
BEGIN:VEVENT
DTSTART;TZID=America/New_York:20260618T190000
DTEND;TZID=America/New_York:20260618T203000
DTSTAMP:20260425T102007
CREATED:20260113T150409Z
LAST-MODIFIED:20260407T152150Z
UID:10003904-1781809200-1781814600@camdenucc.org
SUMMARY:Public Lecture: Bill McKibben\, NYTimes
DESCRIPTION:
URL:https://camdenucc.org/event/special-talk-bill-mckibben-nytimes/
LOCATION:In person\, Sanctuary\, 55 Elm Street\, Camden\, 04843\, United States
CATEGORIES:Adult Education
END:VEVENT
BEGIN:VEVENT
DTSTART;TZID=America/New_York:20260618T090000
DTEND;TZID=America/New_York:20260618T103000
DTSTAMP:20260425T102007
CREATED:20260312T182206Z
LAST-MODIFIED:20260312T182206Z
UID:10004141-1781773200-1781778600@camdenucc.org
SUMMARY:Outreach
DESCRIPTION:
URL:https://camdenucc.org/event/outreach-12/
LOCATION:In person\, Conference Room\, 55 Elm Street\, Camden\, 04843\, United States
CATEGORIES:Church Meetings
END:VEVENT
BEGIN:VEVENT
DTSTART;TZID=America/New_York:20260617T190000
DTEND;TZID=America/New_York:20260617T200000
DTSTAMP:20260425T102007
CREATED:20260113T150504Z
LAST-MODIFIED:20260113T150504Z
UID:10003905-1781722800-1781726400@camdenucc.org
SUMMARY:Penobscot Bay Choir-Sierra Lary
DESCRIPTION:
URL:https://camdenucc.org/event/penobscot-bay-choir-sierra-lary/
LOCATION:In person\, Sanctuary\, 55 Elm Street\, Camden\, 04843\, United States
CATEGORIES:Concerts
END:VEVENT
BEGIN:VEVENT
DTSTART;TZID=America/New_York:20260617T170000
DTEND;TZID=America/New_York:20260617T183000
DTSTAMP:20260425T102007
CREATED:20260324T144131Z
LAST-MODIFIED:20260324T144131Z
UID:10004146-1781715600-1781721000@camdenucc.org
SUMMARY:Trustees
DESCRIPTION:
URL:https://camdenucc.org/event/trustees-12/
LOCATION:Hybrid: Zoom and in person\, Conference Room\, 55 Elm Street\, Camden\, 04843\, United States
CATEGORIES:Church Meetings
END:VEVENT
BEGIN:VEVENT
DTSTART;TZID=America/New_York:20260617T093000
DTEND;TZID=America/New_York:20260617T100000
DTSTAMP:20260425T102007
CREATED:20250716T143056Z
LAST-MODIFIED:20250716T143056Z
UID:10003709-1781688600-1781690400@camdenucc.org
SUMMARY:Staff Meeting
DESCRIPTION:
URL:https://camdenucc.org/event/staff-meeting/2026-06-17/
LOCATION:Hybrid: Zoom and in person\, Conference Room\, 55 Elm Street\, Camden\, 04843\, United States
CATEGORIES:Church Meetings
END:VEVENT
BEGIN:VEVENT
DTSTART;TZID=America/New_York:20260616T130000
DTEND;TZID=America/New_York:20260616T160000
DTSTAMP:20260425T102007
CREATED:20260408T184344Z
LAST-MODIFIED:20260408T184344Z
UID:10004167-1781614800-1781625600@camdenucc.org
SUMMARY:Pride Month ~ Youth Craft Workshop
DESCRIPTION:
URL:https://camdenucc.org/event/pride-month-youth-craft-workshop/
LOCATION:In person\, Pilgrim Room\, 55 Elm Street\, Camden\, 04843\, United States
CATEGORIES:Special Events/Services
END:VEVENT
BEGIN:VEVENT
DTSTART;TZID=America/New_York:20260615T170000
DTEND;TZID=America/New_York:20260615T203000
DTSTAMP:20260425T102007
CREATED:20250806T155634Z
LAST-MODIFIED:20250806T155634Z
UID:10003773-1781542800-1781555400@camdenucc.org
SUMMARY:Midcoast Community Chorus Rehearsal
DESCRIPTION:
URL:https://camdenucc.org/event/midcoast-community-chorus-rehearsal/2026-06-15/
LOCATION:In person\, First Congregational UCC\, 55 Elm Street\, Camden\, ME\, 04843
CATEGORIES:Rehearsals,Rentals
END:VEVENT
BEGIN:VEVENT
DTSTART;TZID=America/New_York:20260614T093000
DTEND;TZID=America/New_York:20260614T103000
DTSTAMP:20260425T102007
CREATED:20250204T162348Z
LAST-MODIFIED:20250204T162447Z
UID:10003221-1781429400-1781433000@camdenucc.org
SUMMARY:Sunday Worship
DESCRIPTION:
URL:https://camdenucc.org/event/sunday-worship/2026-06-14/
LOCATION:Hybrid: Online by Zoom and in Sanctuary
CATEGORIES:Worship
END:VEVENT
BEGIN:VEVENT
DTSTART;TZID=America/New_York:20260613T130000
DTEND;TZID=America/New_York:20260613T143000
DTSTAMP:20260425T102007
CREATED:20260113T150615Z
LAST-MODIFIED:20260113T150615Z
UID:10003906-1781355600-1781361000@camdenucc.org
SUMMARY:UMaine Jazz Ensemble Concert
DESCRIPTION:
URL:https://camdenucc.org/event/umaine-jazz-ensemble-concert/
LOCATION:In person\, Sanctuary\, 55 Elm Street\, Camden\, 04843\, United States
CATEGORIES:Concerts
END:VEVENT
BEGIN:VEVENT
DTSTART;TZID=America/New_York:20260611T183000
DTEND;TZID=America/New_York:20260611T200000
DTSTAMP:20260425T102007
CREATED:20260407T152308Z
LAST-MODIFIED:20260407T152308Z
UID:10004162-1781202600-1781208000@camdenucc.org
SUMMARY:McKibben Book Discussion: "Here Comes the Sun: Last Chance for the Climate....."
DESCRIPTION:
URL:https://camdenucc.org/event/mckibben-book-discussion-here-comes-the-sun-last-chance-for-the-climate/
LOCATION:In person\, Pilgrim Room\, 55 Elm Street\, Camden\, 04843\, United States
CATEGORIES:Adult Education
END:VEVENT
BEGIN:VEVENT
DTSTART;TZID=America/New_York:20260610T093000
DTEND;TZID=America/New_York:20260610T100000
DTSTAMP:20260425T102007
CREATED:20250716T143056Z
LAST-MODIFIED:20250716T143056Z
UID:10003708-1781083800-1781085600@camdenucc.org
SUMMARY:Staff Meeting
DESCRIPTION:
URL:https://camdenucc.org/event/staff-meeting/2026-06-10/
LOCATION:Hybrid: Zoom and in person\, Conference Room\, 55 Elm Street\, Camden\, 04843\, United States
CATEGORIES:Church Meetings
END:VEVENT
BEGIN:VEVENT
DTSTART;TZID=America/New_York:20260608T170000
DTEND;TZID=America/New_York:20260608T203000
DTSTAMP:20260425T102007
CREATED:20250806T155634Z
LAST-MODIFIED:20250806T155634Z
UID:10003772-1780938000-1780950600@camdenucc.org
SUMMARY:Midcoast Community Chorus Rehearsal
DESCRIPTION:
URL:https://camdenucc.org/event/midcoast-community-chorus-rehearsal/2026-06-08/
LOCATION:In person\, First Congregational UCC\, 55 Elm Street\, Camden\, ME\, 04843
CATEGORIES:Rehearsals,Rentals
END:VEVENT
BEGIN:VEVENT
DTSTART;TZID=America/New_York:20260607T093000
DTEND;TZID=America/New_York:20260607T103000
DTSTAMP:20260425T102007
CREATED:20250204T162348Z
LAST-MODIFIED:20250204T162447Z
UID:10003220-1780824600-1780828200@camdenucc.org
SUMMARY:Sunday Worship
DESCRIPTION:
URL:https://camdenucc.org/event/sunday-worship/2026-06-07/
LOCATION:Hybrid: Online by Zoom and in Sanctuary
CATEGORIES:Worship
END:VEVENT
END:VCALENDAR