BEGIN:VCALENDAR
VERSION:2.0
PRODID:-//First Congregational Church of Camden, Maine - ECPv6.15.20//NONSGML v1.0//EN
CALSCALE:GREGORIAN
METHOD:PUBLISH
X-ORIGINAL-URL:https://camdenucc.org
X-WR-CALDESC:Events for First Congregational Church of Camden, Maine
REFRESH-INTERVAL;VALUE=DURATION:PT1H
X-Robots-Tag:noindex
X-PUBLISHED-TTL:PT1H
BEGIN:VTIMEZONE
TZID:America/New_York
BEGIN:DAYLIGHT
TZOFFSETFROM:-0500
TZOFFSETTO:-0400
TZNAME:EDT
DTSTART:20270314T070000
END:DAYLIGHT
BEGIN:STANDARD
TZOFFSETFROM:-0400
TZOFFSETTO:-0500
TZNAME:EST
DTSTART:20271107T060000
END:STANDARD
BEGIN:DAYLIGHT
TZOFFSETFROM:-0500
TZOFFSETTO:-0400
TZNAME:EDT
DTSTART:20280312T070000
END:DAYLIGHT
BEGIN:STANDARD
TZOFFSETFROM:-0400
TZOFFSETTO:-0500
TZNAME:EST
DTSTART:20281105T060000
END:STANDARD
BEGIN:DAYLIGHT
TZOFFSETFROM:-0500
TZOFFSETTO:-0400
TZNAME:EDT
DTSTART:20290311T070000
END:DAYLIGHT
BEGIN:STANDARD
TZOFFSETFROM:-0400
TZOFFSETTO:-0500
TZNAME:EST
DTSTART:20291104T060000
END:STANDARD
END:VTIMEZONE
BEGIN:VEVENT
DTSTART;TZID=America/New_York:20280521T093000
DTEND;TZID=America/New_York:20280521T103000
DTSTAMP:20260425T110959
CREATED:20250204T162348Z
LAST-MODIFIED:20250204T162447Z
UID:10003322-1842514200-1842517800@camdenucc.org
SUMMARY:Sunday Worship
DESCRIPTION:
URL:https://camdenucc.org/event/sunday-worship/2028-05-21/
LOCATION:Hybrid: Online by Zoom and in Sanctuary
CATEGORIES:Worship
END:VEVENT
BEGIN:VEVENT
DTSTART;TZID=America/New_York:20280528T093000
DTEND;TZID=America/New_York:20280528T103000
DTSTAMP:20260425T110959
CREATED:20250204T162348Z
LAST-MODIFIED:20250204T162447Z
UID:10003323-1843119000-1843122600@camdenucc.org
SUMMARY:Sunday Worship
DESCRIPTION:
URL:https://camdenucc.org/event/sunday-worship/2028-05-28/
LOCATION:Hybrid: Online by Zoom and in Sanctuary
CATEGORIES:Worship
END:VEVENT
BEGIN:VEVENT
DTSTART;TZID=America/New_York:20280604T093000
DTEND;TZID=America/New_York:20280604T103000
DTSTAMP:20260425T110959
CREATED:20250204T162348Z
LAST-MODIFIED:20250204T162447Z
UID:10003324-1843723800-1843727400@camdenucc.org
SUMMARY:Sunday Worship
DESCRIPTION:
URL:https://camdenucc.org/event/sunday-worship/2028-06-04/
LOCATION:Hybrid: Online by Zoom and in Sanctuary
CATEGORIES:Worship
END:VEVENT
BEGIN:VEVENT
DTSTART;TZID=America/New_York:20280611T093000
DTEND;TZID=America/New_York:20280611T103000
DTSTAMP:20260425T110959
CREATED:20250204T162348Z
LAST-MODIFIED:20250204T162447Z
UID:10003325-1844328600-1844332200@camdenucc.org
SUMMARY:Sunday Worship
DESCRIPTION:
URL:https://camdenucc.org/event/sunday-worship/2028-06-11/
LOCATION:Hybrid: Online by Zoom and in Sanctuary
CATEGORIES:Worship
END:VEVENT
BEGIN:VEVENT
DTSTART;TZID=America/New_York:20280618T093000
DTEND;TZID=America/New_York:20280618T103000
DTSTAMP:20260425T110959
CREATED:20250204T162348Z
LAST-MODIFIED:20250204T162447Z
UID:10003326-1844933400-1844937000@camdenucc.org
SUMMARY:Sunday Worship
DESCRIPTION:
URL:https://camdenucc.org/event/sunday-worship/2028-06-18/
LOCATION:Hybrid: Online by Zoom and in Sanctuary
CATEGORIES:Worship
END:VEVENT
BEGIN:VEVENT
DTSTART;TZID=America/New_York:20280625T093000
DTEND;TZID=America/New_York:20280625T103000
DTSTAMP:20260425T110959
CREATED:20250204T162348Z
LAST-MODIFIED:20250204T162447Z
UID:10003327-1845538200-1845541800@camdenucc.org
SUMMARY:Sunday Worship
DESCRIPTION:
URL:https://camdenucc.org/event/sunday-worship/2028-06-25/
LOCATION:Hybrid: Online by Zoom and in Sanctuary
CATEGORIES:Worship
END:VEVENT
BEGIN:VEVENT
DTSTART;TZID=America/New_York:20280702T093000
DTEND;TZID=America/New_York:20280702T103000
DTSTAMP:20260425T110959
CREATED:20250204T162348Z
LAST-MODIFIED:20250204T162447Z
UID:10003328-1846143000-1846146600@camdenucc.org
SUMMARY:Sunday Worship
DESCRIPTION:
URL:https://camdenucc.org/event/sunday-worship/2028-07-02/
LOCATION:Hybrid: Online by Zoom and in Sanctuary
CATEGORIES:Worship
END:VEVENT
BEGIN:VEVENT
DTSTART;TZID=America/New_York:20280709T093000
DTEND;TZID=America/New_York:20280709T103000
DTSTAMP:20260425T110959
CREATED:20250204T162348Z
LAST-MODIFIED:20250204T162447Z
UID:10003329-1846747800-1846751400@camdenucc.org
SUMMARY:Sunday Worship
DESCRIPTION:
URL:https://camdenucc.org/event/sunday-worship/2028-07-09/
LOCATION:Hybrid: Online by Zoom and in Sanctuary
CATEGORIES:Worship
END:VEVENT
BEGIN:VEVENT
DTSTART;TZID=America/New_York:20280716T093000
DTEND;TZID=America/New_York:20280716T103000
DTSTAMP:20260425T110959
CREATED:20250204T162348Z
LAST-MODIFIED:20250204T162447Z
UID:10003330-1847352600-1847356200@camdenucc.org
SUMMARY:Sunday Worship
DESCRIPTION:
URL:https://camdenucc.org/event/sunday-worship/2028-07-16/
LOCATION:Hybrid: Online by Zoom and in Sanctuary
CATEGORIES:Worship
END:VEVENT
BEGIN:VEVENT
DTSTART;TZID=America/New_York:20280723T093000
DTEND;TZID=America/New_York:20280723T103000
DTSTAMP:20260425T110959
CREATED:20250204T162348Z
LAST-MODIFIED:20250204T162447Z
UID:10003331-1847957400-1847961000@camdenucc.org
SUMMARY:Sunday Worship
DESCRIPTION:
URL:https://camdenucc.org/event/sunday-worship/2028-07-23/
LOCATION:Hybrid: Online by Zoom and in Sanctuary
CATEGORIES:Worship
END:VEVENT
BEGIN:VEVENT
DTSTART;TZID=America/New_York:20280730T093000
DTEND;TZID=America/New_York:20280730T103000
DTSTAMP:20260425T110959
CREATED:20250204T162348Z
LAST-MODIFIED:20250204T162447Z
UID:10003332-1848562200-1848565800@camdenucc.org
SUMMARY:Sunday Worship
DESCRIPTION:
URL:https://camdenucc.org/event/sunday-worship/2028-07-30/
LOCATION:Hybrid: Online by Zoom and in Sanctuary
CATEGORIES:Worship
END:VEVENT
BEGIN:VEVENT
DTSTART;TZID=America/New_York:20280806T093000
DTEND;TZID=America/New_York:20280806T103000
DTSTAMP:20260425T110959
CREATED:20250204T162348Z
LAST-MODIFIED:20250204T162447Z
UID:10003333-1849167000-1849170600@camdenucc.org
SUMMARY:Sunday Worship
DESCRIPTION:
URL:https://camdenucc.org/event/sunday-worship/2028-08-06/
LOCATION:Hybrid: Online by Zoom and in Sanctuary
CATEGORIES:Worship
END:VEVENT
BEGIN:VEVENT
DTSTART;TZID=America/New_York:20280813T093000
DTEND;TZID=America/New_York:20280813T103000
DTSTAMP:20260425T110959
CREATED:20250204T162348Z
LAST-MODIFIED:20250204T162447Z
UID:10003334-1849771800-1849775400@camdenucc.org
SUMMARY:Sunday Worship
DESCRIPTION:
URL:https://camdenucc.org/event/sunday-worship/2028-08-13/
LOCATION:Hybrid: Online by Zoom and in Sanctuary
CATEGORIES:Worship
END:VEVENT
BEGIN:VEVENT
DTSTART;TZID=America/New_York:20280820T093000
DTEND;TZID=America/New_York:20280820T103000
DTSTAMP:20260425T110959
CREATED:20250204T162348Z
LAST-MODIFIED:20250204T162447Z
UID:10003335-1850376600-1850380200@camdenucc.org
SUMMARY:Sunday Worship
DESCRIPTION:
URL:https://camdenucc.org/event/sunday-worship/2028-08-20/
LOCATION:Hybrid: Online by Zoom and in Sanctuary
CATEGORIES:Worship
END:VEVENT
BEGIN:VEVENT
DTSTART;TZID=America/New_York:20280827T093000
DTEND;TZID=America/New_York:20280827T103000
DTSTAMP:20260425T110959
CREATED:20250204T162348Z
LAST-MODIFIED:20250204T162447Z
UID:10003336-1850981400-1850985000@camdenucc.org
SUMMARY:Sunday Worship
DESCRIPTION:
URL:https://camdenucc.org/event/sunday-worship/2028-08-27/
LOCATION:Hybrid: Online by Zoom and in Sanctuary
CATEGORIES:Worship
END:VEVENT
BEGIN:VEVENT
DTSTART;TZID=America/New_York:20280903T093000
DTEND;TZID=America/New_York:20280903T103000
DTSTAMP:20260425T110959
CREATED:20250204T162348Z
LAST-MODIFIED:20250204T162447Z
UID:10003337-1851586200-1851589800@camdenucc.org
SUMMARY:Sunday Worship
DESCRIPTION:
URL:https://camdenucc.org/event/sunday-worship/2028-09-03/
LOCATION:Hybrid: Online by Zoom and in Sanctuary
CATEGORIES:Worship
END:VEVENT
BEGIN:VEVENT
DTSTART;TZID=America/New_York:20280910T093000
DTEND;TZID=America/New_York:20280910T103000
DTSTAMP:20260425T110959
CREATED:20250204T162348Z
LAST-MODIFIED:20250204T162447Z
UID:10003338-1852191000-1852194600@camdenucc.org
SUMMARY:Sunday Worship
DESCRIPTION:
URL:https://camdenucc.org/event/sunday-worship/2028-09-10/
LOCATION:Hybrid: Online by Zoom and in Sanctuary
CATEGORIES:Worship
END:VEVENT
BEGIN:VEVENT
DTSTART;TZID=America/New_York:20280917T093000
DTEND;TZID=America/New_York:20280917T103000
DTSTAMP:20260425T110959
CREATED:20250204T162348Z
LAST-MODIFIED:20250204T162447Z
UID:10003339-1852795800-1852799400@camdenucc.org
SUMMARY:Sunday Worship
DESCRIPTION:
URL:https://camdenucc.org/event/sunday-worship/2028-09-17/
LOCATION:Hybrid: Online by Zoom and in Sanctuary
CATEGORIES:Worship
END:VEVENT
BEGIN:VEVENT
DTSTART;TZID=America/New_York:20280924T093000
DTEND;TZID=America/New_York:20280924T103000
DTSTAMP:20260425T110959
CREATED:20250204T162348Z
LAST-MODIFIED:20250204T162447Z
UID:10003340-1853400600-1853404200@camdenucc.org
SUMMARY:Sunday Worship
DESCRIPTION:
URL:https://camdenucc.org/event/sunday-worship/2028-09-24/
LOCATION:Hybrid: Online by Zoom and in Sanctuary
CATEGORIES:Worship
END:VEVENT
BEGIN:VEVENT
DTSTART;TZID=America/New_York:20281001T093000
DTEND;TZID=America/New_York:20281001T103000
DTSTAMP:20260425T110959
CREATED:20250204T162348Z
LAST-MODIFIED:20250204T162447Z
UID:10003341-1854005400-1854009000@camdenucc.org
SUMMARY:Sunday Worship
DESCRIPTION:
URL:https://camdenucc.org/event/sunday-worship/2028-10-01/
LOCATION:Hybrid: Online by Zoom and in Sanctuary
CATEGORIES:Worship
END:VEVENT
BEGIN:VEVENT
DTSTART;TZID=America/New_York:20281008T093000
DTEND;TZID=America/New_York:20281008T103000
DTSTAMP:20260425T110959
CREATED:20250204T162348Z
LAST-MODIFIED:20250204T162447Z
UID:10003342-1854610200-1854613800@camdenucc.org
SUMMARY:Sunday Worship
DESCRIPTION:
URL:https://camdenucc.org/event/sunday-worship/2028-10-08/
LOCATION:Hybrid: Online by Zoom and in Sanctuary
CATEGORIES:Worship
END:VEVENT
BEGIN:VEVENT
DTSTART;TZID=America/New_York:20281015T093000
DTEND;TZID=America/New_York:20281015T103000
DTSTAMP:20260425T110959
CREATED:20250204T162348Z
LAST-MODIFIED:20250204T162447Z
UID:10003343-1855215000-1855218600@camdenucc.org
SUMMARY:Sunday Worship
DESCRIPTION:
URL:https://camdenucc.org/event/sunday-worship/2028-10-15/
LOCATION:Hybrid: Online by Zoom and in Sanctuary
CATEGORIES:Worship
END:VEVENT
BEGIN:VEVENT
DTSTART;TZID=America/New_York:20281022T093000
DTEND;TZID=America/New_York:20281022T103000
DTSTAMP:20260425T110959
CREATED:20250204T162348Z
LAST-MODIFIED:20250204T162447Z
UID:10003344-1855819800-1855823400@camdenucc.org
SUMMARY:Sunday Worship
DESCRIPTION:
URL:https://camdenucc.org/event/sunday-worship/2028-10-22/
LOCATION:Hybrid: Online by Zoom and in Sanctuary
CATEGORIES:Worship
END:VEVENT
BEGIN:VEVENT
DTSTART;TZID=America/New_York:20281029T093000
DTEND;TZID=America/New_York:20281029T103000
DTSTAMP:20260425T110959
CREATED:20250204T162348Z
LAST-MODIFIED:20250204T162447Z
UID:10003345-1856424600-1856428200@camdenucc.org
SUMMARY:Sunday Worship
DESCRIPTION:
URL:https://camdenucc.org/event/sunday-worship/2028-10-29/
LOCATION:Hybrid: Online by Zoom and in Sanctuary
CATEGORIES:Worship
END:VEVENT
BEGIN:VEVENT
DTSTART;TZID=America/New_York:20281105T093000
DTEND;TZID=America/New_York:20281105T103000
DTSTAMP:20260425T110959
CREATED:20250204T162348Z
LAST-MODIFIED:20250204T162447Z
UID:10003346-1857029400-1857033000@camdenucc.org
SUMMARY:Sunday Worship
DESCRIPTION:
URL:https://camdenucc.org/event/sunday-worship/2028-11-05/
LOCATION:Hybrid: Online by Zoom and in Sanctuary
CATEGORIES:Worship
END:VEVENT
BEGIN:VEVENT
DTSTART;TZID=America/New_York:20281112T093000
DTEND;TZID=America/New_York:20281112T103000
DTSTAMP:20260425T110959
CREATED:20250204T162348Z
LAST-MODIFIED:20250204T162447Z
UID:10003347-1857634200-1857637800@camdenucc.org
SUMMARY:Sunday Worship
DESCRIPTION:
URL:https://camdenucc.org/event/sunday-worship/2028-11-12/
LOCATION:Hybrid: Online by Zoom and in Sanctuary
CATEGORIES:Worship
END:VEVENT
BEGIN:VEVENT
DTSTART;TZID=America/New_York:20281119T093000
DTEND;TZID=America/New_York:20281119T103000
DTSTAMP:20260425T110959
CREATED:20250204T162348Z
LAST-MODIFIED:20250204T162447Z
UID:10003348-1858239000-1858242600@camdenucc.org
SUMMARY:Sunday Worship
DESCRIPTION:
URL:https://camdenucc.org/event/sunday-worship/2028-11-19/
LOCATION:Hybrid: Online by Zoom and in Sanctuary
CATEGORIES:Worship
END:VEVENT
BEGIN:VEVENT
DTSTART;TZID=America/New_York:20281126T093000
DTEND;TZID=America/New_York:20281126T103000
DTSTAMP:20260425T110959
CREATED:20250204T162348Z
LAST-MODIFIED:20250204T162447Z
UID:10003349-1858843800-1858847400@camdenucc.org
SUMMARY:Sunday Worship
DESCRIPTION:
URL:https://camdenucc.org/event/sunday-worship/2028-11-26/
LOCATION:Hybrid: Online by Zoom and in Sanctuary
CATEGORIES:Worship
END:VEVENT
BEGIN:VEVENT
DTSTART;TZID=America/New_York:20281203T093000
DTEND;TZID=America/New_York:20281203T103000
DTSTAMP:20260425T110959
CREATED:20250204T162348Z
LAST-MODIFIED:20250204T162447Z
UID:10003350-1859448600-1859452200@camdenucc.org
SUMMARY:Sunday Worship
DESCRIPTION:
URL:https://camdenucc.org/event/sunday-worship/2028-12-03/
LOCATION:Hybrid: Online by Zoom and in Sanctuary
CATEGORIES:Worship
END:VEVENT
BEGIN:VEVENT
DTSTART;TZID=America/New_York:20281210T093000
DTEND;TZID=America/New_York:20281210T103000
DTSTAMP:20260425T110959
CREATED:20250204T162348Z
LAST-MODIFIED:20250204T162447Z
UID:10003351-1860053400-1860057000@camdenucc.org
SUMMARY:Sunday Worship
DESCRIPTION:
URL:https://camdenucc.org/event/sunday-worship/2028-12-10/
LOCATION:Hybrid: Online by Zoom and in Sanctuary
CATEGORIES:Worship
END:VEVENT
END:VCALENDAR