BEGIN:VCALENDAR
VERSION:2.0
PRODID:-//First Congregational Church of Camden, Maine - ECPv6.15.20//NONSGML v1.0//EN
CALSCALE:GREGORIAN
METHOD:PUBLISH
X-WR-CALNAME:First Congregational Church of Camden, Maine
X-ORIGINAL-URL:https://camdenucc.org
X-WR-CALDESC:Events for First Congregational Church of Camden, Maine
REFRESH-INTERVAL;VALUE=DURATION:PT1H
X-Robots-Tag:noindex
X-PUBLISHED-TTL:PT1H
BEGIN:VTIMEZONE
TZID:America/New_York
BEGIN:DAYLIGHT
TZOFFSETFROM:-0500
TZOFFSETTO:-0400
TZNAME:EDT
DTSTART:20240310T070000
END:DAYLIGHT
BEGIN:STANDARD
TZOFFSETFROM:-0400
TZOFFSETTO:-0500
TZNAME:EST
DTSTART:20241103T060000
END:STANDARD
BEGIN:DAYLIGHT
TZOFFSETFROM:-0500
TZOFFSETTO:-0400
TZNAME:EDT
DTSTART:20250309T070000
END:DAYLIGHT
BEGIN:STANDARD
TZOFFSETFROM:-0400
TZOFFSETTO:-0500
TZNAME:EST
DTSTART:20251102T060000
END:STANDARD
BEGIN:DAYLIGHT
TZOFFSETFROM:-0500
TZOFFSETTO:-0400
TZNAME:EDT
DTSTART:20260308T070000
END:DAYLIGHT
BEGIN:STANDARD
TZOFFSETFROM:-0400
TZOFFSETTO:-0500
TZNAME:EST
DTSTART:20261101T060000
END:STANDARD
END:VTIMEZONE
BEGIN:VEVENT
DTSTART;TZID=America/New_York:20250608T093000
DTEND;TZID=America/New_York:20250608T103000
DTSTAMP:20260424T194919
CREATED:20250204T162348Z
LAST-MODIFIED:20250204T162447Z
UID:10003168-1749375000-1749378600@camdenucc.org
SUMMARY:Sunday Worship
DESCRIPTION:
URL:https://camdenucc.org/event/sunday-worship/2025-06-08/
LOCATION:Hybrid: Online by Zoom and in Sanctuary
CATEGORIES:Worship
END:VEVENT
BEGIN:VEVENT
DTSTART;TZID=America/New_York:20250601T093000
DTEND;TZID=America/New_York:20250601T103000
DTSTAMP:20260424T194919
CREATED:20250204T162348Z
LAST-MODIFIED:20250204T162447Z
UID:10003167-1748770200-1748773800@camdenucc.org
SUMMARY:Sunday Worship
DESCRIPTION:
URL:https://camdenucc.org/event/sunday-worship/2025-06-01/
LOCATION:Hybrid: Online by Zoom and in Sanctuary
CATEGORIES:Worship
END:VEVENT
BEGIN:VEVENT
DTSTART;TZID=America/New_York:20250525T093000
DTEND;TZID=America/New_York:20250525T103000
DTSTAMP:20260424T194919
CREATED:20250204T162348Z
LAST-MODIFIED:20250204T162447Z
UID:10003166-1748165400-1748169000@camdenucc.org
SUMMARY:Sunday Worship
DESCRIPTION:
URL:https://camdenucc.org/event/sunday-worship/2025-05-25/
LOCATION:Hybrid: Online by Zoom and in Sanctuary
CATEGORIES:Worship
END:VEVENT
BEGIN:VEVENT
DTSTART;TZID=America/New_York:20250518T093000
DTEND;TZID=America/New_York:20250518T103000
DTSTAMP:20260424T194919
CREATED:20250430T175434Z
LAST-MODIFIED:20250430T175434Z
UID:10003165-1747560600-1747564200@camdenucc.org
SUMMARY:Sunday Worship~Scout Sunday
DESCRIPTION:
URL:https://camdenucc.org/event/sunday-worship-9/
LOCATION:Hybrid: Online by Zoom and in Sanctuary
CATEGORIES:Worship
END:VEVENT
BEGIN:VEVENT
DTSTART;TZID=America/New_York:20250511T093000
DTEND;TZID=America/New_York:20250511T103000
DTSTAMP:20260424T194919
CREATED:20250204T162348Z
LAST-MODIFIED:20250204T162447Z
UID:10003164-1746955800-1746959400@camdenucc.org
SUMMARY:Sunday Worship
DESCRIPTION:
URL:https://camdenucc.org/event/sunday-worship/2025-05-11/
LOCATION:Hybrid: Online by Zoom and in Sanctuary
CATEGORIES:Worship
END:VEVENT
BEGIN:VEVENT
DTSTART;TZID=America/New_York:20250504T093000
DTEND;TZID=America/New_York:20250504T103000
DTSTAMP:20260424T194919
CREATED:20250204T162348Z
LAST-MODIFIED:20250204T162447Z
UID:10003163-1746351000-1746354600@camdenucc.org
SUMMARY:Sunday Worship
DESCRIPTION:
URL:https://camdenucc.org/event/sunday-worship/2025-05-04/
LOCATION:Hybrid: Online by Zoom and in Sanctuary
CATEGORIES:Worship
END:VEVENT
BEGIN:VEVENT
DTSTART;TZID=America/New_York:20250427T093000
DTEND;TZID=America/New_York:20250427T103000
DTSTAMP:20260424T194919
CREATED:20250225T163514Z
LAST-MODIFIED:20250225T163651Z
UID:10003162-1745746200-1745749800@camdenucc.org
SUMMARY:Sunday Worship\, Rev. Deb Jenks
DESCRIPTION:
URL:https://camdenucc.org/event/sunday-worship-8/
LOCATION:Hybrid: Online by Zoom and in Sanctuary
CATEGORIES:Worship
END:VEVENT
BEGIN:VEVENT
DTSTART;TZID=America/New_York:20250420T093000
DTEND;TZID=America/New_York:20250420T103000
DTSTAMP:20260424T194919
CREATED:20250225T163125Z
LAST-MODIFIED:20250225T180626Z
UID:10003161-1745141400-1745145000@camdenucc.org
SUMMARY:Easter Sunday Worship\, Rev. Patty Fox
DESCRIPTION:
URL:https://camdenucc.org/event/sunday-worship-6/
LOCATION:Hybrid: Online by Zoom and in Sanctuary
CATEGORIES:Worship
END:VEVENT
BEGIN:VEVENT
DTSTART;TZID=America/New_York:20250420T060000
DTEND;TZID=America/New_York:20250420T070000
DTSTAMP:20260424T194919
CREATED:20250307T183026Z
LAST-MODIFIED:20250408T173415Z
UID:10003489-1745128800-1745132400@camdenucc.org
SUMMARY:Easter Sunrise Service\, Camden Yacht Club
DESCRIPTION:
URL:https://camdenucc.org/event/easter-sunrise-service-camden-yacht-club/
LOCATION:Camden Yacht Club\, 68 Bay View St.\, Camden\, ME\, 04843\, United States
CATEGORIES:Worship
END:VEVENT
BEGIN:VEVENT
DTSTART;TZID=America/New_York:20250413T093000
DTEND;TZID=America/New_York:20250413T103000
DTSTAMP:20260424T194919
CREATED:20250225T162903Z
LAST-MODIFIED:20250225T162904Z
UID:10003160-1744536600-1744540200@camdenucc.org
SUMMARY:Palm Sunday Worship\, Rev. Jodi Hayashida
DESCRIPTION:
URL:https://camdenucc.org/event/sunday-worship-5/
LOCATION:Hybrid: Online by Zoom and in Sanctuary
CATEGORIES:Worship
END:VEVENT
BEGIN:VEVENT
DTSTART;TZID=America/New_York:20250408T173000
DTEND;TZID=America/New_York:20250408T193000
DTSTAMP:20260424T194919
CREATED:20250408T172537Z
LAST-MODIFIED:20250408T172537Z
UID:10003529-1744133400-1744140600@camdenucc.org
SUMMARY:Maundy Thursday Service
DESCRIPTION:
URL:https://camdenucc.org/event/maundy-thursday-service/
LOCATION:In person\, Pilgrim Room\, 55 Elm Street\, Camden\, 04843\, United States
CATEGORIES:Worship
END:VEVENT
BEGIN:VEVENT
DTSTART;TZID=America/New_York:20250408T120000
DTEND;TZID=America/New_York:20250408T130000
DTSTAMP:20260424T194919
CREATED:20250408T173109Z
LAST-MODIFIED:20250408T173109Z
UID:10003530-1744113600-1744117200@camdenucc.org
SUMMARY:Ecumenical Good Friday Service
DESCRIPTION:
URL:https://camdenucc.org/event/ecumenical-good-friday-service/
LOCATION:St. Thomas Episcopal Church\, Camden\, 33 Chestnut Street\, Camden\, ME\, 04843\, United States
CATEGORIES:Worship
END:VEVENT
BEGIN:VEVENT
DTSTART;TZID=America/New_York:20250406T093000
DTEND;TZID=America/New_York:20250406T103000
DTSTAMP:20260424T194919
CREATED:20250204T162348Z
LAST-MODIFIED:20250204T162447Z
UID:10003159-1743931800-1743935400@camdenucc.org
SUMMARY:Sunday Worship
DESCRIPTION:
URL:https://camdenucc.org/event/sunday-worship/2025-04-06/
LOCATION:Hybrid: Online by Zoom and in Sanctuary
CATEGORIES:Worship
END:VEVENT
BEGIN:VEVENT
DTSTART;TZID=America/New_York:20250330T093000
DTEND;TZID=America/New_York:20250330T103000
DTSTAMP:20260424T194919
CREATED:20250225T162810Z
LAST-MODIFIED:20250225T162811Z
UID:10003158-1743327000-1743330600@camdenucc.org
SUMMARY:Sunday Worship\, Rev. Lisanne Finston
DESCRIPTION:
URL:https://camdenucc.org/event/sunday-worship-4/
LOCATION:Hybrid: Online by Zoom and in Sanctuary
CATEGORIES:Worship
END:VEVENT
BEGIN:VEVENT
DTSTART;TZID=America/New_York:20250323T093000
DTEND;TZID=America/New_York:20250323T103000
DTSTAMP:20260424T194919
CREATED:20250204T162348Z
LAST-MODIFIED:20250204T162447Z
UID:10003157-1742722200-1742725800@camdenucc.org
SUMMARY:Sunday Worship
DESCRIPTION:
URL:https://camdenucc.org/event/sunday-worship/2025-03-23/
LOCATION:Hybrid: Online by Zoom and in Sanctuary
CATEGORIES:Worship
END:VEVENT
BEGIN:VEVENT
DTSTART;TZID=America/New_York:20250316T093000
DTEND;TZID=America/New_York:20250316T103000
DTSTAMP:20260424T194919
CREATED:20250225T162717Z
LAST-MODIFIED:20250225T162718Z
UID:10003156-1742117400-1742121000@camdenucc.org
SUMMARY:Sunday Worship\, Rev. John Fiscus\, ME UCC
DESCRIPTION:
URL:https://camdenucc.org/event/sunday-worship-3/
LOCATION:Hybrid: Online by Zoom and in Sanctuary
CATEGORIES:Worship
END:VEVENT
BEGIN:VEVENT
DTSTART;TZID=America/New_York:20250309T093000
DTEND;TZID=America/New_York:20250309T103000
DTSTAMP:20260424T194919
CREATED:20250204T162348Z
LAST-MODIFIED:20250204T162447Z
UID:10003155-1741512600-1741516200@camdenucc.org
SUMMARY:Sunday Worship
DESCRIPTION:
URL:https://camdenucc.org/event/sunday-worship/2025-03-09/
LOCATION:Hybrid: Online by Zoom and in Sanctuary
CATEGORIES:Worship
END:VEVENT
BEGIN:VEVENT
DTSTART;TZID=America/New_York:20250302T093000
DTEND;TZID=America/New_York:20250302T103000
DTSTAMP:20260424T194919
CREATED:20250225T162618Z
LAST-MODIFIED:20250225T162619Z
UID:10003154-1740907800-1740911400@camdenucc.org
SUMMARY:Sunday Worship & Communion\, Rev. Ben Perry
DESCRIPTION:
URL:https://camdenucc.org/event/sunday-worship-2/
LOCATION:Hybrid: Online by Zoom and in Sanctuary
CATEGORIES:Worship
END:VEVENT
BEGIN:VEVENT
DTSTART;TZID=America/New_York:20250223T093000
DTEND;TZID=America/New_York:20250223T103000
DTSTAMP:20260424T194919
CREATED:20250204T162348Z
LAST-MODIFIED:20250204T162447Z
UID:10003153-1740303000-1740306600@camdenucc.org
SUMMARY:Sunday Worship
DESCRIPTION:
URL:https://camdenucc.org/event/sunday-worship/2025-02-23/
LOCATION:Hybrid: Online by Zoom and in Sanctuary
CATEGORIES:Worship
END:VEVENT
BEGIN:VEVENT
DTSTART;TZID=America/New_York:20250216T093000
DTEND;TZID=America/New_York:20250216T103000
DTSTAMP:20260424T194919
CREATED:20250204T162348Z
LAST-MODIFIED:20250204T162447Z
UID:10003412-1739698200-1739701800@camdenucc.org
SUMMARY:Sunday Worship
DESCRIPTION:
URL:https://camdenucc.org/event/sunday-worship/2025-02-16/
LOCATION:Hybrid: Online by Zoom and in Sanctuary
CATEGORIES:Worship
END:VEVENT
BEGIN:VEVENT
DTSTART;TZID=America/New_York:20250209T080000
DTEND;TZID=America/New_York:20250209T170000
DTSTAMP:20260424T194919
CREATED:20250204T162227Z
LAST-MODIFIED:20250204T162227Z
UID:10003152-1739088000-1739120400@camdenucc.org
SUMMARY:Scout Sunday
DESCRIPTION:
URL:https://camdenucc.org/event/scout-sunday/
LOCATION:Hybrid: Online by Zoom and in Sanctuary
CATEGORIES:Worship
END:VEVENT
BEGIN:VEVENT
DTSTART;TZID=America/New_York:20250202T093000
DTEND;TZID=America/New_York:20250202T103000
DTSTAMP:20260424T194919
CREATED:20250204T162105Z
LAST-MODIFIED:20250204T162105Z
UID:10003151-1738488600-1738492200@camdenucc.org
SUMMARY:Worship & Communion
DESCRIPTION:
URL:https://camdenucc.org/event/worship-communion/
LOCATION:Hybrid: Online by Zoom and in Sanctuary
CATEGORIES:Worship
END:VEVENT
END:VCALENDAR