BEGIN:VCALENDAR
VERSION:2.0
PRODID:-//First Congregational Church of Camden, Maine - ECPv6.15.20//NONSGML v1.0//EN
CALSCALE:GREGORIAN
METHOD:PUBLISH
X-WR-CALNAME:First Congregational Church of Camden, Maine
X-ORIGINAL-URL:https://camdenucc.org
X-WR-CALDESC:Events for First Congregational Church of Camden, Maine
REFRESH-INTERVAL;VALUE=DURATION:PT1H
X-Robots-Tag:noindex
X-PUBLISHED-TTL:PT1H
BEGIN:VTIMEZONE
TZID:America/New_York
BEGIN:DAYLIGHT
TZOFFSETFROM:-0500
TZOFFSETTO:-0400
TZNAME:EDT
DTSTART:20240310T070000
END:DAYLIGHT
BEGIN:STANDARD
TZOFFSETFROM:-0400
TZOFFSETTO:-0500
TZNAME:EST
DTSTART:20241103T060000
END:STANDARD
BEGIN:DAYLIGHT
TZOFFSETFROM:-0500
TZOFFSETTO:-0400
TZNAME:EDT
DTSTART:20250309T070000
END:DAYLIGHT
BEGIN:STANDARD
TZOFFSETFROM:-0400
TZOFFSETTO:-0500
TZNAME:EST
DTSTART:20251102T060000
END:STANDARD
BEGIN:DAYLIGHT
TZOFFSETFROM:-0500
TZOFFSETTO:-0400
TZNAME:EDT
DTSTART:20260308T070000
END:DAYLIGHT
BEGIN:STANDARD
TZOFFSETFROM:-0400
TZOFFSETTO:-0500
TZNAME:EST
DTSTART:20261101T060000
END:STANDARD
BEGIN:DAYLIGHT
TZOFFSETFROM:-0500
TZOFFSETTO:-0400
TZNAME:EDT
DTSTART:20270314T070000
END:DAYLIGHT
BEGIN:STANDARD
TZOFFSETFROM:-0400
TZOFFSETTO:-0500
TZNAME:EST
DTSTART:20271107T060000
END:STANDARD
END:VTIMEZONE
BEGIN:VEVENT
DTSTART;TZID=America/New_York:20260218T170000
DTEND;TZID=America/New_York:20260218T173000
DTSTAMP:20260424T164553
CREATED:20260209T154412Z
LAST-MODIFIED:20260209T154413Z
UID:10003806-1771434000-1771435800@camdenucc.org
SUMMARY:Vespers & Ash Wednesday ashes
DESCRIPTION:
URL:https://camdenucc.org/event/vespers-2-2/
LOCATION:In person\, Sanctuary\, 55 Elm Street\, Camden\, 04843\, United States
CATEGORIES:Meditation
END:VEVENT
BEGIN:VEVENT
DTSTART;TZID=America/New_York:20260204T170000
DTEND;TZID=America/New_York:20260204T180000
DTSTAMP:20260424T164553
CREATED:20251020T182419Z
LAST-MODIFIED:20251020T182419Z
UID:10003805-1770224400-1770228000@camdenucc.org
SUMMARY:Vespers
DESCRIPTION:
URL:https://camdenucc.org/event/vespers-2/2026-02-04/
LOCATION:In person\, Sanctuary\, 55 Elm Street\, Camden\, 04843\, United States
CATEGORIES:Meditation
END:VEVENT
BEGIN:VEVENT
DTSTART;TZID=America/New_York:20260121T170000
DTEND;TZID=America/New_York:20260121T180000
DTSTAMP:20260424T164553
CREATED:20251020T182419Z
LAST-MODIFIED:20251020T182419Z
UID:10003804-1769014800-1769018400@camdenucc.org
SUMMARY:Vespers
DESCRIPTION:
URL:https://camdenucc.org/event/vespers-2/2026-01-21/
LOCATION:In person\, Sanctuary\, 55 Elm Street\, Camden\, 04843\, United States
CATEGORIES:Meditation
END:VEVENT
BEGIN:VEVENT
DTSTART;TZID=America/New_York:20260114T170000
DTEND;TZID=America/New_York:20260114T173000
DTSTAMP:20260424T164553
CREATED:20260113T144723Z
LAST-MODIFIED:20260113T144740Z
UID:10003887-1768410000-1768411800@camdenucc.org
SUMMARY:Vespers (repeat of Jan. 7)
DESCRIPTION:
URL:https://camdenucc.org/event/vespers-repeat-of-jan-5/
LOCATION:In person\, Sanctuary\, 55 Elm Street\, Camden\, 04843\, United States
CATEGORIES:Meditation
END:VEVENT
BEGIN:VEVENT
DTSTART;TZID=America/New_York:20260107T170000
DTEND;TZID=America/New_York:20260107T180000
DTSTAMP:20260424T164553
CREATED:20251020T182419Z
LAST-MODIFIED:20251020T182419Z
UID:10003803-1767805200-1767808800@camdenucc.org
SUMMARY:Vespers
DESCRIPTION:
URL:https://camdenucc.org/event/vespers-2/2026-01-07/
LOCATION:In person\, Sanctuary\, 55 Elm Street\, Camden\, 04843\, United States
CATEGORIES:Meditation
END:VEVENT
BEGIN:VEVENT
DTSTART;TZID=America/New_York:20251217T170000
DTEND;TZID=America/New_York:20251217T180000
DTSTAMP:20260424T164553
CREATED:20251020T182419Z
LAST-MODIFIED:20251020T182419Z
UID:10003802-1765990800-1765994400@camdenucc.org
SUMMARY:Vespers
DESCRIPTION:
URL:https://camdenucc.org/event/vespers-2/2025-12-17/
LOCATION:In person\, Sanctuary\, 55 Elm Street\, Camden\, 04843\, United States
CATEGORIES:Meditation
END:VEVENT
BEGIN:VEVENT
DTSTART;TZID=America/New_York:20251203T170000
DTEND;TZID=America/New_York:20251203T180000
DTSTAMP:20260424T164553
CREATED:20251020T182419Z
LAST-MODIFIED:20251020T182419Z
UID:10003801-1764781200-1764784800@camdenucc.org
SUMMARY:Vespers
DESCRIPTION:
URL:https://camdenucc.org/event/vespers-2/2025-12-03/
LOCATION:In person\, Sanctuary\, 55 Elm Street\, Camden\, 04843\, United States
CATEGORIES:Meditation
END:VEVENT
BEGIN:VEVENT
DTSTART;TZID=America/New_York:20251119T170000
DTEND;TZID=America/New_York:20251119T180000
DTSTAMP:20260424T164553
CREATED:20251020T182419Z
LAST-MODIFIED:20251020T182419Z
UID:10003800-1763571600-1763575200@camdenucc.org
SUMMARY:Vespers
DESCRIPTION:
URL:https://camdenucc.org/event/vespers-2/2025-11-19/
LOCATION:In person\, Sanctuary\, 55 Elm Street\, Camden\, 04843\, United States
CATEGORIES:Meditation
END:VEVENT
BEGIN:VEVENT
DTSTART;TZID=America/New_York:20251112T170000
DTEND;TZID=America/New_York:20251112T180000
DTSTAMP:20260424T164553
CREATED:20251020T182034Z
LAST-MODIFIED:20251105T171952Z
UID:10003799-1762966800-1762970400@camdenucc.org
SUMMARY:Vespers~new date 1st One of Season
DESCRIPTION:
URL:https://camdenucc.org/event/vespers1st-one-of-season/
LOCATION:In person\, Sanctuary\, 55 Elm Street\, Camden\, 04843\, United States
CATEGORIES:Meditation
END:VEVENT
BEGIN:VEVENT
DTSTART;TZID=America/New_York:20250212T080000
DTEND;TZID=America/New_York:20250212T083000
DTSTAMP:20260424T164553
CREATED:20250204T161627Z
LAST-MODIFIED:20250204T161627Z
UID:10003147-1739347200-1739349000@camdenucc.org
SUMMARY:Loving Kindness Meditation~Ute
DESCRIPTION:
URL:https://camdenucc.org/event/loving-kindness-meditationute/
LOCATION:Hybrid: Online by Zoom and in Sanctuary
CATEGORIES:Meditation
END:VEVENT
END:VCALENDAR