BEGIN:VCALENDAR
VERSION:2.0
PRODID:-//First Congregational Church of Camden, Maine - ECPv6.15.20//NONSGML v1.0//EN
CALSCALE:GREGORIAN
METHOD:PUBLISH
X-WR-CALNAME:First Congregational Church of Camden, Maine
X-ORIGINAL-URL:https://camdenucc.org
X-WR-CALDESC:Events for First Congregational Church of Camden, Maine
REFRESH-INTERVAL;VALUE=DURATION:PT1H
X-Robots-Tag:noindex
X-PUBLISHED-TTL:PT1H
BEGIN:VTIMEZONE
TZID:America/New_York
BEGIN:DAYLIGHT
TZOFFSETFROM:-0500
TZOFFSETTO:-0400
TZNAME:EDT
DTSTART:20240310T070000
END:DAYLIGHT
BEGIN:STANDARD
TZOFFSETFROM:-0400
TZOFFSETTO:-0500
TZNAME:EST
DTSTART:20241103T060000
END:STANDARD
BEGIN:DAYLIGHT
TZOFFSETFROM:-0500
TZOFFSETTO:-0400
TZNAME:EDT
DTSTART:20250309T070000
END:DAYLIGHT
BEGIN:STANDARD
TZOFFSETFROM:-0400
TZOFFSETTO:-0500
TZNAME:EST
DTSTART:20251102T060000
END:STANDARD
BEGIN:DAYLIGHT
TZOFFSETFROM:-0500
TZOFFSETTO:-0400
TZNAME:EDT
DTSTART:20260308T070000
END:DAYLIGHT
BEGIN:STANDARD
TZOFFSETFROM:-0400
TZOFFSETTO:-0500
TZNAME:EST
DTSTART:20261101T060000
END:STANDARD
BEGIN:DAYLIGHT
TZOFFSETFROM:-0500
TZOFFSETTO:-0400
TZNAME:EDT
DTSTART:20270314T070000
END:DAYLIGHT
BEGIN:STANDARD
TZOFFSETFROM:-0400
TZOFFSETTO:-0500
TZNAME:EST
DTSTART:20271107T060000
END:STANDARD
END:VTIMEZONE
BEGIN:VEVENT
DTSTART;TZID=America/New_York:20260406T080000
DTEND;TZID=America/New_York:20260406T170000
DTSTAMP:20260424T144303
CREATED:20260205T144515Z
LAST-MODIFIED:20260205T145200Z
UID:10004035-1775462400-1775494800@camdenucc.org
SUMMARY:Easter Monday Holiday
DESCRIPTION:
URL:https://camdenucc.org/event/easter-monday-holiday/
LOCATION:In person\, First Congregational UCC\, 55 Elm Street\, Camden\, ME\, 04843
CATEGORIES:Church Office Closed,Special Events/Holidays
END:VEVENT
BEGIN:VEVENT
DTSTART;TZID=America/New_York:20260307T233000
DTEND;TZID=America/New_York:20260308T000000
DTSTAMP:20260424T144303
CREATED:20260205T145120Z
LAST-MODIFIED:20260205T145120Z
UID:10004039-1772926200-1772928000@camdenucc.org
SUMMARY:Daylight Savings Time Begins
DESCRIPTION:
URL:https://camdenucc.org/event/daylight-savings-time-begins/
CATEGORIES:Special Events/Holidays
END:VEVENT
BEGIN:VEVENT
DTSTART;TZID=America/New_York:20260304T120000
DTEND;TZID=America/New_York:20260304T150000
DTSTAMP:20260424T144303
CREATED:20260302T200629Z
LAST-MODIFIED:20260302T200629Z
UID:10004114-1772625600-1772636400@camdenucc.org
SUMMARY:Deadline to bring Art for Auction & Show
DESCRIPTION:
URL:https://camdenucc.org/event/deadline-to-bring-art-for-auction-show/
LOCATION:In person\, First Congregational UCC\, 55 Elm Street\, Camden\, ME\, 04843
CATEGORIES:Special Events/Holidays
END:VEVENT
BEGIN:VEVENT
DTSTART;TZID=America/New_York:20260227T190000
DTEND;TZID=America/New_York:20260227T220000
DTSTAMP:20260424T144303
CREATED:20260205T150145Z
LAST-MODIFIED:20260205T151622Z
UID:10004097-1772218800-1772229600@camdenucc.org
SUMMARY:OUT Maine Rainbow Gala & Dance Party
DESCRIPTION:
URL:https://camdenucc.org/event/out-maine-rainbow-ball/
CATEGORIES:Special Events/Holidays
END:VEVENT
BEGIN:VEVENT
DTSTART;TZID=America/New_York:20260101T080000
DTEND;TZID=America/New_York:20260101T170000
DTSTAMP:20260424T144303
CREATED:20251020T190658Z
LAST-MODIFIED:20251020T190658Z
UID:10003843-1767254400-1767286800@camdenucc.org
SUMMARY:Happy New Year!~church closed
DESCRIPTION:
URL:https://camdenucc.org/event/happy-new-yearchurch-closed/
CATEGORIES:Church Office Closed,Special Events/Holidays
END:VEVENT
BEGIN:VEVENT
DTSTART;TZID=America/New_York:20251225T080000
DTEND;TZID=America/New_York:20251226T170000
DTSTAMP:20260424T144303
CREATED:20251020T191443Z
LAST-MODIFIED:20251020T191443Z
UID:10003846-1766649600-1766768400@camdenucc.org
SUMMARY:Christmas Holiday~church closed
DESCRIPTION:
URL:https://camdenucc.org/event/christmas-holidaychurch-closed/
CATEGORIES:Church Office Closed,Special Events/Holidays
END:VEVENT
BEGIN:VEVENT
DTSTART;TZID=America/New_York:20251225T080000
DTEND;TZID=America/New_York:20251225T170000
DTSTAMP:20260424T144303
CREATED:20251020T191327Z
LAST-MODIFIED:20251020T191327Z
UID:10003845-1766649600-1766682000@camdenucc.org
SUMMARY:Christmas Day~Church closed
DESCRIPTION:
URL:https://camdenucc.org/event/christmas-daychurch-closed-2/
CATEGORIES:Church Office Closed,Special Events/Holidays
END:VEVENT
BEGIN:VEVENT
DTSTART;TZID=America/New_York:20251206T090000
DTEND;TZID=America/New_York:20251206T140000
DTSTAMP:20260424T144303
CREATED:20251020T183554Z
LAST-MODIFIED:20251020T183554Z
UID:10003818-1765011600-1765029600@camdenucc.org
SUMMARY:Christmas by the Sea Craft Show
DESCRIPTION:
URL:https://camdenucc.org/event/christmas-by-the-sea-craft-show/
CATEGORIES:Special Events/Holidays
END:VEVENT
BEGIN:VEVENT
DTSTART;TZID=America/New_York:20251127T080000
DTEND;TZID=America/New_York:20251128T170000
DTSTAMP:20260424T144303
CREATED:20251020T183449Z
LAST-MODIFIED:20251020T183449Z
UID:10003817-1764230400-1764349200@camdenucc.org
SUMMARY:Thanksgiving Holidays~church closed
DESCRIPTION:
URL:https://camdenucc.org/event/thanksgiving-holidayschurch-closed/
CATEGORIES:Church Office Closed,Special Events/Holidays
END:VEVENT
BEGIN:VEVENT
DTSTART;TZID=America/New_York:20250517T120000
DTEND;TZID=America/New_York:20250517T180000
DTSTAMP:20260424T144303
CREATED:20250408T140558Z
LAST-MODIFIED:20250408T140558Z
UID:10003515-1747483200-1747504800@camdenucc.org
SUMMARY:Camden Festival of Poetry
DESCRIPTION:
URL:https://camdenucc.org/event/camden-festival-of-poetry/2025-05-17/
LOCATION:In person\, First Congregational UCC\, 55 Elm Street\, Camden\, ME\, 04843
CATEGORIES:Special Events/Holidays
END:VEVENT
BEGIN:VEVENT
DTSTART;TZID=America/New_York:20250516T190000
DTEND;TZID=America/New_York:20250516T210000
DTSTAMP:20260424T144303
CREATED:20250408T140558Z
LAST-MODIFIED:20250408T140558Z
UID:10003514-1747422000-1747429200@camdenucc.org
SUMMARY:Camden Festival of Poetry
DESCRIPTION:
URL:https://camdenucc.org/event/camden-festival-of-poetry/2025-05-16/
LOCATION:In person\, First Congregational UCC\, 55 Elm Street\, Camden\, ME\, 04843
CATEGORIES:Special Events/Holidays
END:VEVENT
BEGIN:VEVENT
DTSTART;TZID=America/New_York:20250515T180000
DTEND;TZID=America/New_York:20250515T210000
DTSTAMP:20260424T144303
CREATED:20250408T140558Z
LAST-MODIFIED:20250408T140558Z
UID:10003513-1747332000-1747342800@camdenucc.org
SUMMARY:Camden Festival of Poetry
DESCRIPTION:
URL:https://camdenucc.org/event/camden-festival-of-poetry/2025-05-15/
LOCATION:In person\, First Congregational UCC\, 55 Elm Street\, Camden\, ME\, 04843
CATEGORIES:Special Events/Holidays
END:VEVENT
END:VCALENDAR