BEGIN:VCALENDAR
VERSION:2.0
PRODID:-//First Congregational Church of Camden, Maine - ECPv6.15.20//NONSGML v1.0//EN
CALSCALE:GREGORIAN
METHOD:PUBLISH
X-ORIGINAL-URL:https://camdenucc.org
X-WR-CALDESC:Events for First Congregational Church of Camden, Maine
REFRESH-INTERVAL;VALUE=DURATION:PT1H
X-Robots-Tag:noindex
X-PUBLISHED-TTL:PT1H
BEGIN:VTIMEZONE
TZID:America/New_York
BEGIN:DAYLIGHT
TZOFFSETFROM:-0500
TZOFFSETTO:-0400
TZNAME:EDT
DTSTART:20250309T070000
END:DAYLIGHT
BEGIN:STANDARD
TZOFFSETFROM:-0400
TZOFFSETTO:-0500
TZNAME:EST
DTSTART:20251102T060000
END:STANDARD
BEGIN:DAYLIGHT
TZOFFSETFROM:-0500
TZOFFSETTO:-0400
TZNAME:EDT
DTSTART:20260308T070000
END:DAYLIGHT
BEGIN:STANDARD
TZOFFSETFROM:-0400
TZOFFSETTO:-0500
TZNAME:EST
DTSTART:20261101T060000
END:STANDARD
BEGIN:DAYLIGHT
TZOFFSETFROM:-0500
TZOFFSETTO:-0400
TZNAME:EDT
DTSTART:20270314T070000
END:DAYLIGHT
BEGIN:STANDARD
TZOFFSETFROM:-0400
TZOFFSETTO:-0500
TZNAME:EST
DTSTART:20271107T060000
END:STANDARD
END:VTIMEZONE
BEGIN:VEVENT
DTSTART;TZID=America/New_York:20260306T120000
DTEND;TZID=America/New_York:20260306T130000
DTSTAMP:20260424T134758
CREATED:20251020T184158Z
LAST-MODIFIED:20251020T184158Z
UID:10003831-1772798400-1772802000@camdenucc.org
SUMMARY:Cake & Community~Noon Meal for all
DESCRIPTION:
URL:https://camdenucc.org/event/cake-communitynoon-meal-for-all/2026-03-06/
CATEGORIES:Meals
END:VEVENT
BEGIN:VEVENT
DTSTART;TZID=America/New_York:20260307T090000
DTEND;TZID=America/New_York:20260307T120000
DTSTAMP:20260424T134758
CREATED:20260224T145124Z
LAST-MODIFIED:20260224T145124Z
UID:10004113-1772874000-1772884800@camdenucc.org
SUMMARY:Men's Breakfast & Art Show Setup
DESCRIPTION:
URL:https://camdenucc.org/event/mens-breakfast-art-show-setup/
LOCATION:In person\, Pilgrim Room\, 55 Elm Street\, Camden\, 04843\, United States
CATEGORIES:Meals
END:VEVENT
BEGIN:VEVENT
DTSTART;TZID=America/New_York:20260312T173000
DTEND;TZID=America/New_York:20260312T203000
DTSTAMP:20260424T134758
CREATED:20260205T144155Z
LAST-MODIFIED:20260205T144155Z
UID:10004033-1773336600-1773347400@camdenucc.org
SUMMARY:IRISH Potluck Supper & Art Auction
DESCRIPTION:
URL:https://camdenucc.org/event/irish-potluck-supper-art-auction/
LOCATION:In person\, Pilgrim and Mayflower Rooms\, 55 Elm Street\, Camden\, ME\, 04843\, United States
CATEGORIES:Meals
END:VEVENT
BEGIN:VEVENT
DTSTART;TZID=America/New_York:20260313T120000
DTEND;TZID=America/New_York:20260313T130000
DTSTAMP:20260424T134758
CREATED:20251020T184158Z
LAST-MODIFIED:20251020T184158Z
UID:10003832-1773403200-1773406800@camdenucc.org
SUMMARY:Cake & Community~Noon Meal for all
DESCRIPTION:
URL:https://camdenucc.org/event/cake-communitynoon-meal-for-all/2026-03-13/
CATEGORIES:Meals
END:VEVENT
BEGIN:VEVENT
DTSTART;TZID=America/New_York:20260320T120000
DTEND;TZID=America/New_York:20260320T130000
DTSTAMP:20260424T134758
CREATED:20251020T184158Z
LAST-MODIFIED:20251020T184158Z
UID:10003833-1774008000-1774011600@camdenucc.org
SUMMARY:Cake & Community~Noon Meal for all
DESCRIPTION:
URL:https://camdenucc.org/event/cake-communitynoon-meal-for-all/2026-03-20/
CATEGORIES:Meals
END:VEVENT
BEGIN:VEVENT
DTSTART;TZID=America/New_York:20260327T120000
DTEND;TZID=America/New_York:20260327T130000
DTSTAMP:20260424T134758
CREATED:20251020T184158Z
LAST-MODIFIED:20251020T184158Z
UID:10003834-1774612800-1774616400@camdenucc.org
SUMMARY:Cake & Community~Noon Meal for all
DESCRIPTION:
URL:https://camdenucc.org/event/cake-communitynoon-meal-for-all/2026-03-27/
CATEGORIES:Meals
END:VEVENT
END:VCALENDAR