BEGIN:VCALENDAR
VERSION:2.0
PRODID:-//First Congregational Church of Camden, Maine - ECPv6.15.20//NONSGML v1.0//EN
CALSCALE:GREGORIAN
METHOD:PUBLISH
X-ORIGINAL-URL:https://camdenucc.org
X-WR-CALDESC:Events for First Congregational Church of Camden, Maine
REFRESH-INTERVAL;VALUE=DURATION:PT1H
X-Robots-Tag:noindex
X-PUBLISHED-TTL:PT1H
BEGIN:VTIMEZONE
TZID:America/New_York
BEGIN:DAYLIGHT
TZOFFSETFROM:-0500
TZOFFSETTO:-0400
TZNAME:EDT
DTSTART:20240310T070000
END:DAYLIGHT
BEGIN:STANDARD
TZOFFSETFROM:-0400
TZOFFSETTO:-0500
TZNAME:EST
DTSTART:20241103T060000
END:STANDARD
BEGIN:DAYLIGHT
TZOFFSETFROM:-0500
TZOFFSETTO:-0400
TZNAME:EDT
DTSTART:20250309T070000
END:DAYLIGHT
BEGIN:STANDARD
TZOFFSETFROM:-0400
TZOFFSETTO:-0500
TZNAME:EST
DTSTART:20251102T060000
END:STANDARD
BEGIN:DAYLIGHT
TZOFFSETFROM:-0500
TZOFFSETTO:-0400
TZNAME:EDT
DTSTART:20260308T070000
END:DAYLIGHT
BEGIN:STANDARD
TZOFFSETFROM:-0400
TZOFFSETTO:-0500
TZNAME:EST
DTSTART:20261101T060000
END:STANDARD
END:VTIMEZONE
BEGIN:VEVENT
DTSTART;TZID=America/New_York:20250918T090000
DTEND;TZID=America/New_York:20250918T103000
DTSTAMP:20260425T235008
CREATED:20250820T190346Z
LAST-MODIFIED:20250820T190346Z
UID:10003784-1758186000-1758191400@camdenucc.org
SUMMARY:Outreach
DESCRIPTION:
URL:https://camdenucc.org/event/outreach-6/
LOCATION:In person\, Conference Room\, 55 Elm Street\, Camden\, 04843\, United States
CATEGORIES:Church Meetings
END:VEVENT
BEGIN:VEVENT
DTSTART;TZID=America/New_York:20250918T160000
DTEND;TZID=America/New_York:20250918T170000
DTSTAMP:20260425T235008
CREATED:20250820T190248Z
LAST-MODIFIED:20250820T190248Z
UID:10003783-1758211200-1758214800@camdenucc.org
SUMMARY:Vespers Planning Meeting
DESCRIPTION:
URL:https://camdenucc.org/event/vespers-planning-meeting/
LOCATION:In person\, First Congregational UCC\, 55 Elm Street\, Camden\, ME\, 04843
CATEGORIES:Church Meetings
END:VEVENT
END:VCALENDAR